BEGIN:VCALENDAR
VERSION:2.0
PRODID:-//Rink 11 - Wickliffe - ECPv6.15.20//NONSGML v1.0//EN
CALSCALE:GREGORIAN
METHOD:PUBLISH
X-WR-CALNAME:Rink 11 - Wickliffe
X-ORIGINAL-URL:https://www.unitedskates.com/wickliffe
X-WR-CALDESC:Events for Rink 11 - Wickliffe
REFRESH-INTERVAL;VALUE=DURATION:PT1H
X-Robots-Tag:noindex
X-PUBLISHED-TTL:PT1H
BEGIN:VTIMEZONE
TZID:America/New_York
BEGIN:DAYLIGHT
TZOFFSETFROM:-0500
TZOFFSETTO:-0400
TZNAME:EDT
DTSTART:20240310T070000
END:DAYLIGHT
BEGIN:STANDARD
TZOFFSETFROM:-0400
TZOFFSETTO:-0500
TZNAME:EST
DTSTART:20241103T060000
END:STANDARD
BEGIN:DAYLIGHT
TZOFFSETFROM:-0500
TZOFFSETTO:-0400
TZNAME:EDT
DTSTART:20250309T070000
END:DAYLIGHT
BEGIN:STANDARD
TZOFFSETFROM:-0400
TZOFFSETTO:-0500
TZNAME:EST
DTSTART:20251102T060000
END:STANDARD
BEGIN:DAYLIGHT
TZOFFSETFROM:-0500
TZOFFSETTO:-0400
TZNAME:EDT
DTSTART:20260308T070000
END:DAYLIGHT
BEGIN:STANDARD
TZOFFSETFROM:-0400
TZOFFSETTO:-0500
TZNAME:EST
DTSTART:20261101T060000
END:STANDARD
END:VTIMEZONE
BEGIN:VEVENT
DTSTART;TZID=America/New_York:20250704T103000
DTEND;TZID=America/New_York:20250704T150000
DTSTAMP:20260422T045108
CREATED:20250604T190920Z
LAST-MODIFIED:20250615T014839Z
UID:20798-1751625000-1751641200@www.unitedskates.com
SUMMARY:Firecracker Cosmic Skate
DESCRIPTION:🎆🛼 Kick Off Your 4th of July with a Glow-tastic Skate Party! 🛼🎆Looking for the perfect way to start your Independence Day celebration? Look no further — the party starts here! \nCome dressed in your best red\, white\, and blue\, and glow under our black lights as we light up the rink with patriotic fun! \nFriday\, July 4th 10:30am-3:00pm \n🎉 Exclusive 4th of July Package – Just $19.99!Includes:✅ Admission✅ Skate rental✅ Slice of pizza✅ Drink✅ $5.00 game card \n💥 Regular price: Admission $10 + Skate Rental $6 — so this deal is a blast! \nLet’s roll into the holiday with food\, fun\, games\, and glowing gear — it’s the ultimate way to start your 4th of July weekend! \nSkip the line-buy your tickets online! BUY HERE!
URL:https://www.unitedskates.com/wickliffe/event/firecracker-cosmic-skate-2/
CATEGORIES:Family Events,Public Skates,Special Events
ATTACH;FMTTYPE=image/jpeg:https://unitedskates-assets.sfo3.digitaloceanspaces.com/wp-content/uploads/sites/12/2025/06/firecracker-cosmic-skate-page-001-scaled.jpg
END:VEVENT
END:VCALENDAR