BEGIN:VCALENDAR
VERSION:2.0
PRODID:-//Rink 11 - Wickliffe - ECPv6.15.20//NONSGML v1.0//EN
CALSCALE:GREGORIAN
METHOD:PUBLISH
X-ORIGINAL-URL:https://www.unitedskates.com/wickliffe
X-WR-CALDESC:Events for Rink 11 - Wickliffe
REFRESH-INTERVAL;VALUE=DURATION:PT1H
X-Robots-Tag:noindex
X-PUBLISHED-TTL:PT1H
BEGIN:VTIMEZONE
TZID:America/New_York
BEGIN:DAYLIGHT
TZOFFSETFROM:-0500
TZOFFSETTO:-0400
TZNAME:EDT
DTSTART:20240310T070000
END:DAYLIGHT
BEGIN:STANDARD
TZOFFSETFROM:-0400
TZOFFSETTO:-0500
TZNAME:EST
DTSTART:20241103T060000
END:STANDARD
BEGIN:DAYLIGHT
TZOFFSETFROM:-0500
TZOFFSETTO:-0400
TZNAME:EDT
DTSTART:20250309T070000
END:DAYLIGHT
BEGIN:STANDARD
TZOFFSETFROM:-0400
TZOFFSETTO:-0500
TZNAME:EST
DTSTART:20251102T060000
END:STANDARD
BEGIN:DAYLIGHT
TZOFFSETFROM:-0500
TZOFFSETTO:-0400
TZNAME:EDT
DTSTART:20260308T070000
END:DAYLIGHT
BEGIN:STANDARD
TZOFFSETFROM:-0400
TZOFFSETTO:-0500
TZNAME:EST
DTSTART:20261101T060000
END:STANDARD
END:VTIMEZONE
BEGIN:VEVENT
DTSTART;TZID=America/New_York:20250701T123000
DTEND;TZID=America/New_York:20250701T150000
DTSTAMP:20260422T030913
CREATED:20250326T215924Z
LAST-MODIFIED:20250615T014523Z
UID:20116-1751373000-1751382000@www.unitedskates.com
SUMMARY:Neon Glow Skate
DESCRIPTION:Join us for a day filled with vibrant colors\, glowing lights and pulsating music. \nWear your brightest neon outfits and get ready to shine on the rink as you skate your day away. \nTuesday\, July 1st and Wednesday\, July 2nd 12:30pm-3:00pm \nAdmission $10.00 \nSkate Rental $6.00 \nFree glow stick with every paid admission \nBook your daycare\, YMCA\, Summer Camp etc. Call our Sales Team 440-944-5301 \nSkip the line-buy your tickets online! BUY HERE!
URL:https://www.unitedskates.com/wickliffe/event/neon-glow-skate-2/2025-07-01/
CATEGORIES:Family Events,Public Skates,Special Events
ATTACH;FMTTYPE=image/jpeg:https://unitedskates-assets.sfo3.digitaloceanspaces.com/wp-content/uploads/sites/12/2024/03/NEON-GLOW-SKATE.jpg
END:VEVENT
BEGIN:VEVENT
DTSTART;TZID=America/New_York:20250701T180000
DTEND;TZID=America/New_York:20250701T203000
DTSTAMP:20260422T030913
CREATED:20250604T145902Z
LAST-MODIFIED:20250615T014619Z
UID:20705-1751392800-1751401800@www.unitedskates.com
SUMMARY:Character Craze-Pizza Tuesdays with a Twist
DESCRIPTION:Are you ready for a Pizza Tuesday like you’ve never seen before? We’ve got something EXTRA special for you! Join us for an unforgettable night with character appearances – from Mario to Poppy\, Garfield\, and more! 🤩 \nEvery Tuesday Night from 6:00pm-8:30pm\, a new surprise character will be joining the fun\, so be sure to come back for more. \nFor just $12\, you get: \n\n\nAdmission \n\n\nSkate Rental \n\n\nAnd of course\, a Slice of Cheese Pizza 🍕 \n\n\nParents\, no need to cook dinner – bring the whole family for a night full of fun\, laughter\, and memories. It’s quality time for everyone! \nDon’t miss out on this deal! See you on Tuesday for a night of fun\, food\, and favorite characters! 🎈 \nPizza is served from 6:30pm-8:00pm \nSkip the line-buy your tickets online! BUY HERE!
URL:https://www.unitedskates.com/wickliffe/event/character-craze-pizza-tuesdays-with-a-twist/2025-07-01/
CATEGORIES:Family Events,Public Skates,Special Events
ATTACH;FMTTYPE=image/jpeg:https://unitedskates-assets.sfo3.digitaloceanspaces.com/wp-content/uploads/sites/12/2025/06/Character-Craze-Pizza-Skate-2025-page-001-1-scaled.jpg
END:VEVENT
END:VCALENDAR