BEGIN:VCALENDAR
VERSION:2.0
PRODID:-//Rink 11 - Wickliffe - ECPv6.15.20//NONSGML v1.0//EN
CALSCALE:GREGORIAN
METHOD:PUBLISH
X-ORIGINAL-URL:https://www.unitedskates.com/wickliffe
X-WR-CALDESC:Events for Rink 11 - Wickliffe
REFRESH-INTERVAL;VALUE=DURATION:PT1H
X-Robots-Tag:noindex
X-PUBLISHED-TTL:PT1H
BEGIN:VTIMEZONE
TZID:America/New_York
BEGIN:DAYLIGHT
TZOFFSETFROM:-0500
TZOFFSETTO:-0400
TZNAME:EDT
DTSTART:20240310T070000
END:DAYLIGHT
BEGIN:STANDARD
TZOFFSETFROM:-0400
TZOFFSETTO:-0500
TZNAME:EST
DTSTART:20241103T060000
END:STANDARD
BEGIN:DAYLIGHT
TZOFFSETFROM:-0500
TZOFFSETTO:-0400
TZNAME:EDT
DTSTART:20250309T070000
END:DAYLIGHT
BEGIN:STANDARD
TZOFFSETFROM:-0400
TZOFFSETTO:-0500
TZNAME:EST
DTSTART:20251102T060000
END:STANDARD
BEGIN:DAYLIGHT
TZOFFSETFROM:-0500
TZOFFSETTO:-0400
TZNAME:EDT
DTSTART:20260308T070000
END:DAYLIGHT
BEGIN:STANDARD
TZOFFSETFROM:-0400
TZOFFSETTO:-0500
TZNAME:EST
DTSTART:20261101T060000
END:STANDARD
END:VTIMEZONE
BEGIN:VEVENT
DTSTART;TZID=America/New_York:20250628T123000
DTEND;TZID=America/New_York:20250628T150000
DTSTAMP:20260421T221155
CREATED:20250501T131405Z
LAST-MODIFIED:20250615T014103Z
UID:20347-1751113800-1751122800@www.unitedskates.com
SUMMARY:Sour Patch Kids Skate
DESCRIPTION:Get ready for a delightful Saturday Afternoon centered around everyone’s favorite candy-Sour Patch Kids! \nJoin us for a fun-filled day where you can enjoy FREE Sour Patch Kids with your paid admission. \nIt’s the perfect treat to sweeten your weekend and add a little extra joy to your experience \nSaturday\, June 28th 12:30pm-3:00pm \nAdmission $13.00 \nSkate Rental $6.00 \nSkip the line-buy your tickets online! BUY HERE! \n 
URL:https://www.unitedskates.com/wickliffe/event/sour-patch-kids-skate/
CATEGORIES:Family Events,Public Skates,Special Events
ATTACH;FMTTYPE=image/jpeg:https://unitedskates-assets.sfo3.digitaloceanspaces.com/wp-content/uploads/sites/12/2025/05/Sour-Patch-Kids-SKATE-1-page-001-scaled.jpg
END:VEVENT
END:VCALENDAR