BEGIN:VCALENDAR
VERSION:2.0
PRODID:-//Rink 11 - Wickliffe - ECPv6.15.20//NONSGML v1.0//EN
CALSCALE:GREGORIAN
METHOD:PUBLISH
X-ORIGINAL-URL:https://www.unitedskates.com/wickliffe
X-WR-CALDESC:Events for Rink 11 - Wickliffe
REFRESH-INTERVAL;VALUE=DURATION:PT1H
X-Robots-Tag:noindex
X-PUBLISHED-TTL:PT1H
BEGIN:VTIMEZONE
TZID:America/New_York
BEGIN:DAYLIGHT
TZOFFSETFROM:-0500
TZOFFSETTO:-0400
TZNAME:EDT
DTSTART:20240310T070000
END:DAYLIGHT
BEGIN:STANDARD
TZOFFSETFROM:-0400
TZOFFSETTO:-0500
TZNAME:EST
DTSTART:20241103T060000
END:STANDARD
BEGIN:DAYLIGHT
TZOFFSETFROM:-0500
TZOFFSETTO:-0400
TZNAME:EDT
DTSTART:20250309T070000
END:DAYLIGHT
BEGIN:STANDARD
TZOFFSETFROM:-0400
TZOFFSETTO:-0500
TZNAME:EST
DTSTART:20251102T060000
END:STANDARD
BEGIN:DAYLIGHT
TZOFFSETFROM:-0500
TZOFFSETTO:-0400
TZNAME:EDT
DTSTART:20260308T070000
END:DAYLIGHT
BEGIN:STANDARD
TZOFFSETFROM:-0400
TZOFFSETTO:-0500
TZNAME:EST
DTSTART:20261101T060000
END:STANDARD
END:VTIMEZONE
BEGIN:VEVENT
DTSTART;TZID=America/New_York:20250618T123000
DTEND;TZID=America/New_York:20250618T150000
DTSTAMP:20260421T224118
CREATED:20250326T212814Z
LAST-MODIFIED:20250716T165742Z
UID:20099-1750249800-1750258800@www.unitedskates.com
SUMMARY:Jungle Terry Skate
DESCRIPTION:Jungle Terry is back and bringing his friends! \nGet ready to meet snakes\, skunks\, turtles and more in this exciting event. \nJoin us for a wild adventure filled with fun and learning about these amazing animals. \nWednesday\, June 18th and Tuesday\, July 15th 12:30pm-3:00pm \nAdmission $12.00 \nSkate Rental $6.00 \nJungle Terry’s show is from 2:15pm-3:00pm \nBook your daycare\, YMCA\, Summer Camp etc. Call our Sales Team 440-944-5301 \nSkip the line-buy your tickets online! BUY HERE!
URL:https://www.unitedskates.com/wickliffe/event/jungle-terry-skate-4/
CATEGORIES:Family Events,Public Skates,Special Events
ATTACH;FMTTYPE=image/png:https://unitedskates-assets.sfo3.digitaloceanspaces.com/wp-content/uploads/sites/12/2023/10/jungle-terry-tile-updated.png
END:VEVENT
END:VCALENDAR