BEGIN:VCALENDAR
VERSION:2.0
PRODID:-//Rink 11 - Wickliffe - ECPv6.15.20//NONSGML v1.0//EN
CALSCALE:GREGORIAN
METHOD:PUBLISH
X-ORIGINAL-URL:https://www.unitedskates.com/wickliffe
X-WR-CALDESC:Events for Rink 11 - Wickliffe
REFRESH-INTERVAL;VALUE=DURATION:PT1H
X-Robots-Tag:noindex
X-PUBLISHED-TTL:PT1H
BEGIN:VTIMEZONE
TZID:America/New_York
BEGIN:DAYLIGHT
TZOFFSETFROM:-0500
TZOFFSETTO:-0400
TZNAME:EDT
DTSTART:20240310T070000
END:DAYLIGHT
BEGIN:STANDARD
TZOFFSETFROM:-0400
TZOFFSETTO:-0500
TZNAME:EST
DTSTART:20241103T060000
END:STANDARD
BEGIN:DAYLIGHT
TZOFFSETFROM:-0500
TZOFFSETTO:-0400
TZNAME:EDT
DTSTART:20250309T070000
END:DAYLIGHT
BEGIN:STANDARD
TZOFFSETFROM:-0400
TZOFFSETTO:-0500
TZNAME:EST
DTSTART:20251102T060000
END:STANDARD
BEGIN:DAYLIGHT
TZOFFSETFROM:-0500
TZOFFSETTO:-0400
TZNAME:EDT
DTSTART:20260308T070000
END:DAYLIGHT
BEGIN:STANDARD
TZOFFSETFROM:-0400
TZOFFSETTO:-0500
TZNAME:EST
DTSTART:20261101T060000
END:STANDARD
END:VTIMEZONE
BEGIN:VEVENT
DTSTART;TZID=America/New_York:20250615T153000
DTEND;TZID=America/New_York:20250615T183000
DTSTAMP:20260421T224110
CREATED:20250430T215125Z
LAST-MODIFIED:20250615T011752Z
UID:20323-1750001400-1750012200@www.unitedskates.com
SUMMARY:Public Skate
DESCRIPTION:Join us for open skating! \nWe’re excited to welcome skaters of all ages from 3:30pm-6:30pm. \nWhether you’re a seasoned pro or just starting out\, everyone is invited. \nSunday\, June 15th 3:30pm-6:30pm \nAdmission $13.00 \nSkate Rental $6.00 \nBring your friends and family for a great time filled with laughter and joy. \nSkip the line-buy your tickets online! BUY HERE!
URL:https://www.unitedskates.com/wickliffe/event/public-skate-5/
CATEGORIES:Family Events,Public Skates,Special Events
ATTACH;FMTTYPE=image/jpeg:https://unitedskates-assets.sfo3.digitaloceanspaces.com/wp-content/uploads/sites/12/2023/03/public-skate-tile.jpg
END:VEVENT
BEGIN:VEVENT
DTSTART;TZID=America/New_York:20250615T183000
DTEND;TZID=America/New_York:20250615T210000
DTSTAMP:20260421T224110
CREATED:20250430T214130Z
LAST-MODIFIED:20250615T011829Z
UID:20319-1750012200-1750021200@www.unitedskates.com
SUMMARY:Father's Day-Old School Skate
DESCRIPTION:It’s Father’s Day! \nBring out your dad and celebrate this special day on the rink! \nWe are kicking off the festivities with a throwback skate featuring the best R&B and hip-hop hits from the 70s\, 80s\, and 90s. \nAs a special bonus\, all dads get to skate for FREE! \nSunday\, June 15th 6:30pm-9:00pm \nAdmission $13.00 \nSkate Rental $6.00 \nSo gather your family\, lace up those skates\, and enjoy a nostalgic evening filled with great music and fun memories. \nLet’s make this Father’s Day one to remember. \nSkip the line-buy your tickets online! BUY HERE!
URL:https://www.unitedskates.com/wickliffe/event/fathers-day-old-school-skate-4/
CATEGORIES:Family Events,Public Skates,Special Events
ATTACH;FMTTYPE=image/jpeg:https://unitedskates-assets.sfo3.digitaloceanspaces.com/wp-content/uploads/sites/12/2025/04/Fathers-Day-OLD-School-Skate-page-001.jpg
END:VEVENT
END:VCALENDAR