BEGIN:VCALENDAR
VERSION:2.0
PRODID:-//Rink 11 - Wickliffe - ECPv6.15.20//NONSGML v1.0//EN
CALSCALE:GREGORIAN
METHOD:PUBLISH
X-ORIGINAL-URL:https://www.unitedskates.com/wickliffe
X-WR-CALDESC:Events for Rink 11 - Wickliffe
REFRESH-INTERVAL;VALUE=DURATION:PT1H
X-Robots-Tag:noindex
X-PUBLISHED-TTL:PT1H
BEGIN:VTIMEZONE
TZID:America/New_York
BEGIN:DAYLIGHT
TZOFFSETFROM:-0500
TZOFFSETTO:-0400
TZNAME:EDT
DTSTART:20240310T070000
END:DAYLIGHT
BEGIN:STANDARD
TZOFFSETFROM:-0400
TZOFFSETTO:-0500
TZNAME:EST
DTSTART:20241103T060000
END:STANDARD
BEGIN:DAYLIGHT
TZOFFSETFROM:-0500
TZOFFSETTO:-0400
TZNAME:EDT
DTSTART:20250309T070000
END:DAYLIGHT
BEGIN:STANDARD
TZOFFSETFROM:-0400
TZOFFSETTO:-0500
TZNAME:EST
DTSTART:20251102T060000
END:STANDARD
BEGIN:DAYLIGHT
TZOFFSETFROM:-0500
TZOFFSETTO:-0400
TZNAME:EDT
DTSTART:20260308T070000
END:DAYLIGHT
BEGIN:STANDARD
TZOFFSETFROM:-0400
TZOFFSETTO:-0500
TZNAME:EST
DTSTART:20261101T060000
END:STANDARD
END:VTIMEZONE
BEGIN:VEVENT
DTSTART;TZID=America/New_York:20250608T130000
DTEND;TZID=America/New_York:20250608T153000
DTSTAMP:20260421T234201
CREATED:20250430T204110Z
LAST-MODIFIED:20250430T204110Z
UID:20307-1749387600-1749396600@www.unitedskates.com
SUMMARY:Cotton Candy Everything
DESCRIPTION:We are absolutely crazy about cotton candy\, and we hope you are too! \nIt’s time to go wild for cotton candy because we have some delightful surprises in store! \nJoin us at United Skates for a chance to win exciting cotton candy-flavored prizes throughout the event! \nSunday\, June 8th 1:00pm-3:30pm \nAdmission $13.00 \nSkate Rental $6.00 \nDon’t forget to stop by our cafe to check out our brand-new cotton candy icee-it’s a treat you won’t want to miss!
URL:https://www.unitedskates.com/wickliffe/event/cotton-candy-everything/
CATEGORIES:Family Events,Public Skates,Special Events
ATTACH;FMTTYPE=image/jpeg:https://unitedskates-assets.sfo3.digitaloceanspaces.com/wp-content/uploads/sites/12/2025/04/Cotton-Candy-Everything-Skate-page-001-scaled.jpg
END:VEVENT
BEGIN:VEVENT
DTSTART;TZID=America/New_York:20250608T153000
DTEND;TZID=America/New_York:20250608T180000
DTSTAMP:20260421T234201
CREATED:20250604T143007Z
LAST-MODIFIED:20250615T014300Z
UID:20530-1749396600-1749405600@www.unitedskates.com
SUMMARY:Sunday Funday Skate
DESCRIPTION:Book your Birthday Party! Birthday Parties available from 3:30pm-6:00pm \nAdmission $13.00 \nSkate Rental $6.00 \nFeaturing Pop and R&B Music Mix \nSkip the line-buy your tickets online! BUY HERE! \nAll 3–17-year-olds must pay admission and skate rental upon entering the facility.  Adults 18+ not skating may enter for free. All 12–17-year-olds must come into our facility with a parent or guardian that is 25 years or age or older. We are only allowing two (2) 12–17-year-olds per one parent or guardian 25 and over. The parent/guardian must stay with the teenager the entire time while in the facility. If the parent/guardian leaves the facility the teen must leave with parent/guardian. No drop off of teens or children into our facility is permitted. No drop off of teens or children to another parent into our facility is permitted. Teenagers 12-17 with their own skates are permitted without a parent if they skate the entire time. Teens asked to keep skates on repeatedly will be asked to leave with no refund.
URL:https://www.unitedskates.com/wickliffe/event/sunday-funday-skate/2025-06-08/
CATEGORIES:Family Events,Public Skates
ATTACH;FMTTYPE=image/jpeg:https://unitedskates-assets.sfo3.digitaloceanspaces.com/wp-content/uploads/sites/12/2023/07/800px-Sunday-Funday-2022-1200x900-1.jpg
END:VEVENT
END:VCALENDAR