BEGIN:VCALENDAR
VERSION:2.0
PRODID:-//Rink 11 - Wickliffe - ECPv6.15.20//NONSGML v1.0//EN
CALSCALE:GREGORIAN
METHOD:PUBLISH
X-ORIGINAL-URL:https://www.unitedskates.com/wickliffe
X-WR-CALDESC:Events for Rink 11 - Wickliffe
REFRESH-INTERVAL;VALUE=DURATION:PT1H
X-Robots-Tag:noindex
X-PUBLISHED-TTL:PT1H
BEGIN:VTIMEZONE
TZID:America/New_York
BEGIN:DAYLIGHT
TZOFFSETFROM:-0500
TZOFFSETTO:-0400
TZNAME:EDT
DTSTART:20240310T070000
END:DAYLIGHT
BEGIN:STANDARD
TZOFFSETFROM:-0400
TZOFFSETTO:-0500
TZNAME:EST
DTSTART:20241103T060000
END:STANDARD
BEGIN:DAYLIGHT
TZOFFSETFROM:-0500
TZOFFSETTO:-0400
TZNAME:EDT
DTSTART:20250309T070000
END:DAYLIGHT
BEGIN:STANDARD
TZOFFSETFROM:-0400
TZOFFSETTO:-0500
TZNAME:EST
DTSTART:20251102T060000
END:STANDARD
BEGIN:DAYLIGHT
TZOFFSETFROM:-0500
TZOFFSETTO:-0400
TZNAME:EDT
DTSTART:20260308T070000
END:DAYLIGHT
BEGIN:STANDARD
TZOFFSETFROM:-0400
TZOFFSETTO:-0500
TZNAME:EST
DTSTART:20261101T060000
END:STANDARD
END:VTIMEZONE
BEGIN:VEVENT
DTSTART;TZID=America/New_York:20250529T180000
DTEND;TZID=America/New_York:20250529T203000
DTSTAMP:20260421T224124
CREATED:20250528T182538Z
LAST-MODIFIED:20250528T182729Z
UID:20488-1748541600-1748550600@www.unitedskates.com
SUMMARY:End of School Year Extravaganza
DESCRIPTION:🎉 School’s Out & the Party’s On! 🎉Get ready to roll into summer with our End-of-School-Year Skating Extravaganza—the ultimate celebration you won’t want to miss! \n📅 Thursday\, May 29th | 6:00 PM – 8:30 PM🛼 ONLY $5.00 – Includes admission AND skate rental! \nCome meet some of your favorite characters\, including the mischievous Stitch\, our high-energy mascot Skato\, and many more surprise guests! Snap a selfie\, share a hug\, and make magical memories with the characters you love. \n🎮 But that’s not all! Your night will be packed with:✨ Roller Skating Fun Exciting Laser Tag Battles🎯 Awesome Arcade Games🎁 Surprises Around Every Corner! \nGrab your friends\, bring your best moves\, and celebrate the start of summer in style! With all this fun for just $5\, you know it’s going to be a night to remember! \n🎊 One Night Only – Don’t Miss Out!
URL:https://www.unitedskates.com/wickliffe/event/end-of-school-year-extravaganza/
CATEGORIES:Family Events,Public Skates,Special Events
ATTACH;FMTTYPE=image/jpeg:https://unitedskates-assets.sfo3.digitaloceanspaces.com/wp-content/uploads/sites/12/2025/05/end-of-school-year-skate-2025-page-001-1-scaled.jpg
END:VEVENT
END:VCALENDAR