BEGIN:VCALENDAR
VERSION:2.0
PRODID:-//Rink 11 - Wickliffe - ECPv6.15.20//NONSGML v1.0//EN
CALSCALE:GREGORIAN
METHOD:PUBLISH
X-ORIGINAL-URL:https://www.unitedskates.com/wickliffe
X-WR-CALDESC:Events for Rink 11 - Wickliffe
REFRESH-INTERVAL;VALUE=DURATION:PT1H
X-Robots-Tag:noindex
X-PUBLISHED-TTL:PT1H
BEGIN:VTIMEZONE
TZID:America/New_York
BEGIN:DAYLIGHT
TZOFFSETFROM:-0500
TZOFFSETTO:-0400
TZNAME:EDT
DTSTART:20240310T070000
END:DAYLIGHT
BEGIN:STANDARD
TZOFFSETFROM:-0400
TZOFFSETTO:-0500
TZNAME:EST
DTSTART:20241103T060000
END:STANDARD
BEGIN:DAYLIGHT
TZOFFSETFROM:-0500
TZOFFSETTO:-0400
TZNAME:EDT
DTSTART:20250309T070000
END:DAYLIGHT
BEGIN:STANDARD
TZOFFSETFROM:-0400
TZOFFSETTO:-0500
TZNAME:EST
DTSTART:20251102T060000
END:STANDARD
BEGIN:DAYLIGHT
TZOFFSETFROM:-0500
TZOFFSETTO:-0400
TZNAME:EDT
DTSTART:20260308T070000
END:DAYLIGHT
BEGIN:STANDARD
TZOFFSETFROM:-0400
TZOFFSETTO:-0500
TZNAME:EST
DTSTART:20261101T060000
END:STANDARD
END:VTIMEZONE
BEGIN:VEVENT
DTSTART;TZID=America/New_York:20250523T183000
DTEND;TZID=America/New_York:20250523T210000
DTSTAMP:20260422T045229
CREATED:20250326T181724Z
LAST-MODIFIED:20250326T181724Z
UID:20016-1748025000-1748034000@www.unitedskates.com
SUMMARY:Laffy Taffy Skate
DESCRIPTION:It’s National Laffy Taffy Day!! \nWe’re ready to kick off the weekend and celebrate it in style! \nFriday\, May 23rd 6:30pm-9:00pm \nAdmission $12.00 \nSkate Rental $6.00 \nJoin us for a fun night of skating\, games\, laughter and so much more! \nYou also get to enjoy the sweet and chewy goodness of Laffy Taffy! \nWith every paid admission. you’ll receive a FREE Laffy Taffy! \n 
URL:https://www.unitedskates.com/wickliffe/event/laffy-taffy-skate/
CATEGORIES:Family Events,Public Skates,Special Events
ATTACH;FMTTYPE=image/jpeg:https://unitedskates-assets.sfo3.digitaloceanspaces.com/wp-content/uploads/sites/12/2025/03/LAFFY-TAFFY-SKATE-page-001-scaled.jpg
END:VEVENT
END:VCALENDAR