BEGIN:VCALENDAR
VERSION:2.0
PRODID:-//Rink 11 - Wickliffe - ECPv6.15.20//NONSGML v1.0//EN
CALSCALE:GREGORIAN
METHOD:PUBLISH
X-ORIGINAL-URL:https://www.unitedskates.com/wickliffe
X-WR-CALDESC:Events for Rink 11 - Wickliffe
REFRESH-INTERVAL;VALUE=DURATION:PT1H
X-Robots-Tag:noindex
X-PUBLISHED-TTL:PT1H
BEGIN:VTIMEZONE
TZID:America/New_York
BEGIN:DAYLIGHT
TZOFFSETFROM:-0500
TZOFFSETTO:-0400
TZNAME:EDT
DTSTART:20240310T070000
END:DAYLIGHT
BEGIN:STANDARD
TZOFFSETFROM:-0400
TZOFFSETTO:-0500
TZNAME:EST
DTSTART:20241103T060000
END:STANDARD
BEGIN:DAYLIGHT
TZOFFSETFROM:-0500
TZOFFSETTO:-0400
TZNAME:EDT
DTSTART:20250309T070000
END:DAYLIGHT
BEGIN:STANDARD
TZOFFSETFROM:-0400
TZOFFSETTO:-0500
TZNAME:EST
DTSTART:20251102T060000
END:STANDARD
BEGIN:DAYLIGHT
TZOFFSETFROM:-0500
TZOFFSETTO:-0400
TZNAME:EDT
DTSTART:20260308T070000
END:DAYLIGHT
BEGIN:STANDARD
TZOFFSETFROM:-0400
TZOFFSETTO:-0500
TZNAME:EST
DTSTART:20261101T060000
END:STANDARD
END:VTIMEZONE
BEGIN:VEVENT
DTSTART;TZID=America/New_York:20250418T123000
DTEND;TZID=America/New_York:20250418T150000
DTSTAMP:20260425T134710
CREATED:20250226T160213Z
LAST-MODIFIED:20250226T202901Z
UID:19941-1744979400-1744988400@www.unitedskates.com
SUMMARY:School's Out Skate!
DESCRIPTION:School’s out\, and that means it’s time to skate! \nGrab your family and friends for an exhilarating day packed with budget friendly fun! \nFriday\, April 18th and Monday\, April 21st 12:30pm-3:00pm \nAdmission is only $6.00 \nSkate Rental $6.00 \nMaking this a fantastic opportunity to enjoy some quality time on the rink. \nLace up your skates and join us! \nDon’t forget to check out our laser tag arena\, arcade and get a tasty snack. \n 
URL:https://www.unitedskates.com/wickliffe/event/schools-out-skate-3/2025-04-18/
CATEGORIES:Family Events,Public Skates
ATTACH;FMTTYPE=image/jpeg:https://unitedskates-assets.sfo3.digitaloceanspaces.com/wp-content/uploads/sites/12/2022/08/schools-out-skate.jpg
END:VEVENT
BEGIN:VEVENT
DTSTART;TZID=America/New_York:20250418T183000
DTEND;TZID=America/New_York:20250418T210000
DTSTAMP:20260425T134710
CREATED:20250122T212940Z
LAST-MODIFIED:20250129T193552Z
UID:19276-1745001000-1745010000@www.unitedskates.com
SUMMARY:Glow with the Easter Bunny
DESCRIPTION:It’s Easter weekend\, we have something magical in store for you! \nThe Easter Bunny is making a special appearance\, and he’s ready to make it glow! \nJoin us for a fun-filled night of skating\, laughter and festive spirit. \nFriday\, April 18th 6:30pm-9:00pm \nAdmission $12.00 \nSkate Rental $6.00 \nFree glow stick with paid admission \nKids and adults alike can enjoy the excitement as the Easter Bunny spreads joy and cheer throughout the celebration.
URL:https://www.unitedskates.com/wickliffe/event/glow-with-the-easter-bunny/
CATEGORIES:Family Events,Public Skates,Special Events
ATTACH;FMTTYPE=image/jpeg:https://unitedskates-assets.sfo3.digitaloceanspaces.com/wp-content/uploads/sites/12/2025/01/Glow-Bunny-Jam-2025-2-page-001-scaled.jpg
END:VEVENT
END:VCALENDAR