BEGIN:VCALENDAR
VERSION:2.0
PRODID:-//Rink 11 - Wickliffe - ECPv6.15.20//NONSGML v1.0//EN
CALSCALE:GREGORIAN
METHOD:PUBLISH
X-WR-CALNAME:Rink 11 - Wickliffe
X-ORIGINAL-URL:https://www.unitedskates.com/wickliffe
X-WR-CALDESC:Events for Rink 11 - Wickliffe
REFRESH-INTERVAL;VALUE=DURATION:PT1H
X-Robots-Tag:noindex
X-PUBLISHED-TTL:PT1H
BEGIN:VTIMEZONE
TZID:America/New_York
BEGIN:DAYLIGHT
TZOFFSETFROM:-0500
TZOFFSETTO:-0400
TZNAME:EDT
DTSTART:20240310T070000
END:DAYLIGHT
BEGIN:STANDARD
TZOFFSETFROM:-0400
TZOFFSETTO:-0500
TZNAME:EST
DTSTART:20241103T060000
END:STANDARD
BEGIN:DAYLIGHT
TZOFFSETFROM:-0500
TZOFFSETTO:-0400
TZNAME:EDT
DTSTART:20250309T070000
END:DAYLIGHT
BEGIN:STANDARD
TZOFFSETFROM:-0400
TZOFFSETTO:-0500
TZNAME:EST
DTSTART:20251102T060000
END:STANDARD
BEGIN:DAYLIGHT
TZOFFSETFROM:-0500
TZOFFSETTO:-0400
TZNAME:EDT
DTSTART:20260308T070000
END:DAYLIGHT
BEGIN:STANDARD
TZOFFSETFROM:-0400
TZOFFSETTO:-0500
TZNAME:EST
DTSTART:20261101T060000
END:STANDARD
END:VTIMEZONE
BEGIN:VEVENT
DTSTART;TZID=America/New_York:20250406T123000
DTEND;TZID=America/New_York:20250406T150000
DTSTAMP:20260422T234657
CREATED:20250226T152526Z
LAST-MODIFIED:20250226T182430Z
UID:19935-1743942600-1743951600@www.unitedskates.com
SUMMARY:Sonic's Sno Cone Skate
DESCRIPTION:Sonic is back and better than ever! \nThis time\, he’s racing into town with a delicious surprise just for you! \nJoin us to meet the fastest hedgehog around and grab a FREE snow cone (with paid admission) to cool off. \nSunday\, April 6th 12:30pm-3:00pm \nAdmission $12.00 \nSkate Rental $6.00 \nIt’s a perfect way to enjoy a fun-filled day\, so don’t miss your chance to chill with Sonic and savor this tasty treat! \nPs. A great way to celebrate a birthday! Book your Party Now!
URL:https://www.unitedskates.com/wickliffe/event/sonics-sno-cone-skate/
CATEGORIES:Family Events,Public Skates,Special Events
ATTACH;FMTTYPE=image/jpeg:https://unitedskates-assets.sfo3.digitaloceanspaces.com/wp-content/uploads/sites/12/2025/02/Sno-cones-with-Sonic-page-001-3-scaled.jpg
END:VEVENT
END:VCALENDAR