BEGIN:VCALENDAR
VERSION:2.0
PRODID:-//Rink 11 - Wickliffe - ECPv6.15.20//NONSGML v1.0//EN
CALSCALE:GREGORIAN
METHOD:PUBLISH
X-ORIGINAL-URL:https://www.unitedskates.com/wickliffe
X-WR-CALDESC:Events for Rink 11 - Wickliffe
REFRESH-INTERVAL;VALUE=DURATION:PT1H
X-Robots-Tag:noindex
X-PUBLISHED-TTL:PT1H
BEGIN:VTIMEZONE
TZID:America/New_York
BEGIN:DAYLIGHT
TZOFFSETFROM:-0500
TZOFFSETTO:-0400
TZNAME:EDT
DTSTART:20240310T070000
END:DAYLIGHT
BEGIN:STANDARD
TZOFFSETFROM:-0400
TZOFFSETTO:-0500
TZNAME:EST
DTSTART:20241103T060000
END:STANDARD
BEGIN:DAYLIGHT
TZOFFSETFROM:-0500
TZOFFSETTO:-0400
TZNAME:EDT
DTSTART:20250309T070000
END:DAYLIGHT
BEGIN:STANDARD
TZOFFSETFROM:-0400
TZOFFSETTO:-0500
TZNAME:EST
DTSTART:20251102T060000
END:STANDARD
BEGIN:DAYLIGHT
TZOFFSETFROM:-0500
TZOFFSETTO:-0400
TZNAME:EDT
DTSTART:20260308T070000
END:DAYLIGHT
BEGIN:STANDARD
TZOFFSETFROM:-0400
TZOFFSETTO:-0500
TZNAME:EST
DTSTART:20261101T060000
END:STANDARD
END:VTIMEZONE
BEGIN:VEVENT
DTSTART;VALUE=DATE:20250214
DTEND;VALUE=DATE:20250219
DTSTAMP:20260425T141123
CREATED:20250107T150230Z
LAST-MODIFIED:20250123T133443Z
UID:19172-1739509200-1739854799@www.unitedskates.com
SUMMARY:❤️🛼 Presidents Day Weekend 🛼❤️
DESCRIPTION:School’s Out—Let’s Skate This Presidents’ Day Weekend!\nCelebrate the long weekend with us at United Skates of Wickliffe! From exciting themed events and character appearances to family skating and glow fun\, there’s something for everyone to enjoy. Bring your friends and family for an action-packed holiday weekend on wheels! \nWeekend Event Highlights:\nFriday\, February 14: Valentine’s Day Fun! \n\nValentine’s Day Skate: 4:30 PM – 6:30 PM ($6.00 Admission).\nGrinch Stole Valentine’s Day: 6:30 PM – 9:00 PM ($12 Admission).\nRed Light Special Adult Skate (18+ with valid ID): 9:30 PM – 12:30 AM ($12 Admission).\n\nA special Valentine’s edition skate just for adults!\n\n\n\nSaturday\, February 15: Family Fun All Day! \n\nSno Cone Skate: 10:30 AM – 12:30 PM ($10 Admission).\nDucky Day Skate: 12:30 PM – 3:00 PM ($12 Admission).\nFamily Skate Sessions:\n\n4:00 PM – 6:30 PM and 6:30 PM – 9:00 PM ($12 Admission per session).\n\n\nSaturday Night Skate: 7:00 PM – 10:30 PM ($13 Admission).\n\nSunday\, February 16: Meet SpongeBob and More! \n\nPopsicles with SpongeBob: 12:30 PM – 3:00 PM ($12 Admission).\nFamily Skate Sessions:\n\n3:30 PM – 6:00 PM and 6:30 PM – 9:00 PM ($12 Admission per session).\n\n\nAdult Late-Night Skate (18+ with valid ID): 9:30 PM – 2:30 AM ($13 Admission).\n\nMonday\, February 17: Presidents’ Day Skating Fun! \n\nEarly Bird Skate: 10:00 AM – 12:00 PM ($8.00 Admission).\nSpiderman Skate: 12:30 PM – 3:00 PM ($12 Admission).\nPresidents’ Day Skate: 3:30 PM – 6:00 PM ($12 Admission).\nOld School Adult Skate (25+ with valid ID): 7:00 PM – 11:00 PM ($12 Admission).\n\nAffordable Family Fun:\n\nSkate Rentals: $6.00 additional.\nSkate Mate Rentals: $5.00 additional.\n\n📍 Visit us at 30325 Palisades Pkwy\, Wickliffe\, OH 44092.\n📞 Call 440-944-5301 or visit www.UnitedSkates.com/Wickliffe for more details. \nDon’t miss out on this Presidents’ Day Weekend filled with skating fun\, games\, and family-friendly activities. See you at the rink! \nCLICK HERE view special Presidents Day Weekend Schedule
URL:https://www.unitedskates.com/wickliffe/event/%e2%9d%a4%ef%b8%8f%f0%9f%9b%bc-presidents-day-weekend-%f0%9f%9b%bc%e2%9d%a4%ef%b8%8f/
CATEGORIES:Adult Events,Family Events,Public Skates,Special Events
ATTACH;FMTTYPE=image/jpeg:https://unitedskates-assets.sfo3.digitaloceanspaces.com/wp-content/uploads/sites/12/2025/01/Pres-day-weekend-2025-calendar-Front-rink11.jpg
END:VEVENT
BEGIN:VEVENT
DTSTART;TZID=America/New_York:20250216T123000
DTEND;TZID=America/New_York:20250216T150000
DTSTAMP:20260425T141123
CREATED:20241219T193448Z
LAST-MODIFIED:20241220T233542Z
UID:19116-1739709000-1739718000@www.unitedskates.com
SUMMARY:Popsicles with SpongeBob
DESCRIPTION:Get ready for a splashing good time because SpongeBob is kicking off Sunday Funday on the rink! \nJoin him for an afternoon filled with fun\, laughter\, and skating! \nSunday\, February 16th 12:30pm-3:00pm \nAdmission $12.00 \nSkate Rental $6.00 \nAnd guess what? He’s bringing along a special treat-one of his favorites\, a popsicle! \nHe is giving you one FREE with paid admission \nDon’t miss a chance to skate with SpongeBob and enjoy some delicious popsicles while making unforgettable memories. \nIf you have a SpongeBob FAN\, and their birthday is coming Book yours Now!! Have SpongeBob at your birthday party. \n 
URL:https://www.unitedskates.com/wickliffe/event/popsicles-with-spongebob-5/
CATEGORIES:Family Events,Public Skates,Special Events
ATTACH;FMTTYPE=image/jpeg:https://unitedskates-assets.sfo3.digitaloceanspaces.com/wp-content/uploads/sites/12/2024/03/Popsicles-with-Spongebob-rink11-1.jpg
END:VEVENT
END:VCALENDAR