BEGIN:VCALENDAR
VERSION:2.0
PRODID:-//Rink 11 - Wickliffe - ECPv6.15.20//NONSGML v1.0//EN
CALSCALE:GREGORIAN
METHOD:PUBLISH
X-WR-CALNAME:Rink 11 - Wickliffe
X-ORIGINAL-URL:https://www.unitedskates.com/wickliffe
X-WR-CALDESC:Events for Rink 11 - Wickliffe
REFRESH-INTERVAL;VALUE=DURATION:PT1H
X-Robots-Tag:noindex
X-PUBLISHED-TTL:PT1H
BEGIN:VTIMEZONE
TZID:America/New_York
BEGIN:DAYLIGHT
TZOFFSETFROM:-0500
TZOFFSETTO:-0400
TZNAME:EDT
DTSTART:20240310T070000
END:DAYLIGHT
BEGIN:STANDARD
TZOFFSETFROM:-0400
TZOFFSETTO:-0500
TZNAME:EST
DTSTART:20241103T060000
END:STANDARD
BEGIN:DAYLIGHT
TZOFFSETFROM:-0500
TZOFFSETTO:-0400
TZNAME:EDT
DTSTART:20250309T070000
END:DAYLIGHT
BEGIN:STANDARD
TZOFFSETFROM:-0400
TZOFFSETTO:-0500
TZNAME:EST
DTSTART:20251102T060000
END:STANDARD
BEGIN:DAYLIGHT
TZOFFSETFROM:-0500
TZOFFSETTO:-0400
TZNAME:EDT
DTSTART:20260308T070000
END:DAYLIGHT
BEGIN:STANDARD
TZOFFSETFROM:-0400
TZOFFSETTO:-0500
TZNAME:EST
DTSTART:20261101T060000
END:STANDARD
END:VTIMEZONE
BEGIN:VEVENT
DTSTART;TZID=America/New_York:20250208T100000
DTEND;TZID=America/New_York:20250208T123000
DTSTAMP:20260425T141013
CREATED:20250110T212133Z
LAST-MODIFIED:20250110T212516Z
UID:19177-1739008800-1739017800@www.unitedskates.com
SUMMARY:Wicked Girl Scout Galentines Skate
DESCRIPTION:Attention all Girl Scouts! \nHave you ever dreamed of meeting Glinda and Elphaba? Well\, here is your golden opportunity! \nThey are thrilled to announce their very own Galentines Skate Event! \nThis fun filled occasion promises to be a magical experience you won’t want to miss! \nSaturday\, February 8th 10:00am-3:00pm \nOnly $18.00 per scout includes admission\, skate rental\, a slice of cheese pizza\, wicked with potion and a wicked cookie \nAdvanced Reservations required! Call Amber today 440-944-5301 \nEarn your limited-edition Wicked Patch! \nPrivate for Girl Scouts from 10:00am-12:30pm \nPicture opportunities are available.
URL:https://www.unitedskates.com/wickliffe/event/wicked-girl-scout-galentines-skate/
CATEGORIES:Family Events,Public Skates,Special Events
ATTACH;FMTTYPE=image/jpeg:https://unitedskates-assets.sfo3.digitaloceanspaces.com/wp-content/uploads/sites/12/2025/01/wicked-galentines-.jpg
END:VEVENT
END:VCALENDAR