BEGIN:VCALENDAR
VERSION:2.0
PRODID:-//Rink 11 - Wickliffe - ECPv6.15.20//NONSGML v1.0//EN
CALSCALE:GREGORIAN
METHOD:PUBLISH
X-ORIGINAL-URL:https://www.unitedskates.com/wickliffe
X-WR-CALDESC:Events for Rink 11 - Wickliffe
REFRESH-INTERVAL;VALUE=DURATION:PT1H
X-Robots-Tag:noindex
X-PUBLISHED-TTL:PT1H
BEGIN:VTIMEZONE
TZID:America/New_York
BEGIN:DAYLIGHT
TZOFFSETFROM:-0500
TZOFFSETTO:-0400
TZNAME:EDT
DTSTART:20230312T070000
END:DAYLIGHT
BEGIN:STANDARD
TZOFFSETFROM:-0400
TZOFFSETTO:-0500
TZNAME:EST
DTSTART:20231105T060000
END:STANDARD
BEGIN:DAYLIGHT
TZOFFSETFROM:-0500
TZOFFSETTO:-0400
TZNAME:EDT
DTSTART:20240310T070000
END:DAYLIGHT
BEGIN:STANDARD
TZOFFSETFROM:-0400
TZOFFSETTO:-0500
TZNAME:EST
DTSTART:20241103T060000
END:STANDARD
BEGIN:DAYLIGHT
TZOFFSETFROM:-0500
TZOFFSETTO:-0400
TZNAME:EDT
DTSTART:20250309T070000
END:DAYLIGHT
BEGIN:STANDARD
TZOFFSETFROM:-0400
TZOFFSETTO:-0500
TZNAME:EST
DTSTART:20251102T060000
END:STANDARD
END:VTIMEZONE
BEGIN:VEVENT
DTSTART;TZID=America/New_York:20241227T100000
DTEND;TZID=America/New_York:20241227T120000
DTSTAMP:20260425T181509
CREATED:20241016T192330Z
LAST-MODIFIED:20241023T004646Z
UID:18328-1735293600-1735300800@www.unitedskates.com
SUMMARY:Early Bird Skate
DESCRIPTION:School’s Out! It’s Winter Break! \nGet the kids out of the house and come kick off your days by skating! \nA great way to get some of the energy out! \nFriday\, December 27th\, Monday\, December 30th\, Thursday\, January 2nd and Friday\, January 3rd 10:00am-12:00pm \nOnly $8.00 \nSkate Rental $6.00 \nGreat for ALL Ages! \n 
URL:https://www.unitedskates.com/wickliffe/event/early-bird-skate-2/2024-12-27/
CATEGORIES:Family Events,Public Skates
ATTACH;FMTTYPE=image/jpeg:https://unitedskates-assets.sfo3.digitaloceanspaces.com/wp-content/uploads/sites/12/2023/12/early-bird-skate.jpg
END:VEVENT
BEGIN:VEVENT
DTSTART;TZID=America/New_York:20241227T123000
DTEND;TZID=America/New_York:20241227T150000
DTSTAMP:20260425T181509
CREATED:20241016T193002Z
LAST-MODIFIED:20241023T004757Z
UID:18354-1735302600-1735311600@www.unitedskates.com
SUMMARY:Free Cookie Skate
DESCRIPTION:It’s FREE Cookie Day! That’s right-enjoy a delicious cookie on us with your paid admission! \nJoin us for a fun-filled day where you can skate and treat yourself to a delightful cookie! \nThis will defiantly help satisfy your sweet tooth! \nFriday\, December 27th 12:30pm-3:00pm \nAdmission $11.00 \nSkate Rental $6.00 \nDon’t miss out on this tasty treat-come celebrate with us and enjoy a cookie as you skate your day away!
URL:https://www.unitedskates.com/wickliffe/event/free-cookie-skate/
CATEGORIES:Family Events,Public Skates,Special Events
ATTACH;FMTTYPE=image/jpeg:https://unitedskates-assets.sfo3.digitaloceanspaces.com/wp-content/uploads/sites/12/2023/10/cookie-tile.jpg
END:VEVENT
BEGIN:VEVENT
DTSTART;TZID=America/New_York:20241227T153000
DTEND;TZID=America/New_York:20241227T180000
DTSTAMP:20260425T181509
CREATED:20241016T193657Z
LAST-MODIFIED:20241023T004902Z
UID:18356-1735313400-1735322400@www.unitedskates.com
SUMMARY:Open Skate
DESCRIPTION:We are open and ready for an action-packed day! \nBring your family and friends for an unforgettable afternoon filled with skating and laser tag fun! \nFriday\, December 27th\, Monday\, December 30th\, and Thursday\, January 2nd 3:30pm-6:00pm \nAdmission $11.00 \nSkate Rental $6.00 \nWhether you’re gliding around the rink or battling it out in laser tag\, there’s something for everyone to enjoy. \nExperience the thrill of skate sessions combined with laser tag in a vibrant and friendly atmosphere.
URL:https://www.unitedskates.com/wickliffe/event/open-skate-3/
CATEGORIES:Family Events,Public Skates
ATTACH;FMTTYPE=image/jpeg:https://unitedskates-assets.sfo3.digitaloceanspaces.com/wp-content/uploads/sites/12/2024/10/WB-skate-2022-1200x1200-1.jpg
END:VEVENT
BEGIN:VEVENT
DTSTART;TZID=America/New_York:20241227T183000
DTEND;TZID=America/New_York:20241227T210000
DTSTAMP:20260425T181509
CREATED:20241009T140444Z
LAST-MODIFIED:20241023T005325Z
UID:18115-1735324200-1735333200@www.unitedskates.com
SUMMARY:Icee Bear's Snowball Fight
DESCRIPTION:Exciting News!! Breaking News!! \nIcee Bear is set to make his much-anticipated appearance at United Skates\, and he is bringing along an array of delightful sweet treats! \nFriday\, December 27th 6:30pm-9:00pm \nAdmission $12.00 \nSkate Rental $6.00 \nTo make things even more thrilling\, he’s also providing an abundance of SNOWBALLS for everyone to enjoy! \nGet ready to battle it out with Icee Bear’s very first indoor snowball fight-it promises to be frosty and fun-filled night. \nSnowball fight will happen from 8:30pm-9:00pm \n 
URL:https://www.unitedskates.com/wickliffe/event/icee-bears-snowball-fight/
CATEGORIES:Family Events,Public Skates,Special Events
ATTACH;FMTTYPE=image/jpeg:https://unitedskates-assets.sfo3.digitaloceanspaces.com/wp-content/uploads/sites/12/2024/10/icee-bear-snow-ball-fight-skate-editable-page-001-1-scaled.jpg
END:VEVENT
END:VCALENDAR