BEGIN:VCALENDAR
VERSION:2.0
PRODID:-//Rink 11 - Wickliffe - ECPv6.15.20//NONSGML v1.0//EN
CALSCALE:GREGORIAN
METHOD:PUBLISH
X-ORIGINAL-URL:https://www.unitedskates.com/wickliffe
X-WR-CALDESC:Events for Rink 11 - Wickliffe
REFRESH-INTERVAL;VALUE=DURATION:PT1H
X-Robots-Tag:noindex
X-PUBLISHED-TTL:PT1H
BEGIN:VTIMEZONE
TZID:America/New_York
BEGIN:DAYLIGHT
TZOFFSETFROM:-0500
TZOFFSETTO:-0400
TZNAME:EDT
DTSTART:20230312T070000
END:DAYLIGHT
BEGIN:STANDARD
TZOFFSETFROM:-0400
TZOFFSETTO:-0500
TZNAME:EST
DTSTART:20231105T060000
END:STANDARD
BEGIN:DAYLIGHT
TZOFFSETFROM:-0500
TZOFFSETTO:-0400
TZNAME:EDT
DTSTART:20240310T070000
END:DAYLIGHT
BEGIN:STANDARD
TZOFFSETFROM:-0400
TZOFFSETTO:-0500
TZNAME:EST
DTSTART:20241103T060000
END:STANDARD
BEGIN:DAYLIGHT
TZOFFSETFROM:-0500
TZOFFSETTO:-0400
TZNAME:EDT
DTSTART:20250309T070000
END:DAYLIGHT
BEGIN:STANDARD
TZOFFSETFROM:-0400
TZOFFSETTO:-0500
TZNAME:EST
DTSTART:20251102T060000
END:STANDARD
END:VTIMEZONE
BEGIN:VEVENT
DTSTART;TZID=America/New_York:20241226T123000
DTEND;TZID=America/New_York:20241226T150000
DTSTAMP:20260425T181510
CREATED:20241016T185457Z
LAST-MODIFIED:20241023T004139Z
UID:18321-1735216200-1735225200@www.unitedskates.com
SUMMARY:Free Laser Tag Skate
DESCRIPTION:It’s back and better than ever-everyone’s favorite event: Free Laser Tag Skate! \nThat’s right! With your paid admission you’ll receive a complimentary game of laser tag! \nThursday\, December 26th and Wednesday\, January 1st 12:30pm-3:00pm \nAdmission $11.00 \nSkate Rental $6.00 \nJoin us for an exhilarating day when you can skate and engage in an action-packed laser tag game! \nFeel the thrill when you glide across the skate floor and then gear up for an exciting showdown with friends and fellow skaters!
URL:https://www.unitedskates.com/wickliffe/event/free-laser-tag-skate-3/
CATEGORIES:Family Events,Public Skates,Special Events
ATTACH;FMTTYPE=image/jpeg:https://unitedskates-assets.sfo3.digitaloceanspaces.com/wp-content/uploads/sites/12/2023/04/laser-tag-tile.jpg
END:VEVENT
BEGIN:VEVENT
DTSTART;TZID=America/New_York:20241226T153000
DTEND;TZID=America/New_York:20241226T180000
DTSTAMP:20260425T181510
CREATED:20241016T184813Z
LAST-MODIFIED:20241023T010601Z
UID:18318-1735227000-1735236000@www.unitedskates.com
SUMMARY:Glow Roll
DESCRIPTION:It’s time to illuminate the rink! Join us for our exciting glow roll event! \nGet ready to skate under vibrant lights and enjoy an electrifying atmosphere as we transform the skating experience into a dazzling spectacle! \nThursday\, December 26th and Wednesday\, January 1st 3:30pm-6:00pm \nAdmission $11.00 \nSkate Rental $6.00 \nGet a FREE glowstick with every paid admission \nPut on your brightest attire and let’s create a night filled with glowing memories\, fantastic music\, and endless laughter! \nDon’t miss out on this chance to shine on the rink and embrace the festive spirit! \n 
URL:https://www.unitedskates.com/wickliffe/event/glow-roll-4/2024-12-26/
CATEGORIES:Family Events,Public Skates,Special Events
ATTACH;FMTTYPE=image/jpeg:https://unitedskates-assets.sfo3.digitaloceanspaces.com/wp-content/uploads/sites/12/2024/03/NEON-GLOW-SKATE.jpg
END:VEVENT
BEGIN:VEVENT
DTSTART;TZID=America/New_York:20241226T183000
DTEND;TZID=America/New_York:20241226T210000
DTSTAMP:20260425T181510
CREATED:20241016T191837Z
LAST-MODIFIED:20241017T213056Z
UID:18324-1735237800-1735246800@www.unitedskates.com
SUMMARY:Free Pizza Night
DESCRIPTION:Parent’s it’s time to take a well-deserved break from the kitchen! Let us do the cooking for you! \nStep away from the hustle and bustle of meal prep and enjoy a relaxing night while we whip up some delicious pizza! \nCome enjoy a fun-filled evening of skating and delicious pizza\, all in one place! \nThursday\, December 26th\, Wednesday\, January 1st and Thursday\, January 2nd 6:30pm-9:00pm \nOnly $15.00 includes admission\, skate rental\, a slice of cheese pizza and a drink \nPizza and drinks served from 7:00pm-8:30pm \nLet your children glide around the rink\, indulge in pizza\, while all having a fantastic time. \nThis is a perfect opportunity to relax\, socialize\, and enjoy a night out without the Hussle of cooking!
URL:https://www.unitedskates.com/wickliffe/event/free-pizza-night/2024-12-26/
CATEGORIES:Family Events,Public Skates,Special Events
ATTACH;FMTTYPE=image/jpeg:https://unitedskates-assets.sfo3.digitaloceanspaces.com/wp-content/uploads/sites/12/2024/10/pizza-skate-2024-page-001-scaled.jpg
END:VEVENT
END:VCALENDAR