BEGIN:VCALENDAR
VERSION:2.0
PRODID:-//Rink 11 - Wickliffe - ECPv6.15.20//NONSGML v1.0//EN
CALSCALE:GREGORIAN
METHOD:PUBLISH
X-ORIGINAL-URL:https://www.unitedskates.com/wickliffe
X-WR-CALDESC:Events for Rink 11 - Wickliffe
REFRESH-INTERVAL;VALUE=DURATION:PT1H
X-Robots-Tag:noindex
X-PUBLISHED-TTL:PT1H
BEGIN:VTIMEZONE
TZID:America/New_York
BEGIN:DAYLIGHT
TZOFFSETFROM:-0500
TZOFFSETTO:-0400
TZNAME:EDT
DTSTART:20230312T070000
END:DAYLIGHT
BEGIN:STANDARD
TZOFFSETFROM:-0400
TZOFFSETTO:-0500
TZNAME:EST
DTSTART:20231105T060000
END:STANDARD
BEGIN:DAYLIGHT
TZOFFSETFROM:-0500
TZOFFSETTO:-0400
TZNAME:EDT
DTSTART:20240310T070000
END:DAYLIGHT
BEGIN:STANDARD
TZOFFSETFROM:-0400
TZOFFSETTO:-0500
TZNAME:EST
DTSTART:20241103T060000
END:STANDARD
BEGIN:DAYLIGHT
TZOFFSETFROM:-0500
TZOFFSETTO:-0400
TZNAME:EDT
DTSTART:20250309T070000
END:DAYLIGHT
BEGIN:STANDARD
TZOFFSETFROM:-0400
TZOFFSETTO:-0500
TZNAME:EST
DTSTART:20251102T060000
END:STANDARD
END:VTIMEZONE
BEGIN:VEVENT
DTSTART;TZID=America/New_York:20241222T123000
DTEND;TZID=America/New_York:20241222T150000
DTSTAMP:20260425T192818
CREATED:20241016T175756Z
LAST-MODIFIED:20241022T221359Z
UID:18216-1734870600-1734879600@www.unitedskates.com
SUMMARY:Olafs Frozen Adventure
DESCRIPTION:The time has finally arrived! Olaf’s Frozen Adventure is on its way\, and the excitement is in the air! \nPrepare your family and friends for a whimsical experience filled with joy\, laughter\, and OLAF! \nSunday\, December 22nd 12:30pm-3:00pm \nAdmission $12.00 \nSkate Rental $6.00 \nThis enchanting event promises to bring the magic of winter to life\, allowing fans of all ages to immerse themselves in the heartwarming tales of Olaf! \nGuess who else is coming?! ANNA and ELSA are COMING! See them from 1:00pm-2:00pm \nYou do not want to miss out! \nPs. Great idea for a Frozen loving child’s birthday party! BOOK NOW! \n 
URL:https://www.unitedskates.com/wickliffe/event/olafs-frozen-adventure-2/
CATEGORIES:Family Events,Public Skates,Special Events
ATTACH;FMTTYPE=image/jpeg:https://unitedskates-assets.sfo3.digitaloceanspaces.com/wp-content/uploads/sites/12/2024/10/Olafs-Frozen-Adventure-elsa-olaf-1-1-page-001-1-scaled.jpg
END:VEVENT
BEGIN:VEVENT
DTSTART;TZID=America/New_York:20241222T153000
DTEND;TZID=America/New_York:20241222T180000
DTSTAMP:20260425T192818
CREATED:20241019T121110Z
LAST-MODIFIED:20250604T141930Z
UID:18418-1734881400-1734890400@www.unitedskates.com
SUMMARY:Sunday Funday/Birthday Parties
DESCRIPTION:Book your Birthday Party! \nAdmission $13.00 \nSkate Rental $6.00 \nFeaturing Pop and R&B Music Mix \nAll 3–17-year-olds must pay admission and skate rental upon entering the facility.  Adults 18+ not skating may enter for free. All 12–17-year-olds must come into our facility with a parent or guardian that is 25 years or age or older. We are only allowing two (2) 12–17-year-olds per one parent or guardian 25 and over. The parent/guardian must stay with the teenager the entire time while in the facility. If the parent/guardian leaves the facility the teen must leave with parent/guardian. No drop off of teens or children into our facility is permitted. No drop off of teens or children to another parent into our facility is permitted. Teenagers 12-17 with their own skates are permitted without a parent if they skate the entire time. Teens asked to keep skates on repeatedly will be asked to leave with no refund.
URL:https://www.unitedskates.com/wickliffe/event/sunday-funday-birthday-parties-3/
CATEGORIES:Family Events,Public Skates
ATTACH;FMTTYPE=image/jpeg:https://unitedskates-assets.sfo3.digitaloceanspaces.com/wp-content/uploads/sites/12/2023/07/800px-Sunday-Funday-2022-1200x900-1.jpg
END:VEVENT
BEGIN:VEVENT
DTSTART;TZID=America/New_York:20241222T183000
DTEND;TZID=America/New_York:20241222T210000
DTSTAMP:20260425T192818
CREATED:20241016T180801Z
LAST-MODIFIED:20241023T002513Z
UID:18218-1734892200-1734901200@www.unitedskates.com
SUMMARY:Santa's Merry Christmas Skate
DESCRIPTION:The Grinch is making his grand return once again! \nThis time around\, he’s scheming to hijack Santa’s festive celebration! \nSunday\, December 22nd 6:30pm-9:00pm \nAdmission $12.00 \nSkate Rental $6.00 \nJoin us for an exciting event where we’ll experience the Grinch’s antics and the heartwarming resolutions that unfold. \nSanta and The Grinch are going to be under the same roof for the first time ever! \nCome see Santa Claus before his BIG Day from 7:00pm-8:30pm! \nAre you team Grinch or team Santa? \nWear your Grinch or Santa gear to show your support! \n 
URL:https://www.unitedskates.com/wickliffe/event/santas-merry-christmas-skate/
CATEGORIES:Family Events,Public Skates,Special Events
ATTACH;FMTTYPE=image/jpeg:https://unitedskates-assets.sfo3.digitaloceanspaces.com/wp-content/uploads/sites/12/2024/10/santas-merry-christmas-rink-11-page-001-1-scaled.jpg
END:VEVENT
END:VCALENDAR