BEGIN:VCALENDAR
VERSION:2.0
PRODID:-//Rink 11 - Wickliffe - ECPv6.15.20//NONSGML v1.0//EN
CALSCALE:GREGORIAN
METHOD:PUBLISH
X-WR-CALNAME:Rink 11 - Wickliffe
X-ORIGINAL-URL:https://www.unitedskates.com/wickliffe
X-WR-CALDESC:Events for Rink 11 - Wickliffe
REFRESH-INTERVAL;VALUE=DURATION:PT1H
X-Robots-Tag:noindex
X-PUBLISHED-TTL:PT1H
BEGIN:VTIMEZONE
TZID:America/New_York
BEGIN:DAYLIGHT
TZOFFSETFROM:-0500
TZOFFSETTO:-0400
TZNAME:EDT
DTSTART:20230312T070000
END:DAYLIGHT
BEGIN:STANDARD
TZOFFSETFROM:-0400
TZOFFSETTO:-0500
TZNAME:EST
DTSTART:20231105T060000
END:STANDARD
BEGIN:DAYLIGHT
TZOFFSETFROM:-0500
TZOFFSETTO:-0400
TZNAME:EDT
DTSTART:20240310T070000
END:DAYLIGHT
BEGIN:STANDARD
TZOFFSETFROM:-0400
TZOFFSETTO:-0500
TZNAME:EST
DTSTART:20241103T060000
END:STANDARD
BEGIN:DAYLIGHT
TZOFFSETFROM:-0500
TZOFFSETTO:-0400
TZNAME:EDT
DTSTART:20250309T070000
END:DAYLIGHT
BEGIN:STANDARD
TZOFFSETFROM:-0400
TZOFFSETTO:-0500
TZNAME:EST
DTSTART:20251102T060000
END:STANDARD
END:VTIMEZONE
BEGIN:VEVENT
DTSTART;TZID=America/New_York:20241221T103000
DTEND;TZID=America/New_York:20241221T123000
DTSTAMP:20260425T184838
CREATED:20241022T211253Z
LAST-MODIFIED:20250410T195820Z
UID:18600-1734777000-1734784200@www.unitedskates.com
SUMMARY:Early Bird Skate
DESCRIPTION:Saturday Mornings are meant for Roller-skating! \nStart your day off right with our Early Bird Skate! \nEvery Saturday from 10:30am-12:30pm \nAdmission is only $10.00 \nSkate Rental $6.00 \nJoin us for a morning of fun and excitement on the rink! \nEnjoy some quality time with your friends and family while getting your skate on! \nFun for ALL Ages!
URL:https://www.unitedskates.com/wickliffe/event/early-bird-skate-3/2024-12-21/
CATEGORIES:Family Events,Public Skates
ATTACH;FMTTYPE=image/jpeg:https://unitedskates-assets.sfo3.digitaloceanspaces.com/wp-content/uploads/sites/12/2023/12/early-bird-skate.jpg
END:VEVENT
BEGIN:VEVENT
DTSTART;TZID=America/New_York:20241221T123000
DTEND;TZID=America/New_York:20241221T150000
DTSTAMP:20260425T184838
CREATED:20241009T200356Z
LAST-MODIFIED:20241022T215428Z
UID:18187-1734784200-1734793200@www.unitedskates.com
SUMMARY:Merry Minion Skate
DESCRIPTION:Exciting news is here\, everyone! \nThe beloved Merry Minion has made his grand return to United Skates! He is ready and eager to start his new mission which is to help spready holiday cheer! \nSaturday\, December 21st 12:30pm-3:00pm \nAdmission $12.00 \nSkate Rental $6.00 \nBe ready to create merry memories with our little yellow buddy! \nMake sure to have your cameras open and ready! \nPsst. It’s a great idea to now have a Minion Birthday Party! BOOK NOW!
URL:https://www.unitedskates.com/wickliffe/event/merry-minion-skate-5/
CATEGORIES:Family Events,Public Skates,Special Events
ATTACH;FMTTYPE=image/jpeg:https://unitedskates-assets.sfo3.digitaloceanspaces.com/wp-content/uploads/sites/12/2024/10/Merry-Minion-december-page-001-2-scaled.jpg
END:VEVENT
BEGIN:VEVENT
DTSTART;TZID=America/New_York:20241221T160000
DTEND;TZID=America/New_York:20241221T183000
DTSTAMP:20260425T184838
CREATED:20241022T215909Z
LAST-MODIFIED:20260401T192720Z
UID:18641-1734796800-1734805800@www.unitedskates.com
SUMMARY:Family Skate/Birthday Parties
DESCRIPTION:Book your Birthday Party! Birthday Parties available from 4:00pm-6:30pm \nAdmission at the door $14.00 \nAdmission Online $12.00 \nSkate Rental $6.00 \nFeaturing Pop and R&B Music Mix \nBuy your Tickets Online! BUY HERE! \nAll 3–17-year-olds must pay admission and skate rental upon entering the facility.  Adults 18+ not skating may enter for free. All 12–17-year-olds must come into our facility with a parent or guardian that is 25 years or age or older. We are only allowing two (2) 12–17-year-olds per one parent or guardian 25 and over. The parent/guardian must stay with the teenager the entire time while in the facility. If the parent/guardian leaves the facility the teen must leave with parent/guardian. No drop off of teens or children into our facility is permitted. No drop off of teens or children to another parent into our facility is permitted. Teenagers 12-17 with their own skates are permitted without a parent if they skate the entire time. Teens asked to keep skates on repeatedly will be asked to leave with no refund.
URL:https://www.unitedskates.com/wickliffe/event/family-skate-birthday-parties-21/2024-12-21/
CATEGORIES:Family Events,Public Skates
ATTACH;FMTTYPE=image/jpeg:https://unitedskates-assets.sfo3.digitaloceanspaces.com/wp-content/uploads/sites/12/2023/07/800px-Family-Skate-1200x900-1.jpg
END:VEVENT
BEGIN:VEVENT
DTSTART;TZID=America/New_York:20241221T190000
DTEND;TZID=America/New_York:20241221T220000
DTSTAMP:20260425T184838
CREATED:20241022T221118Z
LAST-MODIFIED:20250615T013448Z
UID:18688-1734807600-1734818400@www.unitedskates.com
SUMMARY:Saturday Night Skate
DESCRIPTION:It’s Saturday night\, and that means it’s time to hit the skate floor! \nJoin us every Saturday from 7:00pm-10:00pm for an incredible night of skating fun! \nAdmission $14.00 \nSkate Rental $6.00 \nWhether you’re planning a date night\, a family outing\, or a fun evening with friends\, there’s something for everyone to enjoy. \nExperience the excitement of gliding on wheels\, meet new people\, and create lasting memories. \nEnjoy the best of R&B and Hip-Hop music all session \nDon’t miss out on the best way to spend your Saturday night! \nSkip the line-buy your tickets online! BUY HERE! \nAll 3–17-year-olds must pay admission and skate rental upon entering the facility. Adults 18+ not skating may enter for free. All 12–17-year-olds must come into our facility with a parent or guardian that is 25 years or age or older. We are only allowing two (2) 12–17-year-olds per one parent or guardian 25 and over. The parent/guardian must stay with the teenager the entire time while in the facility. If the parent/guardian leaves the facility the teen must leave with parent/guardian. No drop off of teens or children into our facility is permitted. No drop off of teens or children to another parent into our facility is permitted. Teenagers 12-17 with their own skates are permitted without a parent if they skate the entire time. Teens asked to keep skates on repeatedly will be asked to leave with no refund
URL:https://www.unitedskates.com/wickliffe/event/family-hip-hop-skate/2024-12-21/
CATEGORIES:Family Events,Public Skates
ATTACH;FMTTYPE=image/jpeg:https://unitedskates-assets.sfo3.digitaloceanspaces.com/wp-content/uploads/sites/12/2024/10/Saturday-Night-Skate-Night-v2.jpg
END:VEVENT
END:VCALENDAR