BEGIN:VCALENDAR
VERSION:2.0
PRODID:-//Rink 11 - Wickliffe - ECPv6.15.20//NONSGML v1.0//EN
CALSCALE:GREGORIAN
METHOD:PUBLISH
X-ORIGINAL-URL:https://www.unitedskates.com/wickliffe
X-WR-CALDESC:Events for Rink 11 - Wickliffe
REFRESH-INTERVAL;VALUE=DURATION:PT1H
X-Robots-Tag:noindex
X-PUBLISHED-TTL:PT1H
BEGIN:VTIMEZONE
TZID:America/New_York
BEGIN:DAYLIGHT
TZOFFSETFROM:-0500
TZOFFSETTO:-0400
TZNAME:EDT
DTSTART:20230312T070000
END:DAYLIGHT
BEGIN:STANDARD
TZOFFSETFROM:-0400
TZOFFSETTO:-0500
TZNAME:EST
DTSTART:20231105T060000
END:STANDARD
BEGIN:DAYLIGHT
TZOFFSETFROM:-0500
TZOFFSETTO:-0400
TZNAME:EDT
DTSTART:20240310T070000
END:DAYLIGHT
BEGIN:STANDARD
TZOFFSETFROM:-0400
TZOFFSETTO:-0500
TZNAME:EST
DTSTART:20241103T060000
END:STANDARD
BEGIN:DAYLIGHT
TZOFFSETFROM:-0500
TZOFFSETTO:-0400
TZNAME:EDT
DTSTART:20250309T070000
END:DAYLIGHT
BEGIN:STANDARD
TZOFFSETFROM:-0400
TZOFFSETTO:-0500
TZNAME:EST
DTSTART:20251102T060000
END:STANDARD
END:VTIMEZONE
BEGIN:VEVENT
DTSTART;TZID=America/New_York:20241127T180000
DTEND;TZID=America/New_York:20241202T220000
DTSTAMP:20260425T181525
CREATED:20241007T193934Z
LAST-MODIFIED:20241007T193934Z
UID:17784-1732730400-1733176800@www.unitedskates.com
SUMMARY:Thanksgiving Break 2024
DESCRIPTION:Join Us During Thanksgiving Break! \nWe have many great events for everyone! \nCome see Santa\, The Minions\, The Aliens! \nWe have Unlimited Lunch Skate\, Family Skates\, R&B Hip-Hop Skates\, Adult Skates and More! \nCheck Our Schedule for Times and Admission Prices. \nMake Plans to Come Out and Roll with Us!🛼🛼
URL:https://www.unitedskates.com/wickliffe/event/thanksgiving-break-2024/
CATEGORIES:Family Events,Public Skates,Special Events
ATTACH;FMTTYPE=image/jpeg:https://unitedskates-assets.sfo3.digitaloceanspaces.com/wp-content/uploads/sites/12/2024/10/Thanksgiving-Break-2024-calendar-11.jpg
END:VEVENT
BEGIN:VEVENT
DTSTART;TZID=America/New_York:20241202T123000
DTEND;TZID=America/New_York:20241202T150000
DTSTAMP:20260425T181525
CREATED:20240724T210852Z
LAST-MODIFIED:20241016T213538Z
UID:17502-1733142600-1733151600@www.unitedskates.com
SUMMARY:Open Skate
DESCRIPTION:No School? Time to roll into some serious fun! \nGet your wheels on and join us for an epic day of roller-skating\, arcade games\, and laser tag adventures. \nShow off your moves and enjoy the open skate floor. \nMonday\, December 2nd 12:30pm-3:00pm \nAdmission $10.00 \nSkate Rental $5.50 \nWhether you’re a pro or a newbie\, there’s no better way to make the most of your day off than with some high-speed excitement on wheels. \nGrab your friends and families\, lace up your skates\, and let’s make this a day to remember.
URL:https://www.unitedskates.com/wickliffe/event/open-skate-2/
CATEGORIES:Family Events,Public Skates
ATTACH;FMTTYPE=image/jpeg:https://unitedskates-assets.sfo3.digitaloceanspaces.com/wp-content/uploads/sites/12/2024/07/SIO-SKATE-2022-1200x900-1.jpg
END:VEVENT
END:VCALENDAR