BEGIN:VCALENDAR
VERSION:2.0
PRODID:-//Rink 11 - Wickliffe - ECPv6.15.20//NONSGML v1.0//EN
CALSCALE:GREGORIAN
METHOD:PUBLISH
X-WR-CALNAME:Rink 11 - Wickliffe
X-ORIGINAL-URL:https://www.unitedskates.com/wickliffe
X-WR-CALDESC:Events for Rink 11 - Wickliffe
REFRESH-INTERVAL;VALUE=DURATION:PT1H
X-Robots-Tag:noindex
X-PUBLISHED-TTL:PT1H
BEGIN:VTIMEZONE
TZID:America/New_York
BEGIN:DAYLIGHT
TZOFFSETFROM:-0500
TZOFFSETTO:-0400
TZNAME:EDT
DTSTART:20230312T070000
END:DAYLIGHT
BEGIN:STANDARD
TZOFFSETFROM:-0400
TZOFFSETTO:-0500
TZNAME:EST
DTSTART:20231105T060000
END:STANDARD
BEGIN:DAYLIGHT
TZOFFSETFROM:-0500
TZOFFSETTO:-0400
TZNAME:EDT
DTSTART:20240310T070000
END:DAYLIGHT
BEGIN:STANDARD
TZOFFSETFROM:-0400
TZOFFSETTO:-0500
TZNAME:EST
DTSTART:20241103T060000
END:STANDARD
BEGIN:DAYLIGHT
TZOFFSETFROM:-0500
TZOFFSETTO:-0400
TZNAME:EDT
DTSTART:20250309T070000
END:DAYLIGHT
BEGIN:STANDARD
TZOFFSETFROM:-0400
TZOFFSETTO:-0500
TZNAME:EST
DTSTART:20251102T060000
END:STANDARD
END:VTIMEZONE
BEGIN:VEVENT
DTSTART;TZID=America/New_York:20241122T183000
DTEND;TZID=America/New_York:20241122T210000
DTSTAMP:20260425T212242
CREATED:20240808T194550Z
LAST-MODIFIED:20240808T200409Z
UID:17632-1732300200-1732309200@www.unitedskates.com
SUMMARY:Spider-Man Skate
DESCRIPTION:Get ready to swing into excitement at our spectacular Spider-Man skate event! \nJoin us for an action-packed night where you’ll have the incredible opportunity to meet Spider-Man himself. \nFriday\, November 22nd 6:30pm-9:00pm \nAdmission $12.00 \nSkate Rental $5.50 \nBe sure to come dressed in your best Spidey attire to showcase your web-slinging style. \nLet’s unite for a night of fun thrills\, and unforgettable memories together! \nDon’t miss out on this fantastic adventure! \nDoes your little one love Spider-Man? Why not have him at your birthday party! Book Now! \nSpider-Man will be here from 7:00pm-8:00pm
URL:https://www.unitedskates.com/wickliffe/event/spider-man-skate-3/
CATEGORIES:Family Events,Public Skates,Special Events
ATTACH;FMTTYPE=image/jpeg:https://unitedskates-assets.sfo3.digitaloceanspaces.com/wp-content/uploads/sites/12/2024/03/spiderman-skate.jpg
END:VEVENT
END:VCALENDAR