BEGIN:VCALENDAR
VERSION:2.0
PRODID:-//Rink 11 - Wickliffe - ECPv6.15.20//NONSGML v1.0//EN
CALSCALE:GREGORIAN
METHOD:PUBLISH
X-WR-CALNAME:Rink 11 - Wickliffe
X-ORIGINAL-URL:https://www.unitedskates.com/wickliffe
X-WR-CALDESC:Events for Rink 11 - Wickliffe
REFRESH-INTERVAL;VALUE=DURATION:PT1H
X-Robots-Tag:noindex
X-PUBLISHED-TTL:PT1H
BEGIN:VTIMEZONE
TZID:America/New_York
BEGIN:DAYLIGHT
TZOFFSETFROM:-0500
TZOFFSETTO:-0400
TZNAME:EDT
DTSTART:20230312T070000
END:DAYLIGHT
BEGIN:STANDARD
TZOFFSETFROM:-0400
TZOFFSETTO:-0500
TZNAME:EST
DTSTART:20231105T060000
END:STANDARD
BEGIN:DAYLIGHT
TZOFFSETFROM:-0500
TZOFFSETTO:-0400
TZNAME:EDT
DTSTART:20240310T070000
END:DAYLIGHT
BEGIN:STANDARD
TZOFFSETFROM:-0400
TZOFFSETTO:-0500
TZNAME:EST
DTSTART:20241103T060000
END:STANDARD
BEGIN:DAYLIGHT
TZOFFSETFROM:-0500
TZOFFSETTO:-0400
TZNAME:EDT
DTSTART:20250309T070000
END:DAYLIGHT
BEGIN:STANDARD
TZOFFSETFROM:-0400
TZOFFSETTO:-0500
TZNAME:EST
DTSTART:20251102T060000
END:STANDARD
END:VTIMEZONE
BEGIN:VEVENT
DTSTART;TZID=America/New_York:20241108T183000
DTEND;TZID=America/New_York:20241108T210000
DTSTAMP:20260425T212217
CREATED:20240724T185229Z
LAST-MODIFIED:20240730T154512Z
UID:17460-1731090600-1731099600@www.unitedskates.com
SUMMARY:Princess and the Frog Skate
DESCRIPTION:Get ready to embark on a magical journey where fairy tales meet the thrill of roller-skating! \nJoin Princess Tiana and her frog prince as they glide through the enchanted rink\, twirling and spinning on wheels of enchantment. \nFriday\, November 8th 6:30pm-9:00pm \nAdmission $13.00 \nSkate Rental $5.50 \nExperience the joy and wonder of the Princess and the Frog like never before\, as the princess finds her true love and discovers the joy of roller-skating. \nLet the music guide your moves as you skate all session long! \nDon’t miss out on this enchanting adventure that combines the magic of beloved fairy tale with the excitement of roller-skating. \nHelp us enchant our rink\, dress up as Princess Tiana or your favorite character from Princess and the Frog. \nParents\, this would be a great theme for a birthday party! Book Now! \nPrincess Tiana will be here from 7:00pm-8:00pm
URL:https://www.unitedskates.com/wickliffe/event/princess-and-the-frog-skate/
CATEGORIES:Family Events,Public Skates,Special Events
ATTACH;FMTTYPE=image/jpeg:https://unitedskates-assets.sfo3.digitaloceanspaces.com/wp-content/uploads/sites/12/2024/07/princess-tianna-skate-2024-page-001-scaled.jpg
END:VEVENT
END:VCALENDAR