BEGIN:VCALENDAR
VERSION:2.0
PRODID:-//Rink 11 - Wickliffe - ECPv6.15.20//NONSGML v1.0//EN
CALSCALE:GREGORIAN
METHOD:PUBLISH
X-ORIGINAL-URL:https://www.unitedskates.com/wickliffe
X-WR-CALDESC:Events for Rink 11 - Wickliffe
REFRESH-INTERVAL;VALUE=DURATION:PT1H
X-Robots-Tag:noindex
X-PUBLISHED-TTL:PT1H
BEGIN:VTIMEZONE
TZID:America/New_York
BEGIN:DAYLIGHT
TZOFFSETFROM:-0500
TZOFFSETTO:-0400
TZNAME:EDT
DTSTART:20230312T070000
END:DAYLIGHT
BEGIN:STANDARD
TZOFFSETFROM:-0400
TZOFFSETTO:-0500
TZNAME:EST
DTSTART:20231105T060000
END:STANDARD
BEGIN:DAYLIGHT
TZOFFSETFROM:-0500
TZOFFSETTO:-0400
TZNAME:EDT
DTSTART:20240310T070000
END:DAYLIGHT
BEGIN:STANDARD
TZOFFSETFROM:-0400
TZOFFSETTO:-0500
TZNAME:EST
DTSTART:20241103T060000
END:STANDARD
BEGIN:DAYLIGHT
TZOFFSETFROM:-0500
TZOFFSETTO:-0400
TZNAME:EDT
DTSTART:20250309T070000
END:DAYLIGHT
BEGIN:STANDARD
TZOFFSETFROM:-0400
TZOFFSETTO:-0500
TZNAME:EST
DTSTART:20251102T060000
END:STANDARD
END:VTIMEZONE
BEGIN:VEVENT
DTSTART;TZID=America/New_York:20241103T123000
DTEND;TZID=America/New_York:20241103T150000
DTSTAMP:20260425T212347
CREATED:20241021T205153Z
LAST-MODIFIED:20241022T203536Z
UID:18541-1730637000-1730646000@www.unitedskates.com
SUMMARY:Cookie Crazy Skate
DESCRIPTION:Get ready to roll in style at the ultimate Cookie Crazy Skate Party! \nJoin us for an exhilarating evening filled with skating\, laughter\, and the chance to WIN delicious packs of your favorite cookies\, including classic Oreos\, crunchy Chips Ahoy\, and so much more! \nSunday\, November 3rd 12:30pm-3:00pm \nAdmission $12.00 \nSkate Rental $5.50 \nThis is an event you won’t want to miss\, so grab your friends and come celebrate with the sweetest night of the season! \nMark your calendars and prepare for a cookie-filled adventure!
URL:https://www.unitedskates.com/wickliffe/event/cookie-crazy-skate-2/
CATEGORIES:Family Events,Public Skates,Special Events
ATTACH;FMTTYPE=image/jpeg:https://unitedskates-assets.sfo3.digitaloceanspaces.com/wp-content/uploads/sites/12/2024/10/cookie-crazy-november-page-001-scaled.jpg
END:VEVENT
END:VCALENDAR