BEGIN:VCALENDAR
VERSION:2.0
PRODID:-//Rink 11 - Wickliffe - ECPv6.15.20//NONSGML v1.0//EN
CALSCALE:GREGORIAN
METHOD:PUBLISH
X-WR-CALNAME:Rink 11 - Wickliffe
X-ORIGINAL-URL:https://www.unitedskates.com/wickliffe
X-WR-CALDESC:Events for Rink 11 - Wickliffe
REFRESH-INTERVAL;VALUE=DURATION:PT1H
X-Robots-Tag:noindex
X-PUBLISHED-TTL:PT1H
BEGIN:VTIMEZONE
TZID:America/New_York
BEGIN:DAYLIGHT
TZOFFSETFROM:-0500
TZOFFSETTO:-0400
TZNAME:EDT
DTSTART:20230312T070000
END:DAYLIGHT
BEGIN:STANDARD
TZOFFSETFROM:-0400
TZOFFSETTO:-0500
TZNAME:EST
DTSTART:20231105T060000
END:STANDARD
BEGIN:DAYLIGHT
TZOFFSETFROM:-0500
TZOFFSETTO:-0400
TZNAME:EDT
DTSTART:20240310T070000
END:DAYLIGHT
BEGIN:STANDARD
TZOFFSETFROM:-0400
TZOFFSETTO:-0500
TZNAME:EST
DTSTART:20241103T060000
END:STANDARD
BEGIN:DAYLIGHT
TZOFFSETFROM:-0500
TZOFFSETTO:-0400
TZNAME:EDT
DTSTART:20250309T070000
END:DAYLIGHT
BEGIN:STANDARD
TZOFFSETFROM:-0400
TZOFFSETTO:-0500
TZNAME:EST
DTSTART:20251102T060000
END:STANDARD
END:VTIMEZONE
BEGIN:VEVENT
DTSTART;TZID=America/New_York:20241026T123000
DTEND;TZID=America/New_York:20241026T150000
DTSTAMP:20260425T212248
CREATED:20240724T170417Z
LAST-MODIFIED:20240812T195836Z
UID:17407-1729945800-1729954800@www.unitedskates.com
SUMMARY:Nightmare before Christmas Skate
DESCRIPTION:Get ready for a spooktacular adventure with Nightmare Before Christmas! \nJoin Jack Skellington and Sally as they glide through the enchanting Halloween Town\, spreading Spooky Holiday Cheer on wheels. \nSaturday\, October 26th 12:30pm-3:00pm \nAdmission $12.00 \nSkate Rental $5.50 \nExperience the magic of this hauntingly beautiful spectacle as they bring the spirit of Christmas to the dark and mysterious world of Halloween. \nAre you prepared to be transported into a world where holidays collide\, and roller skates take flight? \nEmbrace the enchantment\, strap on your skates\, and join both Jack and Sally on this unforgettable roller skating journey. \nMake sure to dress as your favorite character\, to help bring this all alive! \nBe ready to capture moments and make lasting memories!
URL:https://www.unitedskates.com/wickliffe/event/nightmare-before-christmas-skate-2/
CATEGORIES:Family Events,Public Skates,Special Events
ATTACH;FMTTYPE=image/jpeg:https://unitedskates-assets.sfo3.digitaloceanspaces.com/wp-content/uploads/sites/12/2024/07/Nightmare-Before-XMas-2024-page-001-scaled.jpg
END:VEVENT
END:VCALENDAR