BEGIN:VCALENDAR
VERSION:2.0
PRODID:-//Rink 11 - Wickliffe - ECPv6.15.20//NONSGML v1.0//EN
CALSCALE:GREGORIAN
METHOD:PUBLISH
X-ORIGINAL-URL:https://www.unitedskates.com/wickliffe
X-WR-CALDESC:Events for Rink 11 - Wickliffe
REFRESH-INTERVAL;VALUE=DURATION:PT1H
X-Robots-Tag:noindex
X-PUBLISHED-TTL:PT1H
BEGIN:VTIMEZONE
TZID:America/New_York
BEGIN:DAYLIGHT
TZOFFSETFROM:-0500
TZOFFSETTO:-0400
TZNAME:EDT
DTSTART:20230312T070000
END:DAYLIGHT
BEGIN:STANDARD
TZOFFSETFROM:-0400
TZOFFSETTO:-0500
TZNAME:EST
DTSTART:20231105T060000
END:STANDARD
BEGIN:DAYLIGHT
TZOFFSETFROM:-0500
TZOFFSETTO:-0400
TZNAME:EDT
DTSTART:20240310T070000
END:DAYLIGHT
BEGIN:STANDARD
TZOFFSETFROM:-0400
TZOFFSETTO:-0500
TZNAME:EST
DTSTART:20241103T060000
END:STANDARD
BEGIN:DAYLIGHT
TZOFFSETFROM:-0500
TZOFFSETTO:-0400
TZNAME:EDT
DTSTART:20250309T070000
END:DAYLIGHT
BEGIN:STANDARD
TZOFFSETFROM:-0400
TZOFFSETTO:-0500
TZNAME:EST
DTSTART:20251102T060000
END:STANDARD
END:VTIMEZONE
BEGIN:VEVENT
DTSTART;TZID=America/New_York:20241019T123000
DTEND;TZID=America/New_York:20241019T150000
DTSTAMP:20260425T212355
CREATED:20240724T165805Z
LAST-MODIFIED:20240821T200959Z
UID:17405-1729341000-1729350000@www.unitedskates.com
SUMMARY:Lunch with Chucky
DESCRIPTION:Get ready for a cheesy and action-packed adventure with Chucky’s Pizza Roller-Skate! \nJoin Chucky\, the haunted mascot as he glides through the eerie rink. \nSaturday\, October 19th 12:30pm-3:00pm \nOnly $16.00 includes admission\, skate rental\, and a slice of cheese pizza \nPizza served from 1:00pm-2:30pm \nPrepare to be spooked by Chucky’s Impressive tactics. \nAre you brave enough to experience the thrill of Chucky’s Pizza Roller-Skate Party? \nStrap your skates on and let the frightful feast begin! \nYou might be lucky enough to get a picture\, so be ready! \n 
URL:https://www.unitedskates.com/wickliffe/event/lunch-with-chucky-3/
CATEGORIES:Family Events,Public Skates,Special Events
ATTACH;FMTTYPE=image/jpeg:https://unitedskates-assets.sfo3.digitaloceanspaces.com/wp-content/uploads/sites/12/2024/07/Chucky-Skate-2024-Lunch-page-001-scaled.jpg
END:VEVENT
END:VCALENDAR