BEGIN:VCALENDAR
VERSION:2.0
PRODID:-//Rink 11 - Wickliffe - ECPv6.15.20//NONSGML v1.0//EN
CALSCALE:GREGORIAN
METHOD:PUBLISH
X-WR-CALNAME:Rink 11 - Wickliffe
X-ORIGINAL-URL:https://www.unitedskates.com/wickliffe
X-WR-CALDESC:Events for Rink 11 - Wickliffe
REFRESH-INTERVAL;VALUE=DURATION:PT1H
X-Robots-Tag:noindex
X-PUBLISHED-TTL:PT1H
BEGIN:VTIMEZONE
TZID:America/New_York
BEGIN:DAYLIGHT
TZOFFSETFROM:-0500
TZOFFSETTO:-0400
TZNAME:EDT
DTSTART:20230312T070000
END:DAYLIGHT
BEGIN:STANDARD
TZOFFSETFROM:-0400
TZOFFSETTO:-0500
TZNAME:EST
DTSTART:20231105T060000
END:STANDARD
BEGIN:DAYLIGHT
TZOFFSETFROM:-0500
TZOFFSETTO:-0400
TZNAME:EDT
DTSTART:20240310T070000
END:DAYLIGHT
BEGIN:STANDARD
TZOFFSETFROM:-0400
TZOFFSETTO:-0500
TZNAME:EST
DTSTART:20241103T060000
END:STANDARD
BEGIN:DAYLIGHT
TZOFFSETFROM:-0500
TZOFFSETTO:-0400
TZNAME:EDT
DTSTART:20250309T070000
END:DAYLIGHT
BEGIN:STANDARD
TZOFFSETFROM:-0400
TZOFFSETTO:-0500
TZNAME:EST
DTSTART:20251102T060000
END:STANDARD
END:VTIMEZONE
BEGIN:VEVENT
DTSTART;TZID=America/New_York:20241012T123000
DTEND;TZID=America/New_York:20241012T150000
DTSTAMP:20260425T212249
CREATED:20240724T165000Z
LAST-MODIFIED:20240808T185353Z
UID:17403-1728736200-1728745200@www.unitedskates.com
SUMMARY:Frankenstein Glow in the Dark Skate
DESCRIPTION:Get ready to groove with the friendliest monster in town\, Friendly Frankenstein! \nJoin this gentle giant as he laces up his roller skates and glides through the rink. \nSaturday\, October 12th 12:30pm-3:00pm \nAdmission $12.00 \nSkate Rental $5.50 \nFree Glowstick with Paid Admission \nOf course\, he will be spreading joy and laughter wherever he goes. \nAre you ready to join this Friendly Monster on wheels? \nGet your skates on and let the roller-skating fun begin. \nMake sure to have your camera’s ready! Picture opportunities are available!
URL:https://www.unitedskates.com/wickliffe/event/frankenstein-skate/
CATEGORIES:Family Events,Public Skates,Special Events
ATTACH;FMTTYPE=image/jpeg:https://unitedskates-assets.sfo3.digitaloceanspaces.com/wp-content/uploads/sites/12/2024/07/GLOW-Frankenstein-Skate-2024-page-001-scaled.jpg
END:VEVENT
END:VCALENDAR