BEGIN:VCALENDAR
VERSION:2.0
PRODID:-//Rink 11 - Wickliffe - ECPv6.15.20//NONSGML v1.0//EN
CALSCALE:GREGORIAN
METHOD:PUBLISH
X-ORIGINAL-URL:https://www.unitedskates.com/wickliffe
X-WR-CALDESC:Events for Rink 11 - Wickliffe
REFRESH-INTERVAL;VALUE=DURATION:PT1H
X-Robots-Tag:noindex
X-PUBLISHED-TTL:PT1H
BEGIN:VTIMEZONE
TZID:America/New_York
BEGIN:DAYLIGHT
TZOFFSETFROM:-0500
TZOFFSETTO:-0400
TZNAME:EDT
DTSTART:20230312T070000
END:DAYLIGHT
BEGIN:STANDARD
TZOFFSETFROM:-0400
TZOFFSETTO:-0500
TZNAME:EST
DTSTART:20231105T060000
END:STANDARD
BEGIN:DAYLIGHT
TZOFFSETFROM:-0500
TZOFFSETTO:-0400
TZNAME:EDT
DTSTART:20240310T070000
END:DAYLIGHT
BEGIN:STANDARD
TZOFFSETFROM:-0400
TZOFFSETTO:-0500
TZNAME:EST
DTSTART:20241103T060000
END:STANDARD
BEGIN:DAYLIGHT
TZOFFSETFROM:-0500
TZOFFSETTO:-0400
TZNAME:EDT
DTSTART:20250309T070000
END:DAYLIGHT
BEGIN:STANDARD
TZOFFSETFROM:-0400
TZOFFSETTO:-0500
TZNAME:EST
DTSTART:20251102T060000
END:STANDARD
END:VTIMEZONE
BEGIN:VEVENT
DTSTART;TZID=America/New_York:20241006T123000
DTEND;TZID=America/New_York:20241006T150000
DTSTAMP:20260425T212412
CREATED:20240724T175806Z
LAST-MODIFIED:20240726T162229Z
UID:17445-1728217800-1728226800@www.unitedskates.com
SUMMARY:Pink the Rink
DESCRIPTION:Lace up your skates and join the movement for breast cancer awareness! \nRoller-skating is not just a fun activity\, it’s a powerful way to raise awareness and show support! \nLet’s roll together\, spreading hope\, strength and love on and off the rink. \nSunday\, October 6th 12:30pm-3:00pm \nAdmission $12.00 \nSkate Rental $5.50 \nJoin us as we skate for a cause\, raise funds and make a difference! \n$1.00 out of every paid admission will be donated to the Breast Cancer Foundation \nHelp us Pink our Rink! Dress in your best pink outfits!!
URL:https://www.unitedskates.com/wickliffe/event/pink-the-rink/
CATEGORIES:Family Events,Public Skates,Special Events
ATTACH;FMTTYPE=image/jpeg:https://unitedskates-assets.sfo3.digitaloceanspaces.com/wp-content/uploads/sites/12/2024/07/Pink-the-Rink-breast-cancer-skate-2023-v2-page-001-scaled.jpg
END:VEVENT
BEGIN:VEVENT
DTSTART;TZID=America/New_York:20241006T183000
DTEND;TZID=America/New_York:20241006T210000
DTSTAMP:20260425T212412
CREATED:20240724T180849Z
LAST-MODIFIED:20240726T163817Z
UID:17448-1728239400-1728248400@www.unitedskates.com
SUMMARY:It Skate
DESCRIPTION:Don’t let Pennywise catch up to you on the rink! \nRoller-skating away from this creepy clown is the ultimate adrenaline rush. \nLace up your skates\, face your fears\, and outskate Pennywise in a rollercoaster of thrills and chills. \nSunday\, October 6th 6:30pm-9:00pm \nAdmission $12.00 \nSkate Rental $5.50 \nJoin us for a spine-tingling skate session\, where the only thing scarier than Pennywise’s grin is the speed of your spins. \nWant to make Pennywise smile bigger? Dress up like him! Get a chance to WIN a Prize.
URL:https://www.unitedskates.com/wickliffe/event/it-skate/
CATEGORIES:Family Events,Public Skates,Special Events
ATTACH;FMTTYPE=image/jpeg:https://unitedskates-assets.sfo3.digitaloceanspaces.com/wp-content/uploads/sites/12/2024/07/Clown-Skate-2024-page-001-scaled.jpg
END:VEVENT
END:VCALENDAR