BEGIN:VCALENDAR
VERSION:2.0
PRODID:-//Rink 11 - Wickliffe - ECPv6.15.20//NONSGML v1.0//EN
CALSCALE:GREGORIAN
METHOD:PUBLISH
X-WR-CALNAME:Rink 11 - Wickliffe
X-ORIGINAL-URL:https://www.unitedskates.com/wickliffe
X-WR-CALDESC:Events for Rink 11 - Wickliffe
REFRESH-INTERVAL;VALUE=DURATION:PT1H
X-Robots-Tag:noindex
X-PUBLISHED-TTL:PT1H
BEGIN:VTIMEZONE
TZID:America/New_York
BEGIN:DAYLIGHT
TZOFFSETFROM:-0500
TZOFFSETTO:-0400
TZNAME:EDT
DTSTART:20250309T070000
END:DAYLIGHT
BEGIN:STANDARD
TZOFFSETFROM:-0400
TZOFFSETTO:-0500
TZNAME:EST
DTSTART:20251102T060000
END:STANDARD
BEGIN:DAYLIGHT
TZOFFSETFROM:-0500
TZOFFSETTO:-0400
TZNAME:EDT
DTSTART:20260308T070000
END:DAYLIGHT
BEGIN:STANDARD
TZOFFSETFROM:-0400
TZOFFSETTO:-0500
TZNAME:EST
DTSTART:20261101T060000
END:STANDARD
BEGIN:DAYLIGHT
TZOFFSETFROM:-0500
TZOFFSETTO:-0400
TZNAME:EDT
DTSTART:20270314T070000
END:DAYLIGHT
BEGIN:STANDARD
TZOFFSETFROM:-0400
TZOFFSETTO:-0500
TZNAME:EST
DTSTART:20271107T060000
END:STANDARD
END:VTIMEZONE
BEGIN:VEVENT
DTSTART;TZID=America/New_York:20260323T180000
DTEND;TZID=America/New_York:20260323T190000
DTSTAMP:20260421T184101
CREATED:20260121T203235Z
LAST-MODIFIED:20260410T190300Z
UID:23621-1774288800-1774292400@www.unitedskates.com
SUMMARY:Adult Skate Lessons
DESCRIPTION:🛼✨ ADULT SKATING LESSONS – MONDAY NIGHTS ✨🛼 \nReady to level up your skating skills or finally learn how to roll with confidence? Join us for Adult Skating Lessons designed just for adults in a fun\, supportive\, and no-pressure environment! Whether you’re a beginner or looking to sharpen your moves\, our experienced instructors will help you find your rhythm on wheels. \n📅 Every Monday Night🕕 6:00pm–7:00pm💲 Only $25.00 per lesson✔️ Includes admission\, skate rental\, and lesson🔞 18+ with valid ID required \nStick around after your lesson and keep the good vibes going! 🎶🛼Skaters are welcome to stay for our Old School Adult Skate from 7:00pm–11:00pm — featuring classic jams and smooth roller-rink energy.🔞 Must be 25+ for the Adult Skate \nGet your Tickets Here!  \nWhether you’re coming solo or with friends\, Monday nights are the perfect time to learn\, skate\, and unwind. Lace up and roll into your new favorite weekly routine!
URL:https://www.unitedskates.com/wickliffe/event/adult-skate-lessons-8/2026-03-23/
CATEGORIES:Adult Events,Lessons
ATTACH;FMTTYPE=image/jpeg:https://unitedskates-assets.sfo3.digitaloceanspaces.com/wp-content/uploads/sites/12/2026/01/Adult_Skating_Lessons_8.5x11.jpg
END:VEVENT
BEGIN:VEVENT
DTSTART;TZID=America/New_York:20260328T093000
DTEND;TZID=America/New_York:20260328T103000
DTSTAMP:20260421T184101
CREATED:20250808T210858Z
LAST-MODIFIED:20260327T185603Z
UID:23287-1774690200-1774693800@www.unitedskates.com
SUMMARY:Skate Lessons
DESCRIPTION:🛼✨ Learn to Skate & Stay to Play! ✨🛼 \nReady to roll? Our Skate Lessons kick off Saturday\, September 6th from 9:30am – 10:30am! \n💲 Only $16.00 – includes skate rental!🎯 Perfect for all ages and skill levels🎁 BONUS: Stay FREE for our public skate session from 10:30am – 12:30pm! \nWhether it’s your first time on wheels or you’re ready to sharpen your skills\, our friendly instructors will have you skating with confidence in no time. \nEvery Saturday Morning!! \n🕤 Lessons: 9:30am – 10:30am🎉 FREE Public Skate: 10:30am – 12:30pm \nDon’t just watch the fun—be part of it! 🛼💙 \nLesson Tickets Here!
URL:https://www.unitedskates.com/wickliffe/event/skate-lessons-5/2026-03-28/
CATEGORIES:Lessons
ATTACH;FMTTYPE=image/jpeg:https://unitedskates-assets.sfo3.digitaloceanspaces.com/wp-content/uploads/sites/12/2025/08/Skate-Lessons-page-001-2-scaled.jpg
END:VEVENT
END:VCALENDAR