BEGIN:VCALENDAR
VERSION:2.0
PRODID:-//Rink 11 - Wickliffe - ECPv6.15.20//NONSGML v1.0//EN
CALSCALE:GREGORIAN
METHOD:PUBLISH
X-ORIGINAL-URL:https://www.unitedskates.com/wickliffe
X-WR-CALDESC:Events for Rink 11 - Wickliffe
REFRESH-INTERVAL;VALUE=DURATION:PT1H
X-Robots-Tag:noindex
X-PUBLISHED-TTL:PT1H
BEGIN:VTIMEZONE
TZID:America/New_York
BEGIN:DAYLIGHT
TZOFFSETFROM:-0500
TZOFFSETTO:-0400
TZNAME:EDT
DTSTART:20240310T070000
END:DAYLIGHT
BEGIN:STANDARD
TZOFFSETFROM:-0400
TZOFFSETTO:-0500
TZNAME:EST
DTSTART:20241103T060000
END:STANDARD
BEGIN:DAYLIGHT
TZOFFSETFROM:-0500
TZOFFSETTO:-0400
TZNAME:EDT
DTSTART:20250309T070000
END:DAYLIGHT
BEGIN:STANDARD
TZOFFSETFROM:-0400
TZOFFSETTO:-0500
TZNAME:EST
DTSTART:20251102T060000
END:STANDARD
BEGIN:DAYLIGHT
TZOFFSETFROM:-0500
TZOFFSETTO:-0400
TZNAME:EDT
DTSTART:20260308T070000
END:DAYLIGHT
BEGIN:STANDARD
TZOFFSETFROM:-0400
TZOFFSETTO:-0500
TZNAME:EST
DTSTART:20261101T060000
END:STANDARD
END:VTIMEZONE
BEGIN:VEVENT
DTSTART;TZID=America/New_York:20251201T180000
DTEND;TZID=America/New_York:20251201T190000
DTSTAMP:20260423T133137
CREATED:20251029T160701Z
LAST-MODIFIED:20251208T200954Z
UID:22379-1764612000-1764615600@www.unitedskates.com
SUMMARY:Adult Skate Lessons
DESCRIPTION:🎉 ADULT SKATE LESSONS ARE BACK! 🛼✨ \nReady to roll into something fun this season? Our Adult Skate Lessons are the perfect way to learn new skills\, boost your confidence\, and have a great time on the rink! \n📅 When: Every Monday | 6:00pm – 7:00pm💲 Only $100.00 for 4 weeks! \n🌀 Session Dates: \n\n\nSession 1: November 3rd – November 24th \n\n\nSession 2: December 1st – December 22nd \n\n\nSession 3: December 29th – January 19th \n\n\nWhether you’re a total beginner or brushing up on your skills\, our instructors will help you glide with confidence! \n👉 Stop in to register prior to your session!Spots fill up fast — don’t miss your chance to roll with us this season!
URL:https://www.unitedskates.com/wickliffe/event/adult-skate-lessons-7/2025-12-01/
CATEGORIES:Adult Events,Lessons
ATTACH;FMTTYPE=image/jpeg:https://unitedskates-assets.sfo3.digitaloceanspaces.com/wp-content/uploads/sites/12/2025/10/fall-and-winter-adult-scaled.jpg
END:VEVENT
BEGIN:VEVENT
DTSTART;TZID=America/New_York:20251206T093000
DTEND;TZID=America/New_York:20251206T103000
DTSTAMP:20260423T133137
CREATED:20250808T210858Z
LAST-MODIFIED:20260327T185558Z
UID:21958-1765013400-1765017000@www.unitedskates.com
SUMMARY:Skate Lessons
DESCRIPTION:🛼✨ Learn to Skate & Stay to Play! ✨🛼 \nReady to roll? Our Skate Lessons kick off Saturday\, September 6th from 9:30am – 10:30am! \n💲 Only $16.00 – includes skate rental!🎯 Perfect for all ages and skill levels🎁 BONUS: Stay FREE for our public skate session from 10:30am – 12:30pm! \nWhether it’s your first time on wheels or you’re ready to sharpen your skills\, our friendly instructors will have you skating with confidence in no time. \nEvery Saturday Morning!! \n🕤 Lessons: 9:30am – 10:30am🎉 FREE Public Skate: 10:30am – 12:30pm \nDon’t just watch the fun—be part of it! 🛼💙 \nLesson Tickets Here!
URL:https://www.unitedskates.com/wickliffe/event/skate-lessons-5/2025-12-06/
CATEGORIES:Lessons
ATTACH;FMTTYPE=image/jpeg:https://unitedskates-assets.sfo3.digitaloceanspaces.com/wp-content/uploads/sites/12/2025/08/Skate-Lessons-page-001-2-scaled.jpg
END:VEVENT
BEGIN:VEVENT
DTSTART;TZID=America/New_York:20251213T093000
DTEND;TZID=America/New_York:20251213T103000
DTSTAMP:20260423T133137
CREATED:20250808T210858Z
LAST-MODIFIED:20260327T185558Z
UID:21959-1765618200-1765621800@www.unitedskates.com
SUMMARY:Skate Lessons
DESCRIPTION:🛼✨ Learn to Skate & Stay to Play! ✨🛼 \nReady to roll? Our Skate Lessons kick off Saturday\, September 6th from 9:30am – 10:30am! \n💲 Only $16.00 – includes skate rental!🎯 Perfect for all ages and skill levels🎁 BONUS: Stay FREE for our public skate session from 10:30am – 12:30pm! \nWhether it’s your first time on wheels or you’re ready to sharpen your skills\, our friendly instructors will have you skating with confidence in no time. \nEvery Saturday Morning!! \n🕤 Lessons: 9:30am – 10:30am🎉 FREE Public Skate: 10:30am – 12:30pm \nDon’t just watch the fun—be part of it! 🛼💙 \nLesson Tickets Here!
URL:https://www.unitedskates.com/wickliffe/event/skate-lessons-5/2025-12-13/
CATEGORIES:Lessons
ATTACH;FMTTYPE=image/jpeg:https://unitedskates-assets.sfo3.digitaloceanspaces.com/wp-content/uploads/sites/12/2025/08/Skate-Lessons-page-001-2-scaled.jpg
END:VEVENT
BEGIN:VEVENT
DTSTART;TZID=America/New_York:20251215T180000
DTEND;TZID=America/New_York:20251215T190000
DTSTAMP:20260423T133137
CREATED:20251029T160701Z
LAST-MODIFIED:20251208T200955Z
UID:22381-1765821600-1765825200@www.unitedskates.com
SUMMARY:Adult Skate Lessons
DESCRIPTION:🎉 ADULT SKATE LESSONS ARE BACK! 🛼✨ \nReady to roll into something fun this season? Our Adult Skate Lessons are the perfect way to learn new skills\, boost your confidence\, and have a great time on the rink! \n📅 When: Every Monday | 6:00pm – 7:00pm💲 Only $100.00 for 4 weeks! \n🌀 Session Dates: \n\n\nSession 1: November 3rd – November 24th \n\n\nSession 2: December 1st – December 22nd \n\n\nSession 3: December 29th – January 19th \n\n\nWhether you’re a total beginner or brushing up on your skills\, our instructors will help you glide with confidence! \n👉 Stop in to register prior to your session!Spots fill up fast — don’t miss your chance to roll with us this season!
URL:https://www.unitedskates.com/wickliffe/event/adult-skate-lessons-7/2025-12-15/
CATEGORIES:Adult Events,Lessons
ATTACH;FMTTYPE=image/jpeg:https://unitedskates-assets.sfo3.digitaloceanspaces.com/wp-content/uploads/sites/12/2025/10/fall-and-winter-adult-scaled.jpg
END:VEVENT
BEGIN:VEVENT
DTSTART;TZID=America/New_York:20251220T093000
DTEND;TZID=America/New_York:20251220T103000
DTSTAMP:20260423T133137
CREATED:20250808T210858Z
LAST-MODIFIED:20260327T185558Z
UID:23273-1766223000-1766226600@www.unitedskates.com
SUMMARY:Skate Lessons
DESCRIPTION:🛼✨ Learn to Skate & Stay to Play! ✨🛼 \nReady to roll? Our Skate Lessons kick off Saturday\, September 6th from 9:30am – 10:30am! \n💲 Only $16.00 – includes skate rental!🎯 Perfect for all ages and skill levels🎁 BONUS: Stay FREE for our public skate session from 10:30am – 12:30pm! \nWhether it’s your first time on wheels or you’re ready to sharpen your skills\, our friendly instructors will have you skating with confidence in no time. \nEvery Saturday Morning!! \n🕤 Lessons: 9:30am – 10:30am🎉 FREE Public Skate: 10:30am – 12:30pm \nDon’t just watch the fun—be part of it! 🛼💙 \nLesson Tickets Here!
URL:https://www.unitedskates.com/wickliffe/event/skate-lessons-5/2025-12-20/
CATEGORIES:Lessons
ATTACH;FMTTYPE=image/jpeg:https://unitedskates-assets.sfo3.digitaloceanspaces.com/wp-content/uploads/sites/12/2025/08/Skate-Lessons-page-001-2-scaled.jpg
END:VEVENT
BEGIN:VEVENT
DTSTART;TZID=America/New_York:20251222T180000
DTEND;TZID=America/New_York:20251222T190000
DTSTAMP:20260423T133137
CREATED:20251029T160701Z
LAST-MODIFIED:20251208T200955Z
UID:22382-1766426400-1766430000@www.unitedskates.com
SUMMARY:Adult Skate Lessons
DESCRIPTION:🎉 ADULT SKATE LESSONS ARE BACK! 🛼✨ \nReady to roll into something fun this season? Our Adult Skate Lessons are the perfect way to learn new skills\, boost your confidence\, and have a great time on the rink! \n📅 When: Every Monday | 6:00pm – 7:00pm💲 Only $100.00 for 4 weeks! \n🌀 Session Dates: \n\n\nSession 1: November 3rd – November 24th \n\n\nSession 2: December 1st – December 22nd \n\n\nSession 3: December 29th – January 19th \n\n\nWhether you’re a total beginner or brushing up on your skills\, our instructors will help you glide with confidence! \n👉 Stop in to register prior to your session!Spots fill up fast — don’t miss your chance to roll with us this season!
URL:https://www.unitedskates.com/wickliffe/event/adult-skate-lessons-7/2025-12-22/
CATEGORIES:Adult Events,Lessons
ATTACH;FMTTYPE=image/jpeg:https://unitedskates-assets.sfo3.digitaloceanspaces.com/wp-content/uploads/sites/12/2025/10/fall-and-winter-adult-scaled.jpg
END:VEVENT
BEGIN:VEVENT
DTSTART;TZID=America/New_York:20251227T093000
DTEND;TZID=America/New_York:20251227T103000
DTSTAMP:20260423T133137
CREATED:20250808T210858Z
LAST-MODIFIED:20260327T185559Z
UID:23274-1766827800-1766831400@www.unitedskates.com
SUMMARY:Skate Lessons
DESCRIPTION:🛼✨ Learn to Skate & Stay to Play! ✨🛼 \nReady to roll? Our Skate Lessons kick off Saturday\, September 6th from 9:30am – 10:30am! \n💲 Only $16.00 – includes skate rental!🎯 Perfect for all ages and skill levels🎁 BONUS: Stay FREE for our public skate session from 10:30am – 12:30pm! \nWhether it’s your first time on wheels or you’re ready to sharpen your skills\, our friendly instructors will have you skating with confidence in no time. \nEvery Saturday Morning!! \n🕤 Lessons: 9:30am – 10:30am🎉 FREE Public Skate: 10:30am – 12:30pm \nDon’t just watch the fun—be part of it! 🛼💙 \nLesson Tickets Here!
URL:https://www.unitedskates.com/wickliffe/event/skate-lessons-5/2025-12-27/
CATEGORIES:Lessons
ATTACH;FMTTYPE=image/jpeg:https://unitedskates-assets.sfo3.digitaloceanspaces.com/wp-content/uploads/sites/12/2025/08/Skate-Lessons-page-001-2-scaled.jpg
END:VEVENT
BEGIN:VEVENT
DTSTART;TZID=America/New_York:20251229T180000
DTEND;TZID=America/New_York:20251229T190000
DTSTAMP:20260423T133137
CREATED:20251029T160701Z
LAST-MODIFIED:20251208T200955Z
UID:22383-1767031200-1767034800@www.unitedskates.com
SUMMARY:Adult Skate Lessons
DESCRIPTION:🎉 ADULT SKATE LESSONS ARE BACK! 🛼✨ \nReady to roll into something fun this season? Our Adult Skate Lessons are the perfect way to learn new skills\, boost your confidence\, and have a great time on the rink! \n📅 When: Every Monday | 6:00pm – 7:00pm💲 Only $100.00 for 4 weeks! \n🌀 Session Dates: \n\n\nSession 1: November 3rd – November 24th \n\n\nSession 2: December 1st – December 22nd \n\n\nSession 3: December 29th – January 19th \n\n\nWhether you’re a total beginner or brushing up on your skills\, our instructors will help you glide with confidence! \n👉 Stop in to register prior to your session!Spots fill up fast — don’t miss your chance to roll with us this season!
URL:https://www.unitedskates.com/wickliffe/event/adult-skate-lessons-7/2025-12-29/
CATEGORIES:Adult Events,Lessons
ATTACH;FMTTYPE=image/jpeg:https://unitedskates-assets.sfo3.digitaloceanspaces.com/wp-content/uploads/sites/12/2025/10/fall-and-winter-adult-scaled.jpg
END:VEVENT
END:VCALENDAR