BEGIN:VCALENDAR
VERSION:2.0
PRODID:-//Rink 11 - Wickliffe - ECPv6.15.20//NONSGML v1.0//EN
CALSCALE:GREGORIAN
METHOD:PUBLISH
X-ORIGINAL-URL:https://www.unitedskates.com/wickliffe
X-WR-CALDESC:Events for Rink 11 - Wickliffe
REFRESH-INTERVAL;VALUE=DURATION:PT1H
X-Robots-Tag:noindex
X-PUBLISHED-TTL:PT1H
BEGIN:VTIMEZONE
TZID:America/New_York
BEGIN:DAYLIGHT
TZOFFSETFROM:-0500
TZOFFSETTO:-0400
TZNAME:EDT
DTSTART:20220313T070000
END:DAYLIGHT
BEGIN:STANDARD
TZOFFSETFROM:-0400
TZOFFSETTO:-0500
TZNAME:EST
DTSTART:20221106T060000
END:STANDARD
BEGIN:DAYLIGHT
TZOFFSETFROM:-0500
TZOFFSETTO:-0400
TZNAME:EDT
DTSTART:20230312T070000
END:DAYLIGHT
BEGIN:STANDARD
TZOFFSETFROM:-0400
TZOFFSETTO:-0500
TZNAME:EST
DTSTART:20231105T060000
END:STANDARD
BEGIN:DAYLIGHT
TZOFFSETFROM:-0500
TZOFFSETTO:-0400
TZNAME:EDT
DTSTART:20240310T070000
END:DAYLIGHT
BEGIN:STANDARD
TZOFFSETFROM:-0400
TZOFFSETTO:-0500
TZNAME:EST
DTSTART:20241103T060000
END:STANDARD
END:VTIMEZONE
BEGIN:VEVENT
DTSTART;TZID=America/New_York:20230916T091500
DTEND;TZID=America/New_York:20230916T100000
DTSTAMP:20260423T132400
CREATED:20230811T201312Z
LAST-MODIFIED:20231020T155437Z
UID:13703-1694855700-1694858400@www.unitedskates.com
SUMMARY:Children Skate School and Lessons
DESCRIPTION:Children Skating Lessons are Here! \nWe are now offering TWO Amazing Options to choose from! \nOption 1 Skate School: \n\nTaught for 4 consecutive weeks-Start dates 11/11\, 12/02\, 01/06\, 02/02\, 3/23 and 4/30\nTaught in smaller groups and gets more of the one-on-one attention.\nPre-Registration is Required.\nCan stay and skate for FREE for the Saturday Morning Skate 10:00am-12:00pm\nOnly $75.00 includes admission\, skate rental\, skate instruction and skating fee for the next session.\n\nOption 2 Skating Lessons: \n\nWeekly skate floor practice with instruction.\nNo pre-registration is required.\nStay over fee of $5.00 if you want to skate during the Saturday Morning Skate from 10:00am-12:00pm\nOnly $15.00 per lesson.\n\n 
URL:https://www.unitedskates.com/wickliffe/event/skate-school/2023-09-16/
CATEGORIES:Lessons
ATTACH;FMTTYPE=image/jpeg:https://unitedskates-assets.sfo3.digitaloceanspaces.com/wp-content/uploads/sites/12/2023/08/Skate-Lesson-and-Skate-School-2023-page-001-scaled.jpg
END:VEVENT
BEGIN:VEVENT
DTSTART;TZID=America/New_York:20230918T180000
DTEND;TZID=America/New_York:20230918T190000
DTSTAMP:20260423T132400
CREATED:20230829T204520Z
LAST-MODIFIED:20230929T175843Z
UID:13748-1695060000-1695063600@www.unitedskates.com
SUMMARY:Adult Skate Lessons
DESCRIPTION:Adult Skate Lessons are back and staying! \nThey are on a brand new night! \nEvery Monday Night from 6:00pm-7:00pm \nLessons taught by the one and only Eric Tate @sh_ow_time \nLessons are 4 weeks long and only $100.00 \nStart Dates are as follows: \nMonday\, October 16th \nMonday\, November 6th \nMonday\, January 22nd \nMonday\, February 26th \nPre registration is required-Call us today to register 440-944-5301 \nPayment is due at the time of registration \n 
URL:https://www.unitedskates.com/wickliffe/event/adult-skate-lessons/2023-09-18/
CATEGORIES:Adult Events,Lessons
ATTACH;FMTTYPE=image/jpeg:https://unitedskates-assets.sfo3.digitaloceanspaces.com/wp-content/uploads/sites/12/2023/08/adult-skate-lessons-rink-11-v3-scaled.jpg
END:VEVENT
END:VCALENDAR