BEGIN:VCALENDAR
VERSION:2.0
PRODID:-//Rink 11 - Wickliffe - ECPv6.15.20//NONSGML v1.0//EN
CALSCALE:GREGORIAN
METHOD:PUBLISH
X-ORIGINAL-URL:https://www.unitedskates.com/wickliffe
X-WR-CALDESC:Events for Rink 11 - Wickliffe
REFRESH-INTERVAL;VALUE=DURATION:PT1H
X-Robots-Tag:noindex
X-PUBLISHED-TTL:PT1H
BEGIN:VTIMEZONE
TZID:America/New_York
BEGIN:DAYLIGHT
TZOFFSETFROM:-0500
TZOFFSETTO:-0400
TZNAME:EDT
DTSTART:20250309T070000
END:DAYLIGHT
BEGIN:STANDARD
TZOFFSETFROM:-0400
TZOFFSETTO:-0500
TZNAME:EST
DTSTART:20251102T060000
END:STANDARD
BEGIN:DAYLIGHT
TZOFFSETFROM:-0500
TZOFFSETTO:-0400
TZNAME:EDT
DTSTART:20260308T070000
END:DAYLIGHT
BEGIN:STANDARD
TZOFFSETFROM:-0400
TZOFFSETTO:-0500
TZNAME:EST
DTSTART:20261101T060000
END:STANDARD
BEGIN:DAYLIGHT
TZOFFSETFROM:-0500
TZOFFSETTO:-0400
TZNAME:EDT
DTSTART:20270314T070000
END:DAYLIGHT
BEGIN:STANDARD
TZOFFSETFROM:-0400
TZOFFSETTO:-0500
TZNAME:EST
DTSTART:20271107T060000
END:STANDARD
END:VTIMEZONE
BEGIN:VEVENT
DTSTART;TZID=America/New_York:20260208T120000
DTEND;TZID=America/New_York:20260208T143000
DTSTAMP:20260420T013858
CREATED:20260106T182310Z
LAST-MODIFIED:20260107T215934Z
UID:23209-1770552000-1770561000@www.unitedskates.com
SUMMARY:Pre Superbowl Party
DESCRIPTION:It’s SUPER BOWL SUNDAY — and we’re kicking things off on the right SKATE! 🎉🔥Join us for our Pre–Super Bowl Party and get ready for an afternoon full of fun\, football spirit\, and skating excitement before the big game! \n📅 Sunday\, February 8th🕛 12:00pm–2:30pm \n🏈 Football-themed prizes all session long🍔 Special café deals & game-day snacks🎶 High-energy music & family fun on the rink \n🛼 Admission at the door: $14.00👟 Skate Rental: $6.00💻 Online Admission $12.00! Buy Here! \n🎉 Birthday Parties available — book yours now and celebrate in Super Bowl style! Book Here!
URL:https://www.unitedskates.com/wickliffe/event/pre-superbowl-party-2/
CATEGORIES:Family Events,Public Skates,Special Events
ATTACH;FMTTYPE=image/png:https://unitedskates-assets.sfo3.digitaloceanspaces.com/wp-content/uploads/sites/12/2026/01/Super-Bowl-Roller-Skate-1.png
END:VEVENT
BEGIN:VEVENT
DTSTART;TZID=America/New_York:20260208T150000
DTEND;TZID=America/New_York:20260208T173000
DTSTAMP:20260420T013858
CREATED:20250805T183341Z
LAST-MODIFIED:20260401T191000Z
UID:22647-1770562800-1770571800@www.unitedskates.com
SUMMARY:Sunday Funday/Birthday Parties
DESCRIPTION:Book your Birthday Party! Birthday Parties available from 3:00pm-5:30pm \nAdmission at the door $14.00 \nAdmission Online $12.00 \nSkate Rental $6.00 \nFeaturing Pop and R&B Music Mix \nGet your Tickets Here! BUY HERE! \nAll 3–17-year-olds must pay admission and skate rental upon entering the facility.  Adults 18+ not skating may enter for free. All 12–17-year-olds must come into our facility with a parent or guardian that is 25 years or age or older. We are only allowing two (2) 12–17-year-olds per one parent or guardian 25 and over. The parent/guardian must stay with the teenager the entire time while in the facility. If the parent/guardian leaves the facility the teen must leave with parent/guardian. No drop off of teens or children into our facility is permitted. No drop off of teens or children to another parent into our facility is permitted. Teenagers 12-17 with their own skates are permitted without a parent if they skate the entire time. Teens asked to keep skates on repeatedly will be asked to leave with no refund.
URL:https://www.unitedskates.com/wickliffe/event/sunday-funday-birthday-parties-6/2026-02-08/
CATEGORIES:Family Events,Special Events
ATTACH;FMTTYPE=image/jpeg:https://unitedskates-assets.sfo3.digitaloceanspaces.com/wp-content/uploads/sites/12/2023/07/800px-Sunday-Funday-2022-1200x900-1.jpg
END:VEVENT
BEGIN:VEVENT
DTSTART;TZID=America/New_York:20260208T180000
DTEND;TZID=America/New_York:20260208T203000
DTSTAMP:20260420T013858
CREATED:20251213T004941Z
LAST-MODIFIED:20260127T170551Z
UID:23148-1770573600-1770582600@www.unitedskates.com
SUMMARY:Double Days
DESCRIPTION:🔥🎉 DOUBLE DAYS JUST HIT FEBRUARY! 🎉🔥Get READY because Sundays are about to get BIGGER\, BETTER\, and DOUBLE the FUN! \nDon’t miss out on the hottest deal of the month —EVERY SUNDAY in February from February 1st through February 22nd🕡 6:00pm-8:30pm \n🛼 Admission at the door: $14.00🛼 Skate Rental: $6.00 \nAnd that’s not all… we’re loading the entire session with DOUBLE DAY SPECIALS that will keep the fun rolling all night long! \n✨ Double Day Deals Include:🥤 Buy a souvenir ICEE → GET A FREE REFILL!🎮 Buy a 50-credit game card → GET 100 GAME CREDITS! \n🌟Buy a Game of Laser Tag→ GET ONE FREE! (per person\, cannot be shared). \n💥 AND MORE surprises every session! \nFebruary Sundays = FUN TIMES TWO.Bring your friends\, bring the energy\, and don’t miss a single night of DOUBLE DAY excitement! \n🔥🛼 Double the deals. Double the fun. All month long! 🛼🔥 \nOnline Admission $12.00 Buy Here!
URL:https://www.unitedskates.com/wickliffe/event/double-days/2026-02-08/
CATEGORIES:Family Events,Public Skates,Special Events
ATTACH;FMTTYPE=image/png:https://unitedskates-assets.sfo3.digitaloceanspaces.com/wp-content/uploads/sites/12/2025/12/Double-Day-Sundays-.png
END:VEVENT
END:VCALENDAR