BEGIN:VCALENDAR
VERSION:2.0
PRODID:-//Rink 11 - Wickliffe - ECPv6.15.20//NONSGML v1.0//EN
CALSCALE:GREGORIAN
METHOD:PUBLISH
X-ORIGINAL-URL:https://www.unitedskates.com/wickliffe
X-WR-CALDESC:Events for Rink 11 - Wickliffe
REFRESH-INTERVAL;VALUE=DURATION:PT1H
X-Robots-Tag:noindex
X-PUBLISHED-TTL:PT1H
BEGIN:VTIMEZONE
TZID:America/New_York
BEGIN:DAYLIGHT
TZOFFSETFROM:-0500
TZOFFSETTO:-0400
TZNAME:EDT
DTSTART:20250309T070000
END:DAYLIGHT
BEGIN:STANDARD
TZOFFSETFROM:-0400
TZOFFSETTO:-0500
TZNAME:EST
DTSTART:20251102T060000
END:STANDARD
BEGIN:DAYLIGHT
TZOFFSETFROM:-0500
TZOFFSETTO:-0400
TZNAME:EDT
DTSTART:20260308T070000
END:DAYLIGHT
BEGIN:STANDARD
TZOFFSETFROM:-0400
TZOFFSETTO:-0500
TZNAME:EST
DTSTART:20261101T060000
END:STANDARD
BEGIN:DAYLIGHT
TZOFFSETFROM:-0500
TZOFFSETTO:-0400
TZNAME:EDT
DTSTART:20270314T070000
END:DAYLIGHT
BEGIN:STANDARD
TZOFFSETFROM:-0400
TZOFFSETTO:-0500
TZNAME:EST
DTSTART:20271107T060000
END:STANDARD
END:VTIMEZONE
BEGIN:VEVENT
DTSTART;TZID=America/New_York:20260318T120000
DTEND;TZID=America/New_York:20260405T190000
DTSTAMP:20260419T105527
CREATED:20260305T124312Z
LAST-MODIFIED:20260305T124312Z
UID:24000-1773835200-1775415600@www.unitedskates.com
SUMMARY:Spring Break Skate Schedule | March 18 – April 5
DESCRIPTION:Spring Break fun is rolling into United Skates Wickliffe! Join us for exciting skating sessions\, themed events\, glow skates\, family skate times\, and special activities happening throughout the break. It’s the perfect place for kids and families to stay active and make great memories while school is out—check the full schedule and plan your visit today! 🛼✨
URL:https://www.unitedskates.com/wickliffe/event/spring-break-skate-schedule-march-18-april-5/
CATEGORIES:Adult Events,Family Events,Public Skates,Special Events
ATTACH;FMTTYPE=image/jpeg:https://unitedskates-assets.sfo3.digitaloceanspaces.com/wp-content/uploads/sites/12/2026/02/11-Spring-Break-2026-front.jpg
END:VEVENT
BEGIN:VEVENT
DTSTART;TZID=America/New_York:20260405T210000
DTEND;TZID=America/New_York:20260406T013000
DTSTAMP:20260419T105527
CREATED:20260201T223720Z
LAST-MODIFIED:20260204T143010Z
UID:23780-1775422800-1775439000@www.unitedskates.com
SUMMARY:Bad Bunny Adult Skate
DESCRIPTION:🐰🔥🛼 IT’S FINALLY HERE — THE ANNUAL BAD BUNNY ADULT SKATE! 🛼🔥🐰 \nEaster may be over for the kids\, but the celebration is just getting started for the adults! Join us for a late‑night skate party featuring your favorite Bad Bunny vibes and grown‑up fun all night long. \n📅 Sunday\, April 5th⏰ 9:00pm–1:30am \n💲 Admission: $13.00🛼 Skate Rental: $6.00🔞 18+ event — valid ID required \n🎟️ Secure your spots online — buy here! \n✨ Lace up your skates\, bring your crew\, and roll to the rhythm of Bad Bunny and other great music — all night long!
URL:https://www.unitedskates.com/wickliffe/event/bad-bunny-adult-skate-3/
CATEGORIES:Adult Events,Special Events
ATTACH;FMTTYPE=image/png:https://unitedskates-assets.sfo3.digitaloceanspaces.com/wp-content/uploads/sites/12/2026/02/Bad-Bunny-Skate-1-1.png
END:VEVENT
BEGIN:VEVENT
DTSTART;TZID=America/New_York:20260406T180000
DTEND;TZID=America/New_York:20260406T190000
DTSTAMP:20260419T105527
CREATED:20260121T203235Z
LAST-MODIFIED:20260121T203235Z
UID:24347-1775498400-1775502000@www.unitedskates.com
SUMMARY:Adult Skate Lessons
DESCRIPTION:🛼✨ ADULT SKATING LESSONS – MONDAY NIGHTS ✨🛼 \nReady to level up your skating skills or finally learn how to roll with confidence? Join us for Adult Skating Lessons designed just for adults in a fun\, supportive\, and no-pressure environment! Whether you’re a beginner or looking to sharpen your moves\, our experienced instructors will help you find your rhythm on wheels. \n📅 Every Monday Night🕕 6:00pm–7:00pm💲 Only $25.00 per lesson✔️ Includes admission\, skate rental\, and lesson🔞 18+ with valid ID required \nStick around after your lesson and keep the good vibes going! 🎶🛼Skaters are welcome to stay for our Old School Adult Skate from 7:00pm–11:00pm — featuring classic jams and smooth roller-rink energy.🔞 Must be 25+ for the Adult Skate \nGet your Tickets Here!  \nWhether you’re coming solo or with friends\, Monday nights are the perfect time to learn\, skate\, and unwind. Lace up and roll into your new favorite weekly routine!
URL:https://www.unitedskates.com/wickliffe/event/adult-skate-lessons-8/2026-04-06/
CATEGORIES:Adult Events,Lessons
ATTACH;FMTTYPE=image/jpeg:https://unitedskates-assets.sfo3.digitaloceanspaces.com/wp-content/uploads/sites/12/2026/01/Adult_Skating_Lessons_8.5x11.jpg
END:VEVENT
BEGIN:VEVENT
DTSTART;TZID=America/New_York:20260406T190000
DTEND;TZID=America/New_York:20260406T230000
DTSTAMP:20260419T105527
CREATED:20241023T010008Z
LAST-MODIFIED:20260403T195642Z
UID:22763-1775502000-1775516400@www.unitedskates.com
SUMMARY:Old School Adult Skate
DESCRIPTION:We are taking it back Old School every Monday \nAdults 25+ come skate your Mondays Away \n7:00pm-11:00pm \nFeaturing 80’s\, 90’s\, Jazz and Skate Music  \nMusic spun by DJ Ivory  \nAdmission $12.00 \nSkate Rental $6.00 \n25+ with valid ID \nSkip the line-buy your tickets online! BUY HERE!
URL:https://www.unitedskates.com/wickliffe/event/old-school-adult-skate-4/2026-04-06/
CATEGORIES:Adult Events,Public Skates
ATTACH;FMTTYPE=image/jpeg:https://unitedskates-assets.sfo3.digitaloceanspaces.com/wp-content/uploads/sites/12/2024/10/Old-School-Adult-Skate-rink11-v3.jpg
END:VEVENT
BEGIN:VEVENT
DTSTART;TZID=America/New_York:20260410T213000
DTEND;TZID=America/New_York:20260411T000000
DTSTAMP:20260419T105527
CREATED:20251212T235228Z
LAST-MODIFIED:20260402T135515Z
UID:23133-1775856600-1775865600@www.unitedskates.com
SUMMARY:Emo Adult Skate
DESCRIPTION:🖤🛼 EMO ADULT SKATE NIGHTS 🛼🖤Every First Friday of the Month18+ ONLY with Valid ID \nIt’s not a phase… it’s a whole vibe.Get ready to relive the glory days of eyeliner\, heartbreak anthems\, and skatin’ through all the emotions — because Emo Adult Skate Nights are rolling in🎶💔🔥 \n🎧 All session long\, we’re blasting your favorite punk & alternative hits:💀 My Chemical Romance💔 Panic! At the Disco🔥 The Used🎤 Paramore🖊️ Simple Plan…and so much more that’ll take you straight back to your teenage bedroom. \n🖤 Come dressed in your best emo fashion — black on black\, studded belts\, band tees\, Converse\, and eyeliner for days📸 Blacklight photo ops + moody lighting to set the perfect scene🎟️ 18+ ONLY — Valid ID required at the door🕘 Every Friday Night 9:30pm-12:00am💲 Admission $12.00 Skate Rental $6.00 \nScream\, skate\, and sing your heart out. \nTickets Here!
URL:https://www.unitedskates.com/wickliffe/event/emo-adult-skate-7/2026-04-10/
CATEGORIES:Adult Events,Special Events
ATTACH;FMTTYPE=image/png:https://unitedskates-assets.sfo3.digitaloceanspaces.com/wp-content/uploads/sites/12/2025/12/Emo-Adult-Night-Calendar-2.png
END:VEVENT
END:VCALENDAR