BEGIN:VCALENDAR
VERSION:2.0
PRODID:-//Rink 11 - Wickliffe - ECPv6.15.20//NONSGML v1.0//EN
CALSCALE:GREGORIAN
METHOD:PUBLISH
X-WR-CALNAME:Rink 11 - Wickliffe
X-ORIGINAL-URL:https://www.unitedskates.com/wickliffe
X-WR-CALDESC:Events for Rink 11 - Wickliffe
REFRESH-INTERVAL;VALUE=DURATION:PT1H
X-Robots-Tag:noindex
X-PUBLISHED-TTL:PT1H
BEGIN:VTIMEZONE
TZID:America/New_York
BEGIN:DAYLIGHT
TZOFFSETFROM:-0500
TZOFFSETTO:-0400
TZNAME:EDT
DTSTART:20250309T070000
END:DAYLIGHT
BEGIN:STANDARD
TZOFFSETFROM:-0400
TZOFFSETTO:-0500
TZNAME:EST
DTSTART:20251102T060000
END:STANDARD
BEGIN:DAYLIGHT
TZOFFSETFROM:-0500
TZOFFSETTO:-0400
TZNAME:EDT
DTSTART:20260308T070000
END:DAYLIGHT
BEGIN:STANDARD
TZOFFSETFROM:-0400
TZOFFSETTO:-0500
TZNAME:EST
DTSTART:20261101T060000
END:STANDARD
BEGIN:DAYLIGHT
TZOFFSETFROM:-0500
TZOFFSETTO:-0400
TZNAME:EDT
DTSTART:20270314T070000
END:DAYLIGHT
BEGIN:STANDARD
TZOFFSETFROM:-0400
TZOFFSETTO:-0500
TZNAME:EST
DTSTART:20271107T060000
END:STANDARD
END:VTIMEZONE
BEGIN:VEVENT
DTSTART;TZID=America/New_York:20260118T210000
DTEND;TZID=America/New_York:20260119T020000
DTSTAMP:20260420T235855
CREATED:20251127T033228Z
LAST-MODIFIED:20251208T212744Z
UID:22918-1768770000-1768788000@www.unitedskates.com
SUMMARY:MLK Adult Late Night Skate
DESCRIPTION:🎉 KICK OFF MARTIN LUTHER KING JR. DAY ON THE RIGHT SKATE! 🎉🔥 Adult Late Night Skate 🔥 \nGet ready for an unforgettable night of music\, lights\, and nonstop skating energy! Celebrate MLK Day weekend with the ultimate Adults-Only Late Night Skate Party — where the vibes are high\, the floor is smooth\, and the fun lasts ALL night long! \n📅 Sunday\, January 18th🕤 9:00 PM – 2:00 AM💵 Admission: $13.00🛼 Skate Rental: $6.00🔞 18+ with valid ID required \nBring your friends\, lace up your skates\, and roll into the holiday with epic beats\, great people\, and the perfect late-night atmosphere. Don’t miss it — start your MLK Day celebration with style! 💥🛼✨ \nGet Tickets Here!
URL:https://www.unitedskates.com/wickliffe/event/mlk-adult-late-night-skate/
CATEGORIES:Adult Events,Special Events
ATTACH;FMTTYPE=image/jpeg:https://unitedskates-assets.sfo3.digitaloceanspaces.com/wp-content/uploads/sites/12/2025/11/MLK-adult-Skate-v2-page-001-scaled.jpg
END:VEVENT
BEGIN:VEVENT
DTSTART;TZID=America/New_York:20260119T180000
DTEND;TZID=America/New_York:20260119T190000
DTSTAMP:20260420T235855
CREATED:20251029T160701Z
LAST-MODIFIED:20251208T201004Z
UID:22386-1768845600-1768849200@www.unitedskates.com
SUMMARY:Adult Skate Lessons
DESCRIPTION:🎉 ADULT SKATE LESSONS ARE BACK! 🛼✨ \nReady to roll into something fun this season? Our Adult Skate Lessons are the perfect way to learn new skills\, boost your confidence\, and have a great time on the rink! \n📅 When: Every Monday | 6:00pm – 7:00pm💲 Only $100.00 for 4 weeks! \n🌀 Session Dates: \n\n\nSession 1: November 3rd – November 24th \n\n\nSession 2: December 1st – December 22nd \n\n\nSession 3: December 29th – January 19th \n\n\nWhether you’re a total beginner or brushing up on your skills\, our instructors will help you glide with confidence! \n👉 Stop in to register prior to your session!Spots fill up fast — don’t miss your chance to roll with us this season!
URL:https://www.unitedskates.com/wickliffe/event/adult-skate-lessons-7/2026-01-19/
CATEGORIES:Adult Events,Lessons
ATTACH;FMTTYPE=image/jpeg:https://unitedskates-assets.sfo3.digitaloceanspaces.com/wp-content/uploads/sites/12/2025/10/fall-and-winter-adult-scaled.jpg
END:VEVENT
BEGIN:VEVENT
DTSTART;TZID=America/New_York:20260119T190000
DTEND;TZID=America/New_York:20260119T230000
DTSTAMP:20260420T235855
CREATED:20251126T201745Z
LAST-MODIFIED:20251127T035049Z
UID:22865-1768849200-1768863600@www.unitedskates.com
SUMMARY:MLK Day Old School Skate
DESCRIPTION:🛼🎵 MLK OLD SCHOOL ADULT SKATE (25+ ONLY)! 🎵🛼Celebrate MLK Day the retro way! Grab your friends\, lace up your skates\, and roll to the beat of classic old-school hits at United Skates. \nThis session is for adults 25+ only — just bring your valid ID and get ready for an afternoon of nostalgia\, skating\, and good vibes. \n📅 Monday\, January 19th⏰ Time: 7:00pm-11:00pm💵 Admission: $12.00⛸️ Skate Rental: $6.00 \nDust off those skates\, enjoy the old-school tunes\, and make your MLK Day one to remember! \n✨ MLK Old School Skate — Where Classic Hits Meet Classic Skates! ✨ \nGet your Tickets Here!
URL:https://www.unitedskates.com/wickliffe/event/mlk-day-old-school-skate/
CATEGORIES:Adult Events,Special Events
ATTACH;FMTTYPE=image/jpeg:https://unitedskates-assets.sfo3.digitaloceanspaces.com/wp-content/uploads/sites/12/2025/11/MLK-ADULT-SKATE-2025-page-001-scaled.jpg
END:VEVENT
BEGIN:VEVENT
DTSTART;TZID=America/New_York:20260123T213000
DTEND;TZID=America/New_York:20260124T000000
DTSTAMP:20260420T235855
CREATED:20250805T194919Z
LAST-MODIFIED:20251127T030127Z
UID:21854-1769203800-1769212800@www.unitedskates.com
SUMMARY:90's Adult Skate
DESCRIPTION:🎉🛼 90s Adult Skate Night 🛼🎉18+ with Valid ID — Get Ready to Bust a Move! \nThrow on your flannel\, lace up those skates\, and step back into the decade of grunge\, boy bands\, and unforgettable hits! Our 90s Adult Skate Night is the perfect way to rewind\, relive\, and roll with all your favorite tunes. \n🎶 Skating all night to iconic 90s jams from: \n\n\nNirvana \n\n\nSpice Girls \n\n\nBackstreet Boys \n\n\nTLC \n\n\nBlink-182…and so many more! \n\n\n🛼 Neon lights and nostalgic vibes set the perfect scene🎤 Dress in your best 90s gear — think crop tops\, denim\, chokers\, and platform shoes!🎟️ 18+ ONLY — Valid ID Required at the door \n📅 Friday\, January 23rd🕘 9:30pm-12:00am💲Admission $12.00 Skate Rental $6.00 \nBring your crew\, your best dance moves\, and skate into the 90s night you won’t forget! \nBuy your Tickets Here!
URL:https://www.unitedskates.com/wickliffe/event/90s-adult-skate/
CATEGORIES:Adult Events,Public Skates,Special Events
ATTACH;FMTTYPE=image/jpeg:https://unitedskates-assets.sfo3.digitaloceanspaces.com/wp-content/uploads/sites/12/2025/08/v2-90s-Adult-Night-1.jpg
END:VEVENT
END:VCALENDAR