BEGIN:VCALENDAR
VERSION:2.0
PRODID:-//Rink 11 - Wickliffe - ECPv6.15.20//NONSGML v1.0//EN
CALSCALE:GREGORIAN
METHOD:PUBLISH
X-ORIGINAL-URL:https://www.unitedskates.com/wickliffe
X-WR-CALDESC:Events for Rink 11 - Wickliffe
REFRESH-INTERVAL;VALUE=DURATION:PT1H
X-Robots-Tag:noindex
X-PUBLISHED-TTL:PT1H
BEGIN:VTIMEZONE
TZID:America/New_York
BEGIN:DAYLIGHT
TZOFFSETFROM:-0500
TZOFFSETTO:-0400
TZNAME:EDT
DTSTART:20240310T070000
END:DAYLIGHT
BEGIN:STANDARD
TZOFFSETFROM:-0400
TZOFFSETTO:-0500
TZNAME:EST
DTSTART:20241103T060000
END:STANDARD
BEGIN:DAYLIGHT
TZOFFSETFROM:-0500
TZOFFSETTO:-0400
TZNAME:EDT
DTSTART:20250309T070000
END:DAYLIGHT
BEGIN:STANDARD
TZOFFSETFROM:-0400
TZOFFSETTO:-0500
TZNAME:EST
DTSTART:20251102T060000
END:STANDARD
BEGIN:DAYLIGHT
TZOFFSETFROM:-0500
TZOFFSETTO:-0400
TZNAME:EDT
DTSTART:20260308T070000
END:DAYLIGHT
BEGIN:STANDARD
TZOFFSETFROM:-0400
TZOFFSETTO:-0500
TZNAME:EST
DTSTART:20261101T060000
END:STANDARD
END:VTIMEZONE
BEGIN:VEVENT
DTSTART;TZID=America/New_York:20251221T213000
DTEND;TZID=America/New_York:20251222T020000
DTSTAMP:20260421T010504
CREATED:20251205T192815Z
LAST-MODIFIED:20251205T192815Z
UID:23014-1766352600-1766368800@www.unitedskates.com
SUMMARY:Christmas Pajama Adult Skate
DESCRIPTION:🎉🎄 GET READY FOR AN ADULT XMAS PAJAMA PARTY! 🎄🎉\nIt’s time to get cozy\, get festive\, and skate the night away! \nWear your favorite Christmas pajamas OR just come as you are — either way\, you’re in for an unforgettable adult night on the rink! 🎁✨ \n📅 Sunday\, December 21st🕘 9:30pm–2:00am💵 Admission: $13.00🛼 Skate Rental: $6.00🔞 18+ ONLY – Valid ID Required \n🎶 Holiday vibes🎄 Festive fun🔥 Late-night skating energy \nGrab your PJs\, your friends\, and your holiday spirit —🎅✨ This is THE adult Christmas party you won’t want to miss!
URL:https://www.unitedskates.com/wickliffe/event/christmas-pajama-adult-skate/
CATEGORIES:Adult Events,Special Events
ATTACH;FMTTYPE=image/jpeg:https://unitedskates-assets.sfo3.digitaloceanspaces.com/wp-content/uploads/sites/12/2025/12/Holiday-Pajama-Party-Celebration-Event-scaled.jpg
END:VEVENT
BEGIN:VEVENT
DTSTART;TZID=America/New_York:20251222T180000
DTEND;TZID=America/New_York:20251222T190000
DTSTAMP:20260421T010504
CREATED:20251029T160701Z
LAST-MODIFIED:20251208T200955Z
UID:22382-1766426400-1766430000@www.unitedskates.com
SUMMARY:Adult Skate Lessons
DESCRIPTION:🎉 ADULT SKATE LESSONS ARE BACK! 🛼✨ \nReady to roll into something fun this season? Our Adult Skate Lessons are the perfect way to learn new skills\, boost your confidence\, and have a great time on the rink! \n📅 When: Every Monday | 6:00pm – 7:00pm💲 Only $100.00 for 4 weeks! \n🌀 Session Dates: \n\n\nSession 1: November 3rd – November 24th \n\n\nSession 2: December 1st – December 22nd \n\n\nSession 3: December 29th – January 19th \n\n\nWhether you’re a total beginner or brushing up on your skills\, our instructors will help you glide with confidence! \n👉 Stop in to register prior to your session!Spots fill up fast — don’t miss your chance to roll with us this season!
URL:https://www.unitedskates.com/wickliffe/event/adult-skate-lessons-7/2025-12-22/
CATEGORIES:Adult Events,Lessons
ATTACH;FMTTYPE=image/jpeg:https://unitedskates-assets.sfo3.digitaloceanspaces.com/wp-content/uploads/sites/12/2025/10/fall-and-winter-adult-scaled.jpg
END:VEVENT
BEGIN:VEVENT
DTSTART;TZID=America/New_York:20251222T190000
DTEND;TZID=America/New_York:20251222T230000
DTSTAMP:20260421T010504
CREATED:20251030T201206Z
LAST-MODIFIED:20251126T191550Z
UID:22466-1766430000-1766444400@www.unitedskates.com
SUMMARY:🎅🎶 OLD SCHOOL HOLIDAY SKATE PARTY! 🎶🎅
DESCRIPTION:Ages 25+ | Valid ID Required \nGet ready to roll\, vibe\, and celebrate the holidays old-school style! 🛼✨Join us for a festive night filled with great music\, good food\, and even better company! \n📅 Monday\, December 22nd🕖 7:00pm – 11:00pm💲 Admission: $12.00 | Skate Rental: $6.00 \n🍕 United Skates is providing the pizza — and we’re counting on YOU to bring the flavor! Everyone’s invited to bring a dish to share — from desserts to entrées and everything in between. Check out the sign-up sheet to see what others are bringing and add your name to the feast! \n🎵 Skate\, laugh\, and groove the night away to the best old-school hits while celebrating the season with your skate family! \nDon’t miss this one — it’s the ultimate grown-up holiday party on wheels! 🎄🛼✨
URL:https://www.unitedskates.com/wickliffe/event/%f0%9f%8e%85%f0%9f%8e%b6-old-school-holiday-skate-party-%f0%9f%8e%b6%f0%9f%8e%85/
CATEGORIES:Adult Events,Special Events
ATTACH;FMTTYPE=image/jpeg:https://unitedskates-assets.sfo3.digitaloceanspaces.com/wp-content/uploads/sites/12/2025/10/Old-School-Christmas-Party-2025-scaled.jpg
END:VEVENT
BEGIN:VEVENT
DTSTART;TZID=America/New_York:20251225T210000
DTEND;TZID=America/New_York:20251226T010000
DTSTAMP:20260421T010504
CREATED:20251030T202936Z
LAST-MODIFIED:20251126T192757Z
UID:22475-1766696400-1766710800@www.unitedskates.com
SUMMARY:🎅🔥 BAD SANTA ADULT SKATE IS BACK! 🔥🎅
DESCRIPTION:Thursday\, December 25th | 9:00pm – 1:00amAges 18+ | Valid ID Required💲 Admission: $13.00 | Skate Rental: $6.00 \nThe gifts are unwrapped\, the family festivities are over — now it’s time to end your Christmas night on the right skate! 🛼💃 \nDress to impress and bring your best holiday vibes because the sexiest Santas will win a prize! 🎁✨ Get ready for a night full of great music\, good energy\, and grown-up fun on the rink. \nGrab your crew\, throw on your holiday best (or worst 😉)\, and roll into the most talked-about adult skate of the season! \n🎄 Don’t miss out — this is how the real Santas celebrate! 🎅🔥🛼
URL:https://www.unitedskates.com/wickliffe/event/%f0%9f%8e%85%f0%9f%94%a5-bad-santa-adult-skate-is-back-%f0%9f%94%a5%f0%9f%8e%85/
CATEGORIES:Adult Events,Special Events
ATTACH;FMTTYPE=image/jpeg:https://unitedskates-assets.sfo3.digitaloceanspaces.com/wp-content/uploads/sites/12/2025/10/Naughty-Santa-Skate-page-001-scaled.jpg
END:VEVENT
END:VCALENDAR