BEGIN:VCALENDAR
VERSION:2.0
PRODID:-//Rink 11 - Wickliffe - ECPv6.15.20//NONSGML v1.0//EN
CALSCALE:GREGORIAN
METHOD:PUBLISH
X-ORIGINAL-URL:https://www.unitedskates.com/wickliffe
X-WR-CALDESC:Events for Rink 11 - Wickliffe
REFRESH-INTERVAL;VALUE=DURATION:PT1H
X-Robots-Tag:noindex
X-PUBLISHED-TTL:PT1H
BEGIN:VTIMEZONE
TZID:America/New_York
BEGIN:DAYLIGHT
TZOFFSETFROM:-0500
TZOFFSETTO:-0400
TZNAME:EDT
DTSTART:20240310T070000
END:DAYLIGHT
BEGIN:STANDARD
TZOFFSETFROM:-0400
TZOFFSETTO:-0500
TZNAME:EST
DTSTART:20241103T060000
END:STANDARD
BEGIN:DAYLIGHT
TZOFFSETFROM:-0500
TZOFFSETTO:-0400
TZNAME:EDT
DTSTART:20250309T070000
END:DAYLIGHT
BEGIN:STANDARD
TZOFFSETFROM:-0400
TZOFFSETTO:-0500
TZNAME:EST
DTSTART:20251102T060000
END:STANDARD
BEGIN:DAYLIGHT
TZOFFSETFROM:-0500
TZOFFSETTO:-0400
TZNAME:EDT
DTSTART:20260308T070000
END:DAYLIGHT
BEGIN:STANDARD
TZOFFSETFROM:-0400
TZOFFSETTO:-0500
TZNAME:EST
DTSTART:20261101T060000
END:STANDARD
END:VTIMEZONE
BEGIN:VEVENT
DTSTART;TZID=America/New_York:20250928T213000
DTEND;TZID=America/New_York:20250929T013000
DTSTAMP:20260425T062406
CREATED:20241023T003041Z
LAST-MODIFIED:20251212T232603Z
UID:21673-1759095000-1759109400@www.unitedskates.com
SUMMARY:Sunday Night Adult Skate
DESCRIPTION:Sunday Nights are meant for Skating! \nAdults this night is for you and you only! \nEvery Sunday Night 9:30pm-1:30am \nFeaturing R&B\, Hip-Hop and Skate Music  \nMusic Spun by DJ Ivory \nAdmission $12.00 \nSkate Rental $6.00 \n18+ with valid ID \nSkip the line-buy your tickets online! BUY HERE!
URL:https://www.unitedskates.com/wickliffe/event/sunday-night-adult-skate/2025-09-28/
CATEGORIES:Adult Events,Public Skates
ATTACH;FMTTYPE=image/jpeg:https://unitedskates-assets.sfo3.digitaloceanspaces.com/wp-content/uploads/sites/12/2024/10/new-Sunday-Night-Adult-Skate-r-11-1.jpg
END:VEVENT
BEGIN:VEVENT
DTSTART;TZID=America/New_York:20251003T213000
DTEND;TZID=America/New_York:20251004T000000
DTSTAMP:20260425T062406
CREATED:20250805T193209Z
LAST-MODIFIED:20250824T233750Z
UID:21836-1759527000-1759536000@www.unitedskates.com
SUMMARY:Emo Adult Skate
DESCRIPTION:EMO 🛼ADULT SKATE NIGHTS 🛼🖤 \nEvery Friday Night – Starting October 3rd18+ ONLY with Valid ID \nIt’s not a phase… it’s a whole vibe.Get ready to relive the glory days of eyeliner\, heartbreak anthems\, and skating’ through all the emotions — because Emo Adult Skate Nights are rolling in every Friday starting October 3rd! 🎶💔🔥 \n🎧 All session long\, we’re blasting your favorite punk & alternative hits:💀 My Chemical Romance💔 Panic! At the Disco🔥 The Used🎤 Paramore🖊️ Simple Plan…and so much more that’ll take you straight back to your teenage bedroom. \n🖤 Come dressed in your best emo fashion — black on black\, studded belts\, band tees\, Converse\, and eyeliner for days📸 Blacklight photo ops + moody lighting to set the perfect scene🎟️ 18+ ONLY — Valid ID required at the door🕘 Every Friday Night 9:30pm-12:00am💲 Admission $12.00 Skate Rental $6.00 \nScream\, skate\, and sing your heart out. \nTickets Here!
URL:https://www.unitedskates.com/wickliffe/event/emo-adult-skate-6/
CATEGORIES:Adult Events,Public Skates,Special Events
ATTACH;FMTTYPE=image/jpeg:https://unitedskates-assets.sfo3.digitaloceanspaces.com/wp-content/uploads/sites/12/2025/08/Emo-Adult-Night-Calendar.jpg
END:VEVENT
BEGIN:VEVENT
DTSTART;TZID=America/New_York:20251004T230000
DTEND;TZID=America/New_York:20251005T040000
DTSTAMP:20260425T062406
CREATED:20250904T170016Z
LAST-MODIFIED:20250904T170051Z
UID:22238-1759618800-1759636800@www.unitedskates.com
SUMMARY:Midwest Skate Coalition
DESCRIPTION:🎉🛼 It’s the 5th Annual Midwest Skaters Coalition! 🛼🎉 \n🔥 This is a 1 Night Only Event you do NOT want to miss! 🔥 \n📅 Saturday\, October 4th⏰ 11:00pm – 4:00am🎟 Admission: $15.00🛼 Skate Rental: $6.00🔞 18+ ONLY with valid ID \nCome roll all night long with the best skaters in the Midwest—one floor\, one vibe\, one unforgettable night! 🎶✨ \nMark your calendars\, grab your crew\, and get ready to make history at the 5th Annual Midwest Skaters Coalition! 🚨
URL:https://www.unitedskates.com/wickliffe/event/midwest-skate-coalition-2/
CATEGORIES:Adult Events,Special Events
ATTACH;FMTTYPE=image/jpeg:https://unitedskates-assets.sfo3.digitaloceanspaces.com/wp-content/uploads/sites/12/2025/09/midwest-october-2-scaled.jpg
END:VEVENT
END:VCALENDAR