BEGIN:VCALENDAR
VERSION:2.0
PRODID:-//Rink 11 - Wickliffe - ECPv6.15.20//NONSGML v1.0//EN
CALSCALE:GREGORIAN
METHOD:PUBLISH
X-ORIGINAL-URL:https://www.unitedskates.com/wickliffe
X-WR-CALDESC:Events for Rink 11 - Wickliffe
REFRESH-INTERVAL;VALUE=DURATION:PT1H
X-Robots-Tag:noindex
X-PUBLISHED-TTL:PT1H
BEGIN:VTIMEZONE
TZID:America/New_York
BEGIN:DAYLIGHT
TZOFFSETFROM:-0500
TZOFFSETTO:-0400
TZNAME:EDT
DTSTART:20240310T070000
END:DAYLIGHT
BEGIN:STANDARD
TZOFFSETFROM:-0400
TZOFFSETTO:-0500
TZNAME:EST
DTSTART:20241103T060000
END:STANDARD
BEGIN:DAYLIGHT
TZOFFSETFROM:-0500
TZOFFSETTO:-0400
TZNAME:EDT
DTSTART:20250309T070000
END:DAYLIGHT
BEGIN:STANDARD
TZOFFSETFROM:-0400
TZOFFSETTO:-0500
TZNAME:EST
DTSTART:20251102T060000
END:STANDARD
BEGIN:DAYLIGHT
TZOFFSETFROM:-0500
TZOFFSETTO:-0400
TZNAME:EDT
DTSTART:20260308T070000
END:DAYLIGHT
BEGIN:STANDARD
TZOFFSETFROM:-0400
TZOFFSETTO:-0500
TZNAME:EST
DTSTART:20261101T060000
END:STANDARD
END:VTIMEZONE
BEGIN:VEVENT
DTSTART;TZID=America/New_York:20250803T213000
DTEND;TZID=America/New_York:20250804T013000
DTSTAMP:20260425T074523
CREATED:20241023T003041Z
LAST-MODIFIED:20251212T232600Z
UID:19539-1754256600-1754271000@www.unitedskates.com
SUMMARY:Sunday Night Adult Skate
DESCRIPTION:Sunday Nights are meant for Skating! \nAdults this night is for you and you only! \nEvery Sunday Night 9:30pm-1:30am \nFeaturing R&B\, Hip-Hop and Skate Music  \nMusic Spun by DJ Ivory \nAdmission $12.00 \nSkate Rental $6.00 \n18+ with valid ID \nSkip the line-buy your tickets online! BUY HERE!
URL:https://www.unitedskates.com/wickliffe/event/sunday-night-adult-skate/2025-08-03/
CATEGORIES:Adult Events,Public Skates
ATTACH;FMTTYPE=image/jpeg:https://unitedskates-assets.sfo3.digitaloceanspaces.com/wp-content/uploads/sites/12/2024/10/new-Sunday-Night-Adult-Skate-r-11-1.jpg
END:VEVENT
BEGIN:VEVENT
DTSTART;TZID=America/New_York:20250804T180000
DTEND;TZID=America/New_York:20250804T190000
DTSTAMP:20260425T074523
CREATED:20250527T180727Z
LAST-MODIFIED:20250527T181032Z
UID:20471-1754330400-1754334000@www.unitedskates.com
SUMMARY:Summer Adult Skate Lessons
DESCRIPTION:Calling Adults! Want to learn how to roller skate? What about touching up on some skills! \nOur last 2 sessions are coming up!! \nEvery Monday from 6:00pm-7:00pm \n4 weeks of lessons for only $100.00 \nSession 1: Monday\, June 2nd\, Monday\, June 9th\, Monday\, June 16th & Monday\, June 23rd\nSession 2: Monday\, June 30th\, Monday\, July 7th\, Monday\, July 14th and Monday\, July 21st\nSession 3: Monday\, July 28th\, Monday\, August 4th\, Monday\, August 11th and Monday\, August 18th.\n\nPre-Registration Required! Call 440-944-5301 or Stop In!
URL:https://www.unitedskates.com/wickliffe/event/summer-adult-skate-lessons/2025-08-04/
CATEGORIES:Adult Events,Lessons
ATTACH;FMTTYPE=image/jpeg:https://unitedskates-assets.sfo3.digitaloceanspaces.com/wp-content/uploads/sites/12/2025/05/summer-lesson-scaled.jpg
END:VEVENT
END:VCALENDAR