BEGIN:VCALENDAR
VERSION:2.0
PRODID:-//Rink 11 - Wickliffe - ECPv6.15.20//NONSGML v1.0//EN
CALSCALE:GREGORIAN
METHOD:PUBLISH
X-WR-CALNAME:Rink 11 - Wickliffe
X-ORIGINAL-URL:https://www.unitedskates.com/wickliffe
X-WR-CALDESC:Events for Rink 11 - Wickliffe
REFRESH-INTERVAL;VALUE=DURATION:PT1H
X-Robots-Tag:noindex
X-PUBLISHED-TTL:PT1H
BEGIN:VTIMEZONE
TZID:America/New_York
BEGIN:DAYLIGHT
TZOFFSETFROM:-0500
TZOFFSETTO:-0400
TZNAME:EDT
DTSTART:20240310T070000
END:DAYLIGHT
BEGIN:STANDARD
TZOFFSETFROM:-0400
TZOFFSETTO:-0500
TZNAME:EST
DTSTART:20241103T060000
END:STANDARD
BEGIN:DAYLIGHT
TZOFFSETFROM:-0500
TZOFFSETTO:-0400
TZNAME:EDT
DTSTART:20250309T070000
END:DAYLIGHT
BEGIN:STANDARD
TZOFFSETFROM:-0400
TZOFFSETTO:-0500
TZNAME:EST
DTSTART:20251102T060000
END:STANDARD
BEGIN:DAYLIGHT
TZOFFSETFROM:-0500
TZOFFSETTO:-0400
TZNAME:EDT
DTSTART:20260308T070000
END:DAYLIGHT
BEGIN:STANDARD
TZOFFSETFROM:-0400
TZOFFSETTO:-0500
TZNAME:EST
DTSTART:20261101T060000
END:STANDARD
END:VTIMEZONE
BEGIN:VEVENT
DTSTART;TZID=America/New_York:20250721T180000
DTEND;TZID=America/New_York:20250721T190000
DTSTAMP:20260424T072040
CREATED:20250527T180727Z
LAST-MODIFIED:20250527T181032Z
UID:20469-1753120800-1753124400@www.unitedskates.com
SUMMARY:Summer Adult Skate Lessons
DESCRIPTION:Calling Adults! Want to learn how to roller skate? What about touching up on some skills! \nOur last 2 sessions are coming up!! \nEvery Monday from 6:00pm-7:00pm \n4 weeks of lessons for only $100.00 \nSession 1: Monday\, June 2nd\, Monday\, June 9th\, Monday\, June 16th & Monday\, June 23rd\nSession 2: Monday\, June 30th\, Monday\, July 7th\, Monday\, July 14th and Monday\, July 21st\nSession 3: Monday\, July 28th\, Monday\, August 4th\, Monday\, August 11th and Monday\, August 18th.\n\nPre-Registration Required! Call 440-944-5301 or Stop In!
URL:https://www.unitedskates.com/wickliffe/event/summer-adult-skate-lessons/2025-07-21/
CATEGORIES:Adult Events,Lessons
ATTACH;FMTTYPE=image/jpeg:https://unitedskates-assets.sfo3.digitaloceanspaces.com/wp-content/uploads/sites/12/2025/05/summer-lesson-scaled.jpg
END:VEVENT
BEGIN:VEVENT
DTSTART;TZID=America/New_York:20250725T213000
DTEND;TZID=America/New_York:20250726T010000
DTSTAMP:20260424T072040
CREATED:20250625T171015Z
LAST-MODIFIED:20250625T172739Z
UID:21457-1753479000-1753491600@www.unitedskates.com
SUMMARY:Throwback Sip and Skate
DESCRIPTION:🎉 Adults\, Get Ready! It’s Time to Sip & Skate! 🍹🛼Throw it Back with 80s & 90s Pop + R&B Vibes All Night Long! \nFriday\, July 25th 9:30pm-1:00am \nBreak out the neon\, bring the moves\, and join us for a grown-up night of roller fun!🎶 All your favorite throwback jams🍸 1 FREE drink ticket included🛼 Only $20 – admission + skate rental + drink ticket \n21+ with valid ID | Don’t miss this blast from the past! \nGet your Tickets Here!
URL:https://www.unitedskates.com/wickliffe/event/throwback-sip-and-skate/
CATEGORIES:Adult Events,Special Events
ATTACH;FMTTYPE=image/jpeg:https://unitedskates-assets.sfo3.digitaloceanspaces.com/wp-content/uploads/sites/12/2025/06/throwback-sip-and-skate-july.jpg
END:VEVENT
END:VCALENDAR