BEGIN:VCALENDAR
VERSION:2.0
PRODID:-//Rink 11 - Wickliffe - ECPv6.15.20//NONSGML v1.0//EN
CALSCALE:GREGORIAN
METHOD:PUBLISH
X-WR-CALNAME:Rink 11 - Wickliffe
X-ORIGINAL-URL:https://www.unitedskates.com/wickliffe
X-WR-CALDESC:Events for Rink 11 - Wickliffe
REFRESH-INTERVAL;VALUE=DURATION:PT1H
X-Robots-Tag:noindex
X-PUBLISHED-TTL:PT1H
BEGIN:VTIMEZONE
TZID:America/New_York
BEGIN:DAYLIGHT
TZOFFSETFROM:-0500
TZOFFSETTO:-0400
TZNAME:EDT
DTSTART:20250309T070000
END:DAYLIGHT
BEGIN:STANDARD
TZOFFSETFROM:-0400
TZOFFSETTO:-0500
TZNAME:EST
DTSTART:20251102T060000
END:STANDARD
BEGIN:DAYLIGHT
TZOFFSETFROM:-0500
TZOFFSETTO:-0400
TZNAME:EDT
DTSTART:20260308T070000
END:DAYLIGHT
BEGIN:STANDARD
TZOFFSETFROM:-0400
TZOFFSETTO:-0500
TZNAME:EST
DTSTART:20261101T060000
END:STANDARD
BEGIN:DAYLIGHT
TZOFFSETFROM:-0500
TZOFFSETTO:-0400
TZNAME:EDT
DTSTART:20270314T070000
END:DAYLIGHT
BEGIN:STANDARD
TZOFFSETFROM:-0400
TZOFFSETTO:-0500
TZNAME:EST
DTSTART:20271107T060000
END:STANDARD
END:VTIMEZONE
BEGIN:VEVENT
DTSTART;TZID=America/New_York:20260316T180000
DTEND;TZID=America/New_York:20260316T190000
DTSTAMP:20260419T161205
CREATED:20260121T203235Z
LAST-MODIFIED:20260410T190300Z
UID:23620-1773684000-1773687600@www.unitedskates.com
SUMMARY:Adult Skate Lessons
DESCRIPTION:🛼✨ ADULT SKATING LESSONS – MONDAY NIGHTS ✨🛼 \nReady to level up your skating skills or finally learn how to roll with confidence? Join us for Adult Skating Lessons designed just for adults in a fun\, supportive\, and no-pressure environment! Whether you’re a beginner or looking to sharpen your moves\, our experienced instructors will help you find your rhythm on wheels. \n📅 Every Monday Night🕕 6:00pm–7:00pm💲 Only $25.00 per lesson✔️ Includes admission\, skate rental\, and lesson🔞 18+ with valid ID required \nStick around after your lesson and keep the good vibes going! 🎶🛼Skaters are welcome to stay for our Old School Adult Skate from 7:00pm–11:00pm — featuring classic jams and smooth roller-rink energy.🔞 Must be 25+ for the Adult Skate \nGet your Tickets Here!  \nWhether you’re coming solo or with friends\, Monday nights are the perfect time to learn\, skate\, and unwind. Lace up and roll into your new favorite weekly routine!
URL:https://www.unitedskates.com/wickliffe/event/adult-skate-lessons-8/2026-03-16/
CATEGORIES:Adult Events,Lessons
ATTACH;FMTTYPE=image/jpeg:https://unitedskates-assets.sfo3.digitaloceanspaces.com/wp-content/uploads/sites/12/2026/01/Adult_Skating_Lessons_8.5x11.jpg
END:VEVENT
BEGIN:VEVENT
DTSTART;TZID=America/New_York:20260316T190000
DTEND;TZID=America/New_York:20260316T230000
DTSTAMP:20260419T161205
CREATED:20241023T010008Z
LAST-MODIFIED:20260403T195642Z
UID:22760-1773687600-1773702000@www.unitedskates.com
SUMMARY:Old School Adult Skate
DESCRIPTION:We are taking it back Old School every Monday \nAdults 25+ come skate your Mondays Away \n7:00pm-11:00pm \nFeaturing 80’s\, 90’s\, Jazz and Skate Music  \nMusic spun by DJ Ivory  \nAdmission $12.00 \nSkate Rental $6.00 \n25+ with valid ID \nSkip the line-buy your tickets online! BUY HERE!
URL:https://www.unitedskates.com/wickliffe/event/old-school-adult-skate-4/2026-03-16/
CATEGORIES:Adult Events,Public Skates
ATTACH;FMTTYPE=image/jpeg:https://unitedskates-assets.sfo3.digitaloceanspaces.com/wp-content/uploads/sites/12/2024/10/Old-School-Adult-Skate-rink11-v3.jpg
END:VEVENT
BEGIN:VEVENT
DTSTART;TZID=America/New_York:20260316T190000
DTEND;TZID=America/New_York:20260316T230000
DTSTAMP:20260419T161205
CREATED:20260201T205517Z
LAST-MODIFIED:20260201T205517Z
UID:23728-1773687600-1773702000@www.unitedskates.com
SUMMARY:Old School St. Patrick's Party
DESCRIPTION:🍀🎶🛼 KICK OFF ST. PATRICK’S DAY — OLD SCHOOL STYLE! 🛼🎶🍀 \nStart your St. Patrick’s Day celebration with a grown & classic skate night featuring the best in old-school R&B\, Hip-Hop\, and more. \nThis one’s for the 25+ crowd only — valid ID required. \n📅 Monday\, March 16th⏰ 7:00pm–11:00pm \n💲 Admission: $12.00🛼 Skate Rental: $6.00 \n🍺 Beer & wine available \n🍀 Come vibe\, skate\, and celebrate St. Patrick’s Day the old-school way!
URL:https://www.unitedskates.com/wickliffe/event/old-school-st-patricks-party/
CATEGORIES:Adult Events,Special Events
END:VEVENT
END:VCALENDAR