BEGIN:VCALENDAR
VERSION:2.0
PRODID:-//Rink 11 - Wickliffe - ECPv6.15.20//NONSGML v1.0//EN
CALSCALE:GREGORIAN
METHOD:PUBLISH
X-WR-CALNAME:Rink 11 - Wickliffe
X-ORIGINAL-URL:https://www.unitedskates.com/wickliffe
X-WR-CALDESC:Events for Rink 11 - Wickliffe
REFRESH-INTERVAL;VALUE=DURATION:PT1H
X-Robots-Tag:noindex
X-PUBLISHED-TTL:PT1H
BEGIN:VTIMEZONE
TZID:America/New_York
BEGIN:DAYLIGHT
TZOFFSETFROM:-0500
TZOFFSETTO:-0400
TZNAME:EDT
DTSTART:20240310T070000
END:DAYLIGHT
BEGIN:STANDARD
TZOFFSETFROM:-0400
TZOFFSETTO:-0500
TZNAME:EST
DTSTART:20241103T060000
END:STANDARD
BEGIN:DAYLIGHT
TZOFFSETFROM:-0500
TZOFFSETTO:-0400
TZNAME:EDT
DTSTART:20250309T070000
END:DAYLIGHT
BEGIN:STANDARD
TZOFFSETFROM:-0400
TZOFFSETTO:-0500
TZNAME:EST
DTSTART:20251102T060000
END:STANDARD
BEGIN:DAYLIGHT
TZOFFSETFROM:-0500
TZOFFSETTO:-0400
TZNAME:EDT
DTSTART:20260308T070000
END:DAYLIGHT
BEGIN:STANDARD
TZOFFSETFROM:-0400
TZOFFSETTO:-0500
TZNAME:EST
DTSTART:20261101T060000
END:STANDARD
END:VTIMEZONE
BEGIN:VEVENT
DTSTART;TZID=America/New_York:20251228T213000
DTEND;TZID=America/New_York:20251229T020000
DTSTAMP:20260420T231437
CREATED:20251205T193641Z
LAST-MODIFIED:20251208T201118Z
UID:23017-1766957400-1766973600@www.unitedskates.com
SUMMARY:Roll into 2026 Adult Night
DESCRIPTION:🎉🔥 IT’S THE LAST SUNDAY SKATE OF THE YEAR! 🔥🎉\nLet’s finish 2025 strong and ROLL INTO 2026 together! \nJoin us for an epic end-of-year adult night full of music\, energy\, and nonstop skating fun! \n📅 Sunday\, December 28th🕘 9:30pm–2:00am💵 Admission: $13.00🛼 Skate Rental: $6.00🔞 18+ ONLY — Valid ID Required \n🎶 Great music✨ End-of-year celebration🛼 Perfect night to skate with friends🎉 Roll into the new year in style! \nDon’t miss the FINAL Sunday Skate of 2025 —💥 Let’s roll right into 2026!! 💥
URL:https://www.unitedskates.com/wickliffe/event/roll-into-2026-adult-night/
CATEGORIES:Adult Events,Special Events
ATTACH;FMTTYPE=image/jpeg:https://unitedskates-assets.sfo3.digitaloceanspaces.com/wp-content/uploads/sites/12/2025/12/adult-nye-1-1-scaled.jpg
END:VEVENT
END:VCALENDAR