BEGIN:VCALENDAR
VERSION:2.0
PRODID:-//Rink 11 - Wickliffe - ECPv6.15.20//NONSGML v1.0//EN
CALSCALE:GREGORIAN
METHOD:PUBLISH
X-ORIGINAL-URL:https://www.unitedskates.com/wickliffe
X-WR-CALDESC:Events for Rink 11 - Wickliffe
REFRESH-INTERVAL;VALUE=DURATION:PT1H
X-Robots-Tag:noindex
X-PUBLISHED-TTL:PT1H
BEGIN:VTIMEZONE
TZID:America/New_York
BEGIN:DAYLIGHT
TZOFFSETFROM:-0500
TZOFFSETTO:-0400
TZNAME:EDT
DTSTART:20240310T070000
END:DAYLIGHT
BEGIN:STANDARD
TZOFFSETFROM:-0400
TZOFFSETTO:-0500
TZNAME:EST
DTSTART:20241103T060000
END:STANDARD
BEGIN:DAYLIGHT
TZOFFSETFROM:-0500
TZOFFSETTO:-0400
TZNAME:EDT
DTSTART:20250309T070000
END:DAYLIGHT
BEGIN:STANDARD
TZOFFSETFROM:-0400
TZOFFSETTO:-0500
TZNAME:EST
DTSTART:20251102T060000
END:STANDARD
BEGIN:DAYLIGHT
TZOFFSETFROM:-0500
TZOFFSETTO:-0400
TZNAME:EDT
DTSTART:20260308T070000
END:DAYLIGHT
BEGIN:STANDARD
TZOFFSETFROM:-0400
TZOFFSETTO:-0500
TZNAME:EST
DTSTART:20261101T060000
END:STANDARD
END:VTIMEZONE
BEGIN:VEVENT
DTSTART;TZID=America/New_York:20251214T213000
DTEND;TZID=America/New_York:20251215T020000
DTSTAMP:20260421T094953
CREATED:20251205T191521Z
LAST-MODIFIED:20251205T191522Z
UID:23011-1765747800-1765764000@www.unitedskates.com
SUMMARY:🎉🛼 ADULT UGLY SWEATER SKATE NIGHT! 🛼🎉
DESCRIPTION:🎄 18+ WITH VALID ID 🎄\nGet ready to roll\, laugh\, and show off the ugliest\, wildest\, most ridiculous holiday sweater you can find — because it’s time for a Sunday Night Adult Ugly Sweater Skate! \n🔥 You asked for it… we’re making it BIG!🎁 UGLY SWEATER CONTEST!Who’s walking away with the title of Ugliest Sweater Champion?Bragging rights + prizes on the line! \n🎶 Adult vibes\, great music\, glowing lights🍹 Café + drinks available😂 The uglier the sweater… the better! \n📅 Sunday\, December 14th  \n🕒 9:30pm-2:00am \nAdmission $13.00 Skate Rental $6.00 \nGrab your friends\, grab your sweater\, and get ready for a night of skating\, laughing\, and holiday chaos — ADULT STYLE! \n🎄🔥 Don’t miss the UGLIEST skate night of the season!
URL:https://www.unitedskates.com/wickliffe/event/%f0%9f%8e%89%f0%9f%9b%bc-adult-ugly-sweater-skate-night-%f0%9f%9b%bc%f0%9f%8e%89/
CATEGORIES:Adult Events,Special Events
ATTACH;FMTTYPE=image/jpeg:https://unitedskates-assets.sfo3.digitaloceanspaces.com/wp-content/uploads/sites/12/2025/12/ugly-sweater-party-scaled.jpg
END:VEVENT
END:VCALENDAR