BEGIN:VCALENDAR
VERSION:2.0
PRODID:-//Rink 11 - Wickliffe - ECPv6.15.20//NONSGML v1.0//EN
CALSCALE:GREGORIAN
METHOD:PUBLISH
X-ORIGINAL-URL:https://www.unitedskates.com/wickliffe
X-WR-CALDESC:Events for Rink 11 - Wickliffe
REFRESH-INTERVAL;VALUE=DURATION:PT1H
X-Robots-Tag:noindex
X-PUBLISHED-TTL:PT1H
BEGIN:VTIMEZONE
TZID:America/New_York
BEGIN:DAYLIGHT
TZOFFSETFROM:-0500
TZOFFSETTO:-0400
TZNAME:EDT
DTSTART:20240310T070000
END:DAYLIGHT
BEGIN:STANDARD
TZOFFSETFROM:-0400
TZOFFSETTO:-0500
TZNAME:EST
DTSTART:20241103T060000
END:STANDARD
BEGIN:DAYLIGHT
TZOFFSETFROM:-0500
TZOFFSETTO:-0400
TZNAME:EDT
DTSTART:20250309T070000
END:DAYLIGHT
BEGIN:STANDARD
TZOFFSETFROM:-0400
TZOFFSETTO:-0500
TZNAME:EST
DTSTART:20251102T060000
END:STANDARD
BEGIN:DAYLIGHT
TZOFFSETFROM:-0500
TZOFFSETTO:-0400
TZNAME:EDT
DTSTART:20260308T070000
END:DAYLIGHT
BEGIN:STANDARD
TZOFFSETFROM:-0400
TZOFFSETTO:-0500
TZNAME:EST
DTSTART:20261101T060000
END:STANDARD
END:VTIMEZONE
BEGIN:VEVENT
DTSTART;TZID=America/New_York:20250801T213000
DTEND;TZID=America/New_York:20250802T003000
DTSTAMP:20260423T211709
CREATED:20250625T173807Z
LAST-MODIFIED:20250625T173807Z
UID:21462-1754083800-1754094600@www.unitedskates.com
SUMMARY:Emo Adult Skate Night
DESCRIPTION:🖤 EMO NIGHT SKATE 🖤It’s Not a Phase… It’s a VIBE. \nBreak out the eyeliner\, black skinny jeans\, and band tees —we’re going FULL EMO for one epic night on wheels! \nFriday\, August 1st 9:30pm-12:30am \nAdmission $12.00 Skate Rental $6.00 \n🎸 All your emo faves: Green Day\, The Used\, My Chemical Romance\, Pool Kids\, Panic! At the Disco\, All Time Low\, Simple Plan & more!🖤 Dress in your best emo look — we’re watching!🛼 Skate\, scream\, sing\, repeat. \n18+ with valid ID | Emo is forever. \nGet your Tickets Here!
URL:https://www.unitedskates.com/wickliffe/event/emo-adult-skate-night-4/
CATEGORIES:Adult Events,Special Events
ATTACH;FMTTYPE=image/jpeg:https://unitedskates-assets.sfo3.digitaloceanspaces.com/wp-content/uploads/sites/12/2025/06/emo-adult-august-page-001-scaled.jpg
END:VEVENT
END:VCALENDAR