BEGIN:VCALENDAR
VERSION:2.0
PRODID:-//Rink 11 - Wickliffe - ECPv6.15.20//NONSGML v1.0//EN
CALSCALE:GREGORIAN
METHOD:PUBLISH
X-ORIGINAL-URL:https://www.unitedskates.com/wickliffe
X-WR-CALDESC:Events for Rink 11 - Wickliffe
REFRESH-INTERVAL;VALUE=DURATION:PT1H
X-Robots-Tag:noindex
X-PUBLISHED-TTL:PT1H
BEGIN:VTIMEZONE
TZID:America/New_York
BEGIN:DAYLIGHT
TZOFFSETFROM:-0500
TZOFFSETTO:-0400
TZNAME:EDT
DTSTART:20250309T070000
END:DAYLIGHT
BEGIN:STANDARD
TZOFFSETFROM:-0400
TZOFFSETTO:-0500
TZNAME:EST
DTSTART:20251102T060000
END:STANDARD
BEGIN:DAYLIGHT
TZOFFSETFROM:-0500
TZOFFSETTO:-0400
TZNAME:EDT
DTSTART:20260308T070000
END:DAYLIGHT
BEGIN:STANDARD
TZOFFSETFROM:-0400
TZOFFSETTO:-0500
TZNAME:EST
DTSTART:20261101T060000
END:STANDARD
BEGIN:DAYLIGHT
TZOFFSETFROM:-0500
TZOFFSETTO:-0400
TZNAME:EDT
DTSTART:20270314T070000
END:DAYLIGHT
BEGIN:STANDARD
TZOFFSETFROM:-0400
TZOFFSETTO:-0500
TZNAME:EST
DTSTART:20271107T060000
END:STANDARD
END:VTIMEZONE
BEGIN:VEVENT
DTSTART;TZID=America/New_York:20260201T210000
DTEND;TZID=America/New_York:20260202T003000
DTSTAMP:20260420T110020
CREATED:20251212T232916Z
LAST-MODIFIED:20260403T201953Z
UID:23090-1769979600-1769992200@www.unitedskates.com
SUMMARY:Sunday Adult Night
DESCRIPTION:Sunday Nights are meant for Skating! \nAdults this night is for you and you only! \nEvery Sunday Night 9:00pm-12:30am \nFeaturing R&B\, Hip-Hop and Skate Music  \nMusic Spun by DJ Ivory \nAdmission $12.00 \nSkate Rental $6.00 \n18+ with valid ID \nSkip the line-buy your tickets online! BUY HERE!
URL:https://www.unitedskates.com/wickliffe/event/sunday-adult-night-2/2026-02-01/
CATEGORIES:Adult Events,Public Skates
ATTACH;FMTTYPE=image/jpeg:https://unitedskates-assets.sfo3.digitaloceanspaces.com/wp-content/uploads/sites/12/2025/12/sunday-adult-1.jpg
END:VEVENT
BEGIN:VEVENT
DTSTART;TZID=America/New_York:20260202T180000
DTEND;TZID=America/New_York:20260202T190000
DTSTAMP:20260420T110020
CREATED:20260121T203235Z
LAST-MODIFIED:20260410T190245Z
UID:23614-1770055200-1770058800@www.unitedskates.com
SUMMARY:Adult Skate Lessons
DESCRIPTION:🛼✨ ADULT SKATING LESSONS – MONDAY NIGHTS ✨🛼 \nReady to level up your skating skills or finally learn how to roll with confidence? Join us for Adult Skating Lessons designed just for adults in a fun\, supportive\, and no-pressure environment! Whether you’re a beginner or looking to sharpen your moves\, our experienced instructors will help you find your rhythm on wheels. \n📅 Every Monday Night🕕 6:00pm–7:00pm💲 Only $25.00 per lesson✔️ Includes admission\, skate rental\, and lesson🔞 18+ with valid ID required \nStick around after your lesson and keep the good vibes going! 🎶🛼Skaters are welcome to stay for our Old School Adult Skate from 7:00pm–11:00pm — featuring classic jams and smooth roller-rink energy.🔞 Must be 25+ for the Adult Skate \nGet your Tickets Here!  \nWhether you’re coming solo or with friends\, Monday nights are the perfect time to learn\, skate\, and unwind. Lace up and roll into your new favorite weekly routine!
URL:https://www.unitedskates.com/wickliffe/event/adult-skate-lessons-8/2026-02-02/
CATEGORIES:Adult Events,Lessons
ATTACH;FMTTYPE=image/jpeg:https://unitedskates-assets.sfo3.digitaloceanspaces.com/wp-content/uploads/sites/12/2026/01/Adult_Skating_Lessons_8.5x11.jpg
END:VEVENT
BEGIN:VEVENT
DTSTART;TZID=America/New_York:20260202T190000
DTEND;TZID=America/New_York:20260202T230000
DTSTAMP:20260420T110020
CREATED:20241023T010008Z
LAST-MODIFIED:20260403T195640Z
UID:22754-1770058800-1770073200@www.unitedskates.com
SUMMARY:Old School Adult Skate
DESCRIPTION:We are taking it back Old School every Monday \nAdults 25+ come skate your Mondays Away \n7:00pm-11:00pm \nFeaturing 80’s\, 90’s\, Jazz and Skate Music  \nMusic spun by DJ Ivory  \nAdmission $12.00 \nSkate Rental $6.00 \n25+ with valid ID \nSkip the line-buy your tickets online! BUY HERE!
URL:https://www.unitedskates.com/wickliffe/event/old-school-adult-skate-4/2026-02-02/
CATEGORIES:Adult Events,Public Skates
ATTACH;FMTTYPE=image/jpeg:https://unitedskates-assets.sfo3.digitaloceanspaces.com/wp-content/uploads/sites/12/2024/10/Old-School-Adult-Skate-rink11-v3.jpg
END:VEVENT
BEGIN:VEVENT
DTSTART;TZID=America/New_York:20260208T210000
DTEND;TZID=America/New_York:20260209T003000
DTSTAMP:20260420T110020
CREATED:20251212T232916Z
LAST-MODIFIED:20260403T201954Z
UID:23091-1770584400-1770597000@www.unitedskates.com
SUMMARY:Sunday Adult Night
DESCRIPTION:Sunday Nights are meant for Skating! \nAdults this night is for you and you only! \nEvery Sunday Night 9:00pm-12:30am \nFeaturing R&B\, Hip-Hop and Skate Music  \nMusic Spun by DJ Ivory \nAdmission $12.00 \nSkate Rental $6.00 \n18+ with valid ID \nSkip the line-buy your tickets online! BUY HERE!
URL:https://www.unitedskates.com/wickliffe/event/sunday-adult-night-2/2026-02-08/
CATEGORIES:Adult Events,Public Skates
ATTACH;FMTTYPE=image/jpeg:https://unitedskates-assets.sfo3.digitaloceanspaces.com/wp-content/uploads/sites/12/2025/12/sunday-adult-1.jpg
END:VEVENT
BEGIN:VEVENT
DTSTART;TZID=America/New_York:20260209T180000
DTEND;TZID=America/New_York:20260209T190000
DTSTAMP:20260420T110020
CREATED:20260121T203235Z
LAST-MODIFIED:20260410T190245Z
UID:23615-1770660000-1770663600@www.unitedskates.com
SUMMARY:Adult Skate Lessons
DESCRIPTION:🛼✨ ADULT SKATING LESSONS – MONDAY NIGHTS ✨🛼 \nReady to level up your skating skills or finally learn how to roll with confidence? Join us for Adult Skating Lessons designed just for adults in a fun\, supportive\, and no-pressure environment! Whether you’re a beginner or looking to sharpen your moves\, our experienced instructors will help you find your rhythm on wheels. \n📅 Every Monday Night🕕 6:00pm–7:00pm💲 Only $25.00 per lesson✔️ Includes admission\, skate rental\, and lesson🔞 18+ with valid ID required \nStick around after your lesson and keep the good vibes going! 🎶🛼Skaters are welcome to stay for our Old School Adult Skate from 7:00pm–11:00pm — featuring classic jams and smooth roller-rink energy.🔞 Must be 25+ for the Adult Skate \nGet your Tickets Here!  \nWhether you’re coming solo or with friends\, Monday nights are the perfect time to learn\, skate\, and unwind. Lace up and roll into your new favorite weekly routine!
URL:https://www.unitedskates.com/wickliffe/event/adult-skate-lessons-8/2026-02-09/
CATEGORIES:Adult Events,Lessons
ATTACH;FMTTYPE=image/jpeg:https://unitedskates-assets.sfo3.digitaloceanspaces.com/wp-content/uploads/sites/12/2026/01/Adult_Skating_Lessons_8.5x11.jpg
END:VEVENT
BEGIN:VEVENT
DTSTART;TZID=America/New_York:20260209T190000
DTEND;TZID=America/New_York:20260209T230000
DTSTAMP:20260420T110020
CREATED:20241023T010008Z
LAST-MODIFIED:20260403T195640Z
UID:22755-1770663600-1770678000@www.unitedskates.com
SUMMARY:Old School Adult Skate
DESCRIPTION:We are taking it back Old School every Monday \nAdults 25+ come skate your Mondays Away \n7:00pm-11:00pm \nFeaturing 80’s\, 90’s\, Jazz and Skate Music  \nMusic spun by DJ Ivory  \nAdmission $12.00 \nSkate Rental $6.00 \n25+ with valid ID \nSkip the line-buy your tickets online! BUY HERE!
URL:https://www.unitedskates.com/wickliffe/event/old-school-adult-skate-4/2026-02-09/
CATEGORIES:Adult Events,Public Skates
ATTACH;FMTTYPE=image/jpeg:https://unitedskates-assets.sfo3.digitaloceanspaces.com/wp-content/uploads/sites/12/2024/10/Old-School-Adult-Skate-rink11-v3.jpg
END:VEVENT
BEGIN:VEVENT
DTSTART;TZID=America/New_York:20260213T213000
DTEND;TZID=America/New_York:20260214T003000
DTSTAMP:20260420T110020
CREATED:20250805T195358Z
LAST-MODIFIED:20250821T210038Z
UID:21856-1771018200-1771029000@www.unitedskates.com
SUMMARY:Stoplight Adult Skate
DESCRIPTION:🚦🛼 Stop Light Adult Skate 🛼🚦18+ with Valid ID — Skate Through the Decades & the Dating Game! \nGet ready for a night where the music is epic and the vibes speak for themselves! Roll to the best hits from the 80s\, 90s\, and 2000s while showing off your relationship status with your wristband color! 🎶💚💛❤️ \n🎵 Groove to your favorite jams from: \n\n\nThe 80s\, 90s and 2000s \n\n\n💚 Single? Wear green and meet new people on the rink!💛 Dating? Sport yellow and skate with your special someone!❤️ Taken? Show red and enjoy the night with your crew! \n🛼 Enjoy fun stoplight-themed games\, contests\, and great vibes all night long🎟️ 18+ ONLY — Valid ID Required \n📅 Friday\, February 13th🕘9:30pm-12:30am💲Admission $12.00 Skate Rental $6.00 \nWhether you’re flying solo or rolling with your ride-or-die\, this night’s all about the music\, the moves\, and the magic of connection. \nBuy your tickets online and secure your spot. Buy Here!
URL:https://www.unitedskates.com/wickliffe/event/stoplight-adult-skate/
CATEGORIES:Adult Events,Public Skates,Special Events
ATTACH;FMTTYPE=image/jpeg:https://unitedskates-assets.sfo3.digitaloceanspaces.com/wp-content/uploads/sites/12/2025/08/trafic-light-adult-night-2025-page-001-scaled.jpg
END:VEVENT
BEGIN:VEVENT
DTSTART;TZID=America/New_York:20260215T210000
DTEND;TZID=America/New_York:20260216T020000
DTSTAMP:20260420T110020
CREATED:20260106T200908Z
LAST-MODIFIED:20260106T202250Z
UID:23239-1771189200-1771207200@www.unitedskates.com
SUMMARY:President's Day Late Night Skate
DESCRIPTION:Calling all adults… kick off your Presidents Day on the RIGHT SKATE! 🎉Join us for an unforgettable late-night session packed with the best R&B\, Hip-Hop\, and classic skate music ALL NIGHT LONG! This is the grown-ups’ night out you’ve been waiting for. 😎🎵 \n📅 Sunday\, February 15th🕘 9:00pm–2:00am \n🛼 Admission: $13.00👟 Skate Rental: $6.00🔞 18+ with valid ID \n💻 Secure your spot now — buy your tickets online! Buy Here! \nBring your crew\, lace up\, and roll the night away to smooth beats\, good energy\, and nonstop skating vibes. 🔥✨
URL:https://www.unitedskates.com/wickliffe/event/presidents-day-late-night-skate-2/
CATEGORIES:Adult Events,Special Events
ATTACH;FMTTYPE=image/png:https://unitedskates-assets.sfo3.digitaloceanspaces.com/wp-content/uploads/sites/12/2026/01/presidents-day-late-.png
END:VEVENT
BEGIN:VEVENT
DTSTART;TZID=America/New_York:20260216T180000
DTEND;TZID=America/New_York:20260216T190000
DTSTAMP:20260420T110020
CREATED:20260121T203235Z
LAST-MODIFIED:20260410T190246Z
UID:23616-1771264800-1771268400@www.unitedskates.com
SUMMARY:Adult Skate Lessons
DESCRIPTION:🛼✨ ADULT SKATING LESSONS – MONDAY NIGHTS ✨🛼 \nReady to level up your skating skills or finally learn how to roll with confidence? Join us for Adult Skating Lessons designed just for adults in a fun\, supportive\, and no-pressure environment! Whether you’re a beginner or looking to sharpen your moves\, our experienced instructors will help you find your rhythm on wheels. \n📅 Every Monday Night🕕 6:00pm–7:00pm💲 Only $25.00 per lesson✔️ Includes admission\, skate rental\, and lesson🔞 18+ with valid ID required \nStick around after your lesson and keep the good vibes going! 🎶🛼Skaters are welcome to stay for our Old School Adult Skate from 7:00pm–11:00pm — featuring classic jams and smooth roller-rink energy.🔞 Must be 25+ for the Adult Skate \nGet your Tickets Here!  \nWhether you’re coming solo or with friends\, Monday nights are the perfect time to learn\, skate\, and unwind. Lace up and roll into your new favorite weekly routine!
URL:https://www.unitedskates.com/wickliffe/event/adult-skate-lessons-8/2026-02-16/
CATEGORIES:Adult Events,Lessons
ATTACH;FMTTYPE=image/jpeg:https://unitedskates-assets.sfo3.digitaloceanspaces.com/wp-content/uploads/sites/12/2026/01/Adult_Skating_Lessons_8.5x11.jpg
END:VEVENT
BEGIN:VEVENT
DTSTART;TZID=America/New_York:20260216T190000
DTEND;TZID=America/New_York:20260216T230000
DTSTAMP:20260420T110020
CREATED:20260106T210705Z
LAST-MODIFIED:20260106T211348Z
UID:23255-1771268400-1771282800@www.unitedskates.com
SUMMARY:President's Day Old School Skate
DESCRIPTION:It’s a Presidents Day Old School Skate! 🎉 \nWe’re taking it back to the greatest hits\, classic grooves\, and old-school skate vibes all night long. This one is strictly for the grown crowd — smooth beats\, good energy\, and nonstop nostalgia on the rink! 😎🎵 \n📅 Monday\, February 16th🕖 7:00pm–11:00pm \n🛼 Admission: $12.00👟 Skate Rental: $6.00🔞 25+ with valid ID \nGrab your crew\, lace up\, and roll the night away to the throwback favorites you know and love! 💥🛼 \nSecure your Spot! Buy Online!
URL:https://www.unitedskates.com/wickliffe/event/presidents-day-old-school-skate-3/
CATEGORIES:Adult Events,Special Events
ATTACH;FMTTYPE=image/png:https://unitedskates-assets.sfo3.digitaloceanspaces.com/wp-content/uploads/sites/12/2026/01/Adult-Presidents-Day-Skate.png
END:VEVENT
BEGIN:VEVENT
DTSTART;TZID=America/New_York:20260222T210000
DTEND;TZID=America/New_York:20260223T003000
DTSTAMP:20260420T110020
CREATED:20251212T232916Z
LAST-MODIFIED:20260403T201954Z
UID:23093-1771794000-1771806600@www.unitedskates.com
SUMMARY:Sunday Adult Night
DESCRIPTION:Sunday Nights are meant for Skating! \nAdults this night is for you and you only! \nEvery Sunday Night 9:00pm-12:30am \nFeaturing R&B\, Hip-Hop and Skate Music  \nMusic Spun by DJ Ivory \nAdmission $12.00 \nSkate Rental $6.00 \n18+ with valid ID \nSkip the line-buy your tickets online! BUY HERE!
URL:https://www.unitedskates.com/wickliffe/event/sunday-adult-night-2/2026-02-22/
CATEGORIES:Adult Events,Public Skates
ATTACH;FMTTYPE=image/jpeg:https://unitedskates-assets.sfo3.digitaloceanspaces.com/wp-content/uploads/sites/12/2025/12/sunday-adult-1.jpg
END:VEVENT
BEGIN:VEVENT
DTSTART;TZID=America/New_York:20260223T180000
DTEND;TZID=America/New_York:20260223T190000
DTSTAMP:20260420T110020
CREATED:20260121T203235Z
LAST-MODIFIED:20260410T190259Z
UID:23617-1771869600-1771873200@www.unitedskates.com
SUMMARY:Adult Skate Lessons
DESCRIPTION:🛼✨ ADULT SKATING LESSONS – MONDAY NIGHTS ✨🛼 \nReady to level up your skating skills or finally learn how to roll with confidence? Join us for Adult Skating Lessons designed just for adults in a fun\, supportive\, and no-pressure environment! Whether you’re a beginner or looking to sharpen your moves\, our experienced instructors will help you find your rhythm on wheels. \n📅 Every Monday Night🕕 6:00pm–7:00pm💲 Only $25.00 per lesson✔️ Includes admission\, skate rental\, and lesson🔞 18+ with valid ID required \nStick around after your lesson and keep the good vibes going! 🎶🛼Skaters are welcome to stay for our Old School Adult Skate from 7:00pm–11:00pm — featuring classic jams and smooth roller-rink energy.🔞 Must be 25+ for the Adult Skate \nGet your Tickets Here!  \nWhether you’re coming solo or with friends\, Monday nights are the perfect time to learn\, skate\, and unwind. Lace up and roll into your new favorite weekly routine!
URL:https://www.unitedskates.com/wickliffe/event/adult-skate-lessons-8/2026-02-23/
CATEGORIES:Adult Events,Lessons
ATTACH;FMTTYPE=image/jpeg:https://unitedskates-assets.sfo3.digitaloceanspaces.com/wp-content/uploads/sites/12/2026/01/Adult_Skating_Lessons_8.5x11.jpg
END:VEVENT
BEGIN:VEVENT
DTSTART;TZID=America/New_York:20260223T190000
DTEND;TZID=America/New_York:20260223T230000
DTSTAMP:20260420T110020
CREATED:20241023T010008Z
LAST-MODIFIED:20260403T195640Z
UID:22757-1771873200-1771887600@www.unitedskates.com
SUMMARY:Old School Adult Skate
DESCRIPTION:We are taking it back Old School every Monday \nAdults 25+ come skate your Mondays Away \n7:00pm-11:00pm \nFeaturing 80’s\, 90’s\, Jazz and Skate Music  \nMusic spun by DJ Ivory  \nAdmission $12.00 \nSkate Rental $6.00 \n25+ with valid ID \nSkip the line-buy your tickets online! BUY HERE!
URL:https://www.unitedskates.com/wickliffe/event/old-school-adult-skate-4/2026-02-23/
CATEGORIES:Adult Events,Public Skates
ATTACH;FMTTYPE=image/jpeg:https://unitedskates-assets.sfo3.digitaloceanspaces.com/wp-content/uploads/sites/12/2024/10/Old-School-Adult-Skate-rink11-v3.jpg
END:VEVENT
END:VCALENDAR