BEGIN:VCALENDAR
VERSION:2.0
PRODID:-//Rink 11 - Wickliffe - ECPv6.15.20//NONSGML v1.0//EN
CALSCALE:GREGORIAN
METHOD:PUBLISH
X-ORIGINAL-URL:https://www.unitedskates.com/wickliffe
X-WR-CALDESC:Events for Rink 11 - Wickliffe
REFRESH-INTERVAL;VALUE=DURATION:PT1H
X-Robots-Tag:noindex
X-PUBLISHED-TTL:PT1H
BEGIN:VTIMEZONE
TZID:America/New_York
BEGIN:DAYLIGHT
TZOFFSETFROM:-0500
TZOFFSETTO:-0400
TZNAME:EDT
DTSTART:20240310T070000
END:DAYLIGHT
BEGIN:STANDARD
TZOFFSETFROM:-0400
TZOFFSETTO:-0500
TZNAME:EST
DTSTART:20241103T060000
END:STANDARD
BEGIN:DAYLIGHT
TZOFFSETFROM:-0500
TZOFFSETTO:-0400
TZNAME:EDT
DTSTART:20250309T070000
END:DAYLIGHT
BEGIN:STANDARD
TZOFFSETFROM:-0400
TZOFFSETTO:-0500
TZNAME:EST
DTSTART:20251102T060000
END:STANDARD
BEGIN:DAYLIGHT
TZOFFSETFROM:-0500
TZOFFSETTO:-0400
TZNAME:EDT
DTSTART:20260308T070000
END:DAYLIGHT
BEGIN:STANDARD
TZOFFSETFROM:-0400
TZOFFSETTO:-0500
TZNAME:EST
DTSTART:20261101T060000
END:STANDARD
END:VTIMEZONE
BEGIN:VEVENT
DTSTART;TZID=America/New_York:20251102T213000
DTEND;TZID=America/New_York:20251103T013000
DTSTAMP:20260422T193745
CREATED:20241023T003041Z
LAST-MODIFIED:20251212T232604Z
UID:21678-1762119000-1762133400@www.unitedskates.com
SUMMARY:Sunday Night Adult Skate
DESCRIPTION:Sunday Nights are meant for Skating! \nAdults this night is for you and you only! \nEvery Sunday Night 9:30pm-1:30am \nFeaturing R&B\, Hip-Hop and Skate Music  \nMusic Spun by DJ Ivory \nAdmission $12.00 \nSkate Rental $6.00 \n18+ with valid ID \nSkip the line-buy your tickets online! BUY HERE!
URL:https://www.unitedskates.com/wickliffe/event/sunday-night-adult-skate/2025-11-02/
CATEGORIES:Adult Events,Public Skates
ATTACH;FMTTYPE=image/jpeg:https://unitedskates-assets.sfo3.digitaloceanspaces.com/wp-content/uploads/sites/12/2024/10/new-Sunday-Night-Adult-Skate-r-11-1.jpg
END:VEVENT
BEGIN:VEVENT
DTSTART;TZID=America/New_York:20251103T180000
DTEND;TZID=America/New_York:20251103T190000
DTSTAMP:20260422T193745
CREATED:20251029T160701Z
LAST-MODIFIED:20251208T200952Z
UID:22373-1762192800-1762196400@www.unitedskates.com
SUMMARY:Adult Skate Lessons
DESCRIPTION:🎉 ADULT SKATE LESSONS ARE BACK! 🛼✨ \nReady to roll into something fun this season? Our Adult Skate Lessons are the perfect way to learn new skills\, boost your confidence\, and have a great time on the rink! \n📅 When: Every Monday | 6:00pm – 7:00pm💲 Only $100.00 for 4 weeks! \n🌀 Session Dates: \n\n\nSession 1: November 3rd – November 24th \n\n\nSession 2: December 1st – December 22nd \n\n\nSession 3: December 29th – January 19th \n\n\nWhether you’re a total beginner or brushing up on your skills\, our instructors will help you glide with confidence! \n👉 Stop in to register prior to your session!Spots fill up fast — don’t miss your chance to roll with us this season!
URL:https://www.unitedskates.com/wickliffe/event/adult-skate-lessons-7/2025-11-03/
CATEGORIES:Adult Events,Lessons
ATTACH;FMTTYPE=image/jpeg:https://unitedskates-assets.sfo3.digitaloceanspaces.com/wp-content/uploads/sites/12/2025/10/fall-and-winter-adult-scaled.jpg
END:VEVENT
BEGIN:VEVENT
DTSTART;TZID=America/New_York:20251103T190000
DTEND;TZID=America/New_York:20251103T230000
DTSTAMP:20260422T193745
CREATED:20241023T010008Z
LAST-MODIFIED:20260403T195632Z
UID:21658-1762196400-1762210800@www.unitedskates.com
SUMMARY:Old School Adult Skate
DESCRIPTION:We are taking it back Old School every Monday \nAdults 25+ come skate your Mondays Away \n7:00pm-11:00pm \nFeaturing 80’s\, 90’s\, Jazz and Skate Music  \nMusic spun by DJ Ivory  \nAdmission $12.00 \nSkate Rental $6.00 \n25+ with valid ID \nSkip the line-buy your tickets online! BUY HERE!
URL:https://www.unitedskates.com/wickliffe/event/old-school-adult-skate-4/2025-11-03/
CATEGORIES:Adult Events,Public Skates
ATTACH;FMTTYPE=image/jpeg:https://unitedskates-assets.sfo3.digitaloceanspaces.com/wp-content/uploads/sites/12/2024/10/Old-School-Adult-Skate-rink11-v3.jpg
END:VEVENT
BEGIN:VEVENT
DTSTART;TZID=America/New_York:20251107T213000
DTEND;TZID=America/New_York:20251108T000000
DTSTAMP:20260422T193745
CREATED:20250805T193209Z
LAST-MODIFIED:20251212T235017Z
UID:21838-1762551000-1762560000@www.unitedskates.com
SUMMARY:Emo Adult Skate
DESCRIPTION:🖤🛼 EMO ADULT SKATE NIGHTS 🛼🖤Every Friday Night – Starting October 3rd18+ ONLY with Valid ID \nIt’s not a phase… it’s a whole vibe.Get ready to relive the glory days of eyeliner\, heartbreak anthems\, and skatin’ through all the emotions — because Emo Adult Skate Nights are rolling in every Friday starting October 3rd! 🎶💔🔥 \n🎧 All session long\, we’re blasting your favorite punk & alternative hits:💀 My Chemical Romance💔 Panic! At the Disco🔥 The Used🎤 Paramore🖊️ Simple Plan…and so much more that’ll take you straight back to your teenage bedroom. \n🖤 Come dressed in your best emo fashion — black on black\, studded belts\, band tees\, Converse\, and eyeliner for days📸 Blacklight photo ops + moody lighting to set the perfect scene🎟️ 18+ ONLY — Valid ID required at the door🕘 Every Friday Night 9:30pm-12:00am💲 Admission $12.00 Skate Rental $6.00 \nScream\, skate\, and sing your heart out. \nTickets Here!
URL:https://www.unitedskates.com/wickliffe/event/emo-adult-skate-6-2025-11-07/
CATEGORIES:Adult Events,Public Skates,Special Events
ATTACH;FMTTYPE=image/jpeg:https://unitedskates-assets.sfo3.digitaloceanspaces.com/wp-content/uploads/sites/12/2025/08/Emo-Adult-Night-Calendar.jpg
END:VEVENT
BEGIN:VEVENT
DTSTART;TZID=America/New_York:20251109T213000
DTEND;TZID=America/New_York:20251110T013000
DTSTAMP:20260422T193745
CREATED:20241023T003041Z
LAST-MODIFIED:20251212T232605Z
UID:21679-1762723800-1762738200@www.unitedskates.com
SUMMARY:Sunday Night Adult Skate
DESCRIPTION:Sunday Nights are meant for Skating! \nAdults this night is for you and you only! \nEvery Sunday Night 9:30pm-1:30am \nFeaturing R&B\, Hip-Hop and Skate Music  \nMusic Spun by DJ Ivory \nAdmission $12.00 \nSkate Rental $6.00 \n18+ with valid ID \nSkip the line-buy your tickets online! BUY HERE!
URL:https://www.unitedskates.com/wickliffe/event/sunday-night-adult-skate/2025-11-09/
CATEGORIES:Adult Events,Public Skates
ATTACH;FMTTYPE=image/jpeg:https://unitedskates-assets.sfo3.digitaloceanspaces.com/wp-content/uploads/sites/12/2024/10/new-Sunday-Night-Adult-Skate-r-11-1.jpg
END:VEVENT
BEGIN:VEVENT
DTSTART;TZID=America/New_York:20251110T180000
DTEND;TZID=America/New_York:20251110T190000
DTSTAMP:20260422T193745
CREATED:20251029T160701Z
LAST-MODIFIED:20251208T200953Z
UID:22376-1762797600-1762801200@www.unitedskates.com
SUMMARY:Adult Skate Lessons
DESCRIPTION:🎉 ADULT SKATE LESSONS ARE BACK! 🛼✨ \nReady to roll into something fun this season? Our Adult Skate Lessons are the perfect way to learn new skills\, boost your confidence\, and have a great time on the rink! \n📅 When: Every Monday | 6:00pm – 7:00pm💲 Only $100.00 for 4 weeks! \n🌀 Session Dates: \n\n\nSession 1: November 3rd – November 24th \n\n\nSession 2: December 1st – December 22nd \n\n\nSession 3: December 29th – January 19th \n\n\nWhether you’re a total beginner or brushing up on your skills\, our instructors will help you glide with confidence! \n👉 Stop in to register prior to your session!Spots fill up fast — don’t miss your chance to roll with us this season!
URL:https://www.unitedskates.com/wickliffe/event/adult-skate-lessons-7/2025-11-10/
CATEGORIES:Adult Events,Lessons
ATTACH;FMTTYPE=image/jpeg:https://unitedskates-assets.sfo3.digitaloceanspaces.com/wp-content/uploads/sites/12/2025/10/fall-and-winter-adult-scaled.jpg
END:VEVENT
BEGIN:VEVENT
DTSTART;TZID=America/New_York:20251110T190000
DTEND;TZID=America/New_York:20251110T230000
DTSTAMP:20260422T193745
CREATED:20241023T010008Z
LAST-MODIFIED:20260403T195632Z
UID:21659-1762801200-1762815600@www.unitedskates.com
SUMMARY:Old School Adult Skate
DESCRIPTION:We are taking it back Old School every Monday \nAdults 25+ come skate your Mondays Away \n7:00pm-11:00pm \nFeaturing 80’s\, 90’s\, Jazz and Skate Music  \nMusic spun by DJ Ivory  \nAdmission $12.00 \nSkate Rental $6.00 \n25+ with valid ID \nSkip the line-buy your tickets online! BUY HERE!
URL:https://www.unitedskates.com/wickliffe/event/old-school-adult-skate-4/2025-11-10/
CATEGORIES:Adult Events,Public Skates
ATTACH;FMTTYPE=image/jpeg:https://unitedskates-assets.sfo3.digitaloceanspaces.com/wp-content/uploads/sites/12/2024/10/Old-School-Adult-Skate-rink11-v3.jpg
END:VEVENT
BEGIN:VEVENT
DTSTART;TZID=America/New_York:20251116T213000
DTEND;TZID=America/New_York:20251117T013000
DTSTAMP:20260422T193745
CREATED:20241023T003041Z
LAST-MODIFIED:20251212T232605Z
UID:21680-1763328600-1763343000@www.unitedskates.com
SUMMARY:Sunday Night Adult Skate
DESCRIPTION:Sunday Nights are meant for Skating! \nAdults this night is for you and you only! \nEvery Sunday Night 9:30pm-1:30am \nFeaturing R&B\, Hip-Hop and Skate Music  \nMusic Spun by DJ Ivory \nAdmission $12.00 \nSkate Rental $6.00 \n18+ with valid ID \nSkip the line-buy your tickets online! BUY HERE!
URL:https://www.unitedskates.com/wickliffe/event/sunday-night-adult-skate/2025-11-16/
CATEGORIES:Adult Events,Public Skates
ATTACH;FMTTYPE=image/jpeg:https://unitedskates-assets.sfo3.digitaloceanspaces.com/wp-content/uploads/sites/12/2024/10/new-Sunday-Night-Adult-Skate-r-11-1.jpg
END:VEVENT
BEGIN:VEVENT
DTSTART;TZID=America/New_York:20251117T180000
DTEND;TZID=America/New_York:20251117T190000
DTSTAMP:20260422T193745
CREATED:20251029T160701Z
LAST-MODIFIED:20251208T200954Z
UID:22377-1763402400-1763406000@www.unitedskates.com
SUMMARY:Adult Skate Lessons
DESCRIPTION:🎉 ADULT SKATE LESSONS ARE BACK! 🛼✨ \nReady to roll into something fun this season? Our Adult Skate Lessons are the perfect way to learn new skills\, boost your confidence\, and have a great time on the rink! \n📅 When: Every Monday | 6:00pm – 7:00pm💲 Only $100.00 for 4 weeks! \n🌀 Session Dates: \n\n\nSession 1: November 3rd – November 24th \n\n\nSession 2: December 1st – December 22nd \n\n\nSession 3: December 29th – January 19th \n\n\nWhether you’re a total beginner or brushing up on your skills\, our instructors will help you glide with confidence! \n👉 Stop in to register prior to your session!Spots fill up fast — don’t miss your chance to roll with us this season!
URL:https://www.unitedskates.com/wickliffe/event/adult-skate-lessons-7/2025-11-17/
CATEGORIES:Adult Events,Lessons
ATTACH;FMTTYPE=image/jpeg:https://unitedskates-assets.sfo3.digitaloceanspaces.com/wp-content/uploads/sites/12/2025/10/fall-and-winter-adult-scaled.jpg
END:VEVENT
BEGIN:VEVENT
DTSTART;TZID=America/New_York:20251117T190000
DTEND;TZID=America/New_York:20251117T230000
DTSTAMP:20260422T193745
CREATED:20241023T010008Z
LAST-MODIFIED:20260403T195632Z
UID:21660-1763406000-1763420400@www.unitedskates.com
SUMMARY:Old School Adult Skate
DESCRIPTION:We are taking it back Old School every Monday \nAdults 25+ come skate your Mondays Away \n7:00pm-11:00pm \nFeaturing 80’s\, 90’s\, Jazz and Skate Music  \nMusic spun by DJ Ivory  \nAdmission $12.00 \nSkate Rental $6.00 \n25+ with valid ID \nSkip the line-buy your tickets online! BUY HERE!
URL:https://www.unitedskates.com/wickliffe/event/old-school-adult-skate-4/2025-11-17/
CATEGORIES:Adult Events,Public Skates
ATTACH;FMTTYPE=image/jpeg:https://unitedskates-assets.sfo3.digitaloceanspaces.com/wp-content/uploads/sites/12/2024/10/Old-School-Adult-Skate-rink11-v3.jpg
END:VEVENT
BEGIN:VEVENT
DTSTART;TZID=America/New_York:20251121T213000
DTEND;TZID=America/New_York:20251122T000000
DTSTAMP:20260422T193745
CREATED:20250805T194529Z
LAST-MODIFIED:20250918T192155Z
UID:21850-1763760600-1763769600@www.unitedskates.com
SUMMARY:80's Adult Night
DESCRIPTION:🎉🕺 80s Adult Night 🕺🎉18+ with Valid ID — Get Ready to Rock the Rink Retro Style! \nStep back in time and relive the most iconic decade with a night full of neon\, big hair\, and unforgettable beats! Whether you’re a fan of synth-pop\, rock\, or classic dance hits\, this is your chance to skate and groove like it’s 1985! \n🎶 Pump up the jams with all your favorite 80s hits from: \n\n\nMadonna \n\n\nMichael Jackson \n\n\nPrince \n\n\nDuran Duran \n\n\nCyndi Lauper…and many more! \n\n\n🛼 Lace up your skates and skate under vibrant neon lights🎤 80s-themed games\, contests\, and giveaways🕺 Dress to impress in your best 80s gear — leg warmers\, leather jackets\, and shoulder pads encouraged!🎟️ 18+ ONLY — Valid ID Required \n📅 Friday\, November 21st🕗 9:30pm-12:00am💲 Admission $12.00 Skate Rental $6.00 \nBring your friends\, your best moves\, and your brightest colors — it’s time to make the rink your personal dance floor!
URL:https://www.unitedskates.com/wickliffe/event/80s-adult-night/
CATEGORIES:Adult Events,Public Skates,Special Events
ATTACH;FMTTYPE=image/jpeg:https://unitedskates-assets.sfo3.digitaloceanspaces.com/wp-content/uploads/sites/12/2025/08/80s-Adult-Night-.jpg
END:VEVENT
BEGIN:VEVENT
DTSTART;TZID=America/New_York:20251123T213000
DTEND;TZID=America/New_York:20251124T013000
DTSTAMP:20260422T193745
CREATED:20241023T003041Z
LAST-MODIFIED:20251212T232605Z
UID:21681-1763933400-1763947800@www.unitedskates.com
SUMMARY:Sunday Night Adult Skate
DESCRIPTION:Sunday Nights are meant for Skating! \nAdults this night is for you and you only! \nEvery Sunday Night 9:30pm-1:30am \nFeaturing R&B\, Hip-Hop and Skate Music  \nMusic Spun by DJ Ivory \nAdmission $12.00 \nSkate Rental $6.00 \n18+ with valid ID \nSkip the line-buy your tickets online! BUY HERE!
URL:https://www.unitedskates.com/wickliffe/event/sunday-night-adult-skate/2025-11-23/
CATEGORIES:Adult Events,Public Skates
ATTACH;FMTTYPE=image/jpeg:https://unitedskates-assets.sfo3.digitaloceanspaces.com/wp-content/uploads/sites/12/2024/10/new-Sunday-Night-Adult-Skate-r-11-1.jpg
END:VEVENT
BEGIN:VEVENT
DTSTART;TZID=America/New_York:20251124T180000
DTEND;TZID=America/New_York:20251124T190000
DTSTAMP:20260422T193745
CREATED:20251029T160701Z
LAST-MODIFIED:20251208T200954Z
UID:22378-1764007200-1764010800@www.unitedskates.com
SUMMARY:Adult Skate Lessons
DESCRIPTION:🎉 ADULT SKATE LESSONS ARE BACK! 🛼✨ \nReady to roll into something fun this season? Our Adult Skate Lessons are the perfect way to learn new skills\, boost your confidence\, and have a great time on the rink! \n📅 When: Every Monday | 6:00pm – 7:00pm💲 Only $100.00 for 4 weeks! \n🌀 Session Dates: \n\n\nSession 1: November 3rd – November 24th \n\n\nSession 2: December 1st – December 22nd \n\n\nSession 3: December 29th – January 19th \n\n\nWhether you’re a total beginner or brushing up on your skills\, our instructors will help you glide with confidence! \n👉 Stop in to register prior to your session!Spots fill up fast — don’t miss your chance to roll with us this season!
URL:https://www.unitedskates.com/wickliffe/event/adult-skate-lessons-7/2025-11-24/
CATEGORIES:Adult Events,Lessons
ATTACH;FMTTYPE=image/jpeg:https://unitedskates-assets.sfo3.digitaloceanspaces.com/wp-content/uploads/sites/12/2025/10/fall-and-winter-adult-scaled.jpg
END:VEVENT
BEGIN:VEVENT
DTSTART;TZID=America/New_York:20251124T190000
DTEND;TZID=America/New_York:20251124T230000
DTSTAMP:20260422T193745
CREATED:20241023T010008Z
LAST-MODIFIED:20260403T195639Z
UID:21661-1764010800-1764025200@www.unitedskates.com
SUMMARY:Old School Adult Skate
DESCRIPTION:We are taking it back Old School every Monday \nAdults 25+ come skate your Mondays Away \n7:00pm-11:00pm \nFeaturing 80’s\, 90’s\, Jazz and Skate Music  \nMusic spun by DJ Ivory  \nAdmission $12.00 \nSkate Rental $6.00 \n25+ with valid ID \nSkip the line-buy your tickets online! BUY HERE!
URL:https://www.unitedskates.com/wickliffe/event/old-school-adult-skate-4/2025-11-24/
CATEGORIES:Adult Events,Public Skates
ATTACH;FMTTYPE=image/jpeg:https://unitedskates-assets.sfo3.digitaloceanspaces.com/wp-content/uploads/sites/12/2024/10/Old-School-Adult-Skate-rink11-v3.jpg
END:VEVENT
BEGIN:VEVENT
DTSTART;TZID=America/New_York:20251126T210000
DTEND;TZID=America/New_York:20251127T010000
DTSTAMP:20260422T193745
CREATED:20251001T143010Z
LAST-MODIFIED:20251003T223252Z
UID:22296-1764190800-1764205200@www.unitedskates.com
SUMMARY:Thanksgiving Eve Adult Skate
DESCRIPTION:🍂🛼 Thanksgiving Eve Adult Skate Night! 🛼🍂Calling all adults – this one’s just for YOU! 🎉 Before the big feast\, come celebrate Thanksgiving Eve on the rink with an exclusive 18+ skate night at United Skates of America. \n🗓 Wednesday\, November 26th🕘 9:00pm – 1:00am🎟 Admission: $13 | Skate Rental: $6🔞 Ages 18+ with valid ID \n✨ The Party Lineup:🎧 DJ Smillz in the booth bringing the heat🎶 JB – Cleveland Shuffle – House Music all night long🔥 The best grown-up vibes on 8 wheels! \n💻 Secure your spot NOW – buy online and guarantee entry! BUY HERE! \nKick off the holiday weekend with great music\, smooth skating\, and nothing but adult fun. Grab your crew\, lace up\, and let’s roll into Thanksgiving the right way!
URL:https://www.unitedskates.com/wickliffe/event/thanksgiving-eve-adult-skate-2/
CATEGORIES:Adult Events,Special Events
ATTACH;FMTTYPE=image/png:https://unitedskates-assets.sfo3.digitaloceanspaces.com/wp-content/uploads/sites/12/2025/10/Thanksgiving-Adult-Skate-1.png
END:VEVENT
BEGIN:VEVENT
DTSTART;TZID=America/New_York:20251130T213000
DTEND;TZID=America/New_York:20251201T013000
DTSTAMP:20260422T193745
CREATED:20241023T003041Z
LAST-MODIFIED:20251212T232606Z
UID:21682-1764538200-1764552600@www.unitedskates.com
SUMMARY:Sunday Night Adult Skate
DESCRIPTION:Sunday Nights are meant for Skating! \nAdults this night is for you and you only! \nEvery Sunday Night 9:30pm-1:30am \nFeaturing R&B\, Hip-Hop and Skate Music  \nMusic Spun by DJ Ivory \nAdmission $12.00 \nSkate Rental $6.00 \n18+ with valid ID \nSkip the line-buy your tickets online! BUY HERE!
URL:https://www.unitedskates.com/wickliffe/event/sunday-night-adult-skate/2025-11-30/
CATEGORIES:Adult Events,Public Skates
ATTACH;FMTTYPE=image/jpeg:https://unitedskates-assets.sfo3.digitaloceanspaces.com/wp-content/uploads/sites/12/2024/10/new-Sunday-Night-Adult-Skate-r-11-1.jpg
END:VEVENT
END:VCALENDAR