BEGIN:VCALENDAR
VERSION:2.0
PRODID:-//Rink 11 - Wickliffe - ECPv6.15.20//NONSGML v1.0//EN
CALSCALE:GREGORIAN
METHOD:PUBLISH
X-ORIGINAL-URL:https://www.unitedskates.com/wickliffe
X-WR-CALDESC:Events for Rink 11 - Wickliffe
REFRESH-INTERVAL;VALUE=DURATION:PT1H
X-Robots-Tag:noindex
X-PUBLISHED-TTL:PT1H
BEGIN:VTIMEZONE
TZID:America/New_York
BEGIN:DAYLIGHT
TZOFFSETFROM:-0500
TZOFFSETTO:-0400
TZNAME:EDT
DTSTART:20240310T070000
END:DAYLIGHT
BEGIN:STANDARD
TZOFFSETFROM:-0400
TZOFFSETTO:-0500
TZNAME:EST
DTSTART:20241103T060000
END:STANDARD
BEGIN:DAYLIGHT
TZOFFSETFROM:-0500
TZOFFSETTO:-0400
TZNAME:EDT
DTSTART:20250309T070000
END:DAYLIGHT
BEGIN:STANDARD
TZOFFSETFROM:-0400
TZOFFSETTO:-0500
TZNAME:EST
DTSTART:20251102T060000
END:STANDARD
BEGIN:DAYLIGHT
TZOFFSETFROM:-0500
TZOFFSETTO:-0400
TZNAME:EDT
DTSTART:20260308T070000
END:DAYLIGHT
BEGIN:STANDARD
TZOFFSETFROM:-0400
TZOFFSETTO:-0500
TZNAME:EST
DTSTART:20261101T060000
END:STANDARD
END:VTIMEZONE
BEGIN:VEVENT
DTSTART;TZID=America/New_York:20250602T180000
DTEND;TZID=America/New_York:20250602T190000
DTSTAMP:20260424T072039
CREATED:20250527T180727Z
LAST-MODIFIED:20250527T181031Z
UID:20460-1748887200-1748890800@www.unitedskates.com
SUMMARY:Summer Adult Skate Lessons
DESCRIPTION:Calling Adults! Want to learn how to roller skate? What about touching up on some skills! \nOur last 2 sessions are coming up!! \nEvery Monday from 6:00pm-7:00pm \n4 weeks of lessons for only $100.00 \nSession 1: Monday\, June 2nd\, Monday\, June 9th\, Monday\, June 16th & Monday\, June 23rd\nSession 2: Monday\, June 30th\, Monday\, July 7th\, Monday\, July 14th and Monday\, July 21st\nSession 3: Monday\, July 28th\, Monday\, August 4th\, Monday\, August 11th and Monday\, August 18th.\n\nPre-Registration Required! Call 440-944-5301 or Stop In!
URL:https://www.unitedskates.com/wickliffe/event/summer-adult-skate-lessons/2025-06-02/
CATEGORIES:Adult Events,Lessons
ATTACH;FMTTYPE=image/jpeg:https://unitedskates-assets.sfo3.digitaloceanspaces.com/wp-content/uploads/sites/12/2025/05/summer-lesson-scaled.jpg
END:VEVENT
BEGIN:VEVENT
DTSTART;TZID=America/New_York:20250604T183000
DTEND;TZID=America/New_York:20250604T213000
DTSTAMP:20260424T072039
CREATED:20250519T205303Z
LAST-MODIFIED:20250519T205304Z
UID:20437-1749061800-1749072600@www.unitedskates.com
SUMMARY:Adults Only Line Dancing
DESCRIPTION:🎶 Boots\, Buckles\, and a Whole Lotta Fun! 🤠 \nReady to kick up your heels and dance the night away? Join us for an adults-only night of line dancing\, laughter\, and lively tunes! Whether you’re a seasoned dancer or stepping onto the floor for the first time\, this is your chance to let loose\, learn some fun moves\, and make new friends. \nWednesday\, June 4th 6:30pm-9:30pm \nAdmission only $10.00🔞 Ages: 18+ only\n \nWe’ll have a fantastic instructor guiding you through the steps\, great music to keep you moving\, and a welcoming crowd that knows how to have a good time. So grab your boots\, bring your energy\, and leave the kids at home — this night is just for the grown-ups! \n💃🕺 Let’s line up\, step out\, and dance into the night!
URL:https://www.unitedskates.com/wickliffe/event/adults-only-line-dancing/
CATEGORIES:Adult Events,Special Events
ATTACH;FMTTYPE=image/jpeg:https://unitedskates-assets.sfo3.digitaloceanspaces.com/wp-content/uploads/sites/12/2025/05/87B523D1-5F94-4E10-85E4-741FD6627E6C.jpg
END:VEVENT
BEGIN:VEVENT
DTSTART;TZID=America/New_York:20250627T230000
DTEND;TZID=America/New_York:20250628T040000
DTSTAMP:20260424T072039
CREATED:20250604T191516Z
LAST-MODIFIED:20250615T014029Z
UID:20801-1751065200-1751083200@www.unitedskates.com
SUMMARY:Loyal to the Wood Adult Skate
DESCRIPTION:🛼🔥 10th Annual Loyal to the Wood Adult Skate 🔥🛼The wait is over! It’s time to celebrate a decade of loyalty to the wood with one of the biggest adult skate events of the year — hosted by the legendary Elite Squad! \nThis epic 2-night event is going down:📅 Friday\, June 27th & Saturday\, June 28th🕚 11:00 PM – 4:00 AM🎟️ Ages 18+ with valid ID \nAdmission $15.00 \nSkate Rental $6.00 \n🎧 Featuring an unmatched DJ lineup:🎶 DJ Smillz🎶 DJ Joe Bowen🎶 DJ Ivory \nGet ready for smooth grooves\, serious moves\, and all-night vibes as we roll into the 10th year of this iconic skate celebration. Don’t miss it — it’s going to be legendary. \nSkip the line-buy your tickets online! BUY HERE!
URL:https://www.unitedskates.com/wickliffe/event/loyal-to-the-wood-adult-skate/2025-06-27/
CATEGORIES:Adult Events,Public Skates,Special Events
ATTACH;FMTTYPE=image/jpeg:https://unitedskates-assets.sfo3.digitaloceanspaces.com/wp-content/uploads/sites/12/2025/06/elite-squad-scaled.jpg
END:VEVENT
END:VCALENDAR