BEGIN:VCALENDAR
VERSION:2.0
PRODID:-//Rink 11 - Wickliffe - ECPv6.15.20//NONSGML v1.0//EN
CALSCALE:GREGORIAN
METHOD:PUBLISH
X-ORIGINAL-URL:https://www.unitedskates.com/wickliffe
X-WR-CALDESC:Events for Rink 11 - Wickliffe
REFRESH-INTERVAL;VALUE=DURATION:PT1H
X-Robots-Tag:noindex
X-PUBLISHED-TTL:PT1H
BEGIN:VTIMEZONE
TZID:America/New_York
BEGIN:DAYLIGHT
TZOFFSETFROM:-0500
TZOFFSETTO:-0400
TZNAME:EDT
DTSTART:20220313T070000
END:DAYLIGHT
BEGIN:STANDARD
TZOFFSETFROM:-0400
TZOFFSETTO:-0500
TZNAME:EST
DTSTART:20221106T060000
END:STANDARD
BEGIN:DAYLIGHT
TZOFFSETFROM:-0500
TZOFFSETTO:-0400
TZNAME:EDT
DTSTART:20230312T070000
END:DAYLIGHT
BEGIN:STANDARD
TZOFFSETFROM:-0400
TZOFFSETTO:-0500
TZNAME:EST
DTSTART:20231105T060000
END:STANDARD
BEGIN:DAYLIGHT
TZOFFSETFROM:-0500
TZOFFSETTO:-0400
TZNAME:EDT
DTSTART:20240310T070000
END:DAYLIGHT
BEGIN:STANDARD
TZOFFSETFROM:-0400
TZOFFSETTO:-0500
TZNAME:EST
DTSTART:20241103T060000
END:STANDARD
END:VTIMEZONE
BEGIN:VEVENT
DTSTART;TZID=America/New_York:20230114T100000
DTEND;TZID=America/New_York:20230114T120000
DTSTAMP:20260424T082240
CREATED:20221229T195157Z
LAST-MODIFIED:20230123T182057Z
UID:11455-1673690400-1673697600@www.unitedskates.com
SUMMARY:Tiny Tot Character Skates
DESCRIPTION:Have a 10 year old or younger? Looking for something fun to do with them on Saturday Mornings? \nWe have all the fun you need! From skating\, arcade games and brand new laser blast laser tag! \nSaturday Mornings from 10:00am-12:00pm (psst. we have Characters coming..) \nJanuary 28th Snoopy \nFebruary 4th Olaf \nAdmission $8.00 \nSkate Rental $5.00 \nDoes your child have a favorite ride on toy? Guess what\, bring it with you and they can ride it in the center of our skate floor! \nAdmission: *All children between the ages of 3-17 are required to pay admission skate rental upon entering. Adults 18+ not skating may enter for free.All children 17 years of age and younger must have their own parent or guardian that is 25 years of age or older. One child between the ages 12-17 will be allowed in per parent or guardian. The parent or guardian must stay inside the building the entire session\, no drop offs are permitted.
URL:https://www.unitedskates.com/wickliffe/event/tiny-tot-character-skates/2023-01-14/
CATEGORIES:Family Events,Public Skates,Special Events
ATTACH;FMTTYPE=image/jpeg:https://unitedskates-assets.sfo3.digitaloceanspaces.com/wp-content/uploads/sites/12/2022/12/Kids-Summer-Camp-Poster-Flyer-Template-1-scaled.jpg
END:VEVENT
END:VCALENDAR