BEGIN:VCALENDAR
VERSION:2.0
PRODID:-//Rink 11 - Wickliffe - ECPv6.15.20//NONSGML v1.0//EN
CALSCALE:GREGORIAN
METHOD:PUBLISH
X-ORIGINAL-URL:https://www.unitedskates.com/wickliffe
X-WR-CALDESC:Events for Rink 11 - Wickliffe
REFRESH-INTERVAL;VALUE=DURATION:PT1H
X-Robots-Tag:noindex
X-PUBLISHED-TTL:PT1H
BEGIN:VTIMEZONE
TZID:America/New_York
BEGIN:DAYLIGHT
TZOFFSETFROM:-0500
TZOFFSETTO:-0400
TZNAME:EDT
DTSTART:20210314T070000
END:DAYLIGHT
BEGIN:STANDARD
TZOFFSETFROM:-0400
TZOFFSETTO:-0500
TZNAME:EST
DTSTART:20211107T060000
END:STANDARD
BEGIN:DAYLIGHT
TZOFFSETFROM:-0500
TZOFFSETTO:-0400
TZNAME:EDT
DTSTART:20220313T070000
END:DAYLIGHT
BEGIN:STANDARD
TZOFFSETFROM:-0400
TZOFFSETTO:-0500
TZNAME:EST
DTSTART:20221106T060000
END:STANDARD
BEGIN:DAYLIGHT
TZOFFSETFROM:-0500
TZOFFSETTO:-0400
TZNAME:EDT
DTSTART:20230312T070000
END:DAYLIGHT
BEGIN:STANDARD
TZOFFSETFROM:-0400
TZOFFSETTO:-0500
TZNAME:EST
DTSTART:20231105T060000
END:STANDARD
END:VTIMEZONE
BEGIN:VEVENT
DTSTART;TZID=America/New_York:20220506T180000
DTEND;TZID=America/New_York:20220506T210000
DTSTAMP:20260424T082955
CREATED:20220503T152154Z
LAST-MODIFIED:20220516T235522Z
UID:3990-1651860000-1651870800@www.unitedskates.com
SUMMARY:Friday Princess Roller Skate
DESCRIPTION:Top 40\, Pop and R&B Music\n\n\n\nBe our Guest!! Come and see Princess Beauty!  \n\n\n\nAdmission $9.00 \n\n\n\nSkate Rental or rollerblade rental $5.00  \n\n\n\nPrincess Beauty will be here from 6:30pm-7:30pm\n\n\n\n*Masks are required for all non vaccinated adults and children  \n\n\n\nAll children ages 12-17 have to come with their own parent/guardian (ages 25 and older). One child between the ages 12-17 will be admitted into the building per parent/guardian. Parent/Guardian must stay inside the building and cannot leave child unsupervised (no drop offs)
URL:https://www.unitedskates.com/wickliffe/event/princess-friday-skate-birthday-parties/2022-05-06/
LOCATION:United Skates Of America Wickliffe\, 30325 Palisades Pkwy.\, Wickliffe\, OH\, 44092\, United States
CATEGORIES:Public Skates
ATTACH;FMTTYPE=image/jpeg:https://unitedskates-assets.sfo3.digitaloceanspaces.com/wp-content/uploads/sites/12/2022/05/Princess-Skate-1200x900-1.jpg
END:VEVENT
END:VCALENDAR