BEGIN:VCALENDAR
VERSION:2.0
PRODID:-//Rink 11 - Wickliffe - ECPv6.15.20//NONSGML v1.0//EN
CALSCALE:GREGORIAN
METHOD:PUBLISH
X-WR-CALNAME:Rink 11 - Wickliffe
X-ORIGINAL-URL:https://www.unitedskates.com/wickliffe
X-WR-CALDESC:Events for Rink 11 - Wickliffe
REFRESH-INTERVAL;VALUE=DURATION:PT1H
X-Robots-Tag:noindex
X-PUBLISHED-TTL:PT1H
BEGIN:VTIMEZONE
TZID:America/New_York
BEGIN:DAYLIGHT
TZOFFSETFROM:-0500
TZOFFSETTO:-0400
TZNAME:EDT
DTSTART:20220313T070000
END:DAYLIGHT
BEGIN:STANDARD
TZOFFSETFROM:-0400
TZOFFSETTO:-0500
TZNAME:EST
DTSTART:20221106T060000
END:STANDARD
BEGIN:DAYLIGHT
TZOFFSETFROM:-0500
TZOFFSETTO:-0400
TZNAME:EDT
DTSTART:20230312T070000
END:DAYLIGHT
BEGIN:STANDARD
TZOFFSETFROM:-0400
TZOFFSETTO:-0500
TZNAME:EST
DTSTART:20231105T060000
END:STANDARD
BEGIN:DAYLIGHT
TZOFFSETFROM:-0500
TZOFFSETTO:-0400
TZNAME:EDT
DTSTART:20240310T070000
END:DAYLIGHT
BEGIN:STANDARD
TZOFFSETFROM:-0400
TZOFFSETTO:-0500
TZNAME:EST
DTSTART:20241103T060000
END:STANDARD
END:VTIMEZONE
BEGIN:VEVENT
DTSTART;TZID=America/New_York:20230116T130000
DTEND;TZID=America/New_York:20230116T153000
DTSTAMP:20260424T205014
CREATED:20221207T201231Z
LAST-MODIFIED:20230102T150758Z
UID:11051-1673874000-1673883000@www.unitedskates.com
SUMMARY:MLK Day Skate
DESCRIPTION:School’s Out! It’s time to Roller Skate! \nCome Celebrate Martin Luther King Jr. on the rink with your familes and friends! \nMonday\, January 16th \nWe are OPEN all DAY Long! \n10:00am-12:30pm\, 1:00pm-3:30pm and 4:00pm-6:30pm \nAdmission $9.00 \nSkate Rental $5.00 \nPs. We are taking Group Reservations for Organized Groups\, Daycares\, YMCA’s & More! Call Amber today for more information 440-944-5301 \nAdmission: *All children between the ages of 3-17 are required to pay admission skate rental upon entering. Adults 18+ not skating may enter for free.\nAll children 17 years of age and younger must have their own parent or guardian that is 25 years of age or older. One child between the ages 12-17 will be allowed in per parent or guardian. The parent or guardian must stay inside the building the entire session\, no drop offs are permitted.
URL:https://www.unitedskates.com/wickliffe/event/mlk-day-skate/2023-01-16/
CATEGORIES:Family Events,Public Skates,Special Events
ATTACH;FMTTYPE=image/jpeg:https://unitedskates-assets.sfo3.digitaloceanspaces.com/wp-content/uploads/sites/12/2022/12/MlK-Tile-2023.jpg
END:VEVENT
END:VCALENDAR