BEGIN:VCALENDAR
VERSION:2.0
PRODID:-//Rink 66 - Wheels Durham - ECPv6.15.20//NONSGML v1.0//EN
CALSCALE:GREGORIAN
METHOD:PUBLISH
X-ORIGINAL-URL:https://www.unitedskates.com/wheels-durham
X-WR-CALDESC:Events for Rink 66 - Wheels Durham
REFRESH-INTERVAL;VALUE=DURATION:PT1H
X-Robots-Tag:noindex
X-PUBLISHED-TTL:PT1H
BEGIN:VTIMEZONE
TZID:America/New_York
BEGIN:DAYLIGHT
TZOFFSETFROM:-0500
TZOFFSETTO:-0400
TZNAME:EDT
DTSTART:20250309T070000
END:DAYLIGHT
BEGIN:STANDARD
TZOFFSETFROM:-0400
TZOFFSETTO:-0500
TZNAME:EST
DTSTART:20251102T060000
END:STANDARD
BEGIN:DAYLIGHT
TZOFFSETFROM:-0500
TZOFFSETTO:-0400
TZNAME:EDT
DTSTART:20260308T070000
END:DAYLIGHT
BEGIN:STANDARD
TZOFFSETFROM:-0400
TZOFFSETTO:-0500
TZNAME:EST
DTSTART:20261101T060000
END:STANDARD
BEGIN:DAYLIGHT
TZOFFSETFROM:-0500
TZOFFSETTO:-0400
TZNAME:EDT
DTSTART:20270314T070000
END:DAYLIGHT
BEGIN:STANDARD
TZOFFSETFROM:-0400
TZOFFSETTO:-0500
TZNAME:EST
DTSTART:20271107T060000
END:STANDARD
END:VTIMEZONE
BEGIN:VEVENT
DTSTART;TZID=America/New_York:20260418T190000
DTEND;TZID=America/New_York:20260418T213000
DTSTAMP:20260419T232313
CREATED:20250219T163340Z
LAST-MODIFIED:20250219T163340Z
UID:22461-1776538800-1776547800@www.unitedskates.com
SUMMARY:Hip Hop Saturday Night
DESCRIPTION:CLICK OR TAP HERE TO FILL OUT OUR WAIVER \nALL GUESTS ENTERING THE FACILITY MUST FILL OUT A WAIVER \n$14.00 Regular Admission \n$4.00 Spectator Admission for non-skating chaperones 18+ \n$6.00 Regular Skate Rental \n$7.00 Rollerblade Rental \n$6.00 Skatemate Rental \nFeaturing Hip Hop and R&B Music \n*All children 17 and under must be accompanied by an adult 21 and older on Friday and Saturday nights starting after 6pm.
URL:https://www.unitedskates.com/wheels-durham/event/hip-hop-saturday-night-2026-03-07/2026-04-18/
LOCATION:Wheels Durham\, 715 N. Hoover Road\, Durham\, NC\, 27703\, United States
CATEGORIES:Family Events,Public Skates
ATTACH;FMTTYPE=image/jpeg:https://unitedskates-assets.sfo3.digitaloceanspaces.com/wp-content/uploads/sites/29/2025/02/Hip-Hop-Skate-2022-1200x1200-1.jpg
END:VEVENT
BEGIN:VEVENT
DTSTART;TZID=America/New_York:20260411T190000
DTEND;TZID=America/New_York:20260411T213000
DTSTAMP:20260419T232313
CREATED:20250219T163340Z
LAST-MODIFIED:20250219T163340Z
UID:22460-1775934000-1775943000@www.unitedskates.com
SUMMARY:Hip Hop Saturday Night
DESCRIPTION:CLICK OR TAP HERE TO FILL OUT OUR WAIVER \nALL GUESTS ENTERING THE FACILITY MUST FILL OUT A WAIVER \n$14.00 Regular Admission \n$4.00 Spectator Admission for non-skating chaperones 18+ \n$6.00 Regular Skate Rental \n$7.00 Rollerblade Rental \n$6.00 Skatemate Rental \nFeaturing Hip Hop and R&B Music \n*All children 17 and under must be accompanied by an adult 21 and older on Friday and Saturday nights starting after 6pm.
URL:https://www.unitedskates.com/wheels-durham/event/hip-hop-saturday-night-2026-03-07/2026-04-11/
LOCATION:Wheels Durham\, 715 N. Hoover Road\, Durham\, NC\, 27703\, United States
CATEGORIES:Family Events,Public Skates
ATTACH;FMTTYPE=image/jpeg:https://unitedskates-assets.sfo3.digitaloceanspaces.com/wp-content/uploads/sites/29/2025/02/Hip-Hop-Skate-2022-1200x1200-1.jpg
END:VEVENT
BEGIN:VEVENT
DTSTART;TZID=America/New_York:20260404T190000
DTEND;TZID=America/New_York:20260404T213000
DTSTAMP:20260419T232313
CREATED:20250219T163340Z
LAST-MODIFIED:20250219T163340Z
UID:22459-1775329200-1775338200@www.unitedskates.com
SUMMARY:Hip Hop Saturday Night
DESCRIPTION:CLICK OR TAP HERE TO FILL OUT OUR WAIVER \nALL GUESTS ENTERING THE FACILITY MUST FILL OUT A WAIVER \n$14.00 Regular Admission \n$4.00 Spectator Admission for non-skating chaperones 18+ \n$6.00 Regular Skate Rental \n$7.00 Rollerblade Rental \n$6.00 Skatemate Rental \nFeaturing Hip Hop and R&B Music \n*All children 17 and under must be accompanied by an adult 21 and older on Friday and Saturday nights starting after 6pm.
URL:https://www.unitedskates.com/wheels-durham/event/hip-hop-saturday-night-2026-03-07/2026-04-04/
LOCATION:Wheels Durham\, 715 N. Hoover Road\, Durham\, NC\, 27703\, United States
CATEGORIES:Family Events,Public Skates
ATTACH;FMTTYPE=image/jpeg:https://unitedskates-assets.sfo3.digitaloceanspaces.com/wp-content/uploads/sites/29/2025/02/Hip-Hop-Skate-2022-1200x1200-1.jpg
END:VEVENT
BEGIN:VEVENT
DTSTART;TZID=America/New_York:20260328T190000
DTEND;TZID=America/New_York:20260328T213000
DTSTAMP:20260419T232313
CREATED:20250219T163340Z
LAST-MODIFIED:20250219T163340Z
UID:22458-1774724400-1774733400@www.unitedskates.com
SUMMARY:Hip Hop Saturday Night
DESCRIPTION:CLICK OR TAP HERE TO FILL OUT OUR WAIVER \nALL GUESTS ENTERING THE FACILITY MUST FILL OUT A WAIVER \n$14.00 Regular Admission \n$4.00 Spectator Admission for non-skating chaperones 18+ \n$6.00 Regular Skate Rental \n$7.00 Rollerblade Rental \n$6.00 Skatemate Rental \nFeaturing Hip Hop and R&B Music \n*All children 17 and under must be accompanied by an adult 21 and older on Friday and Saturday nights starting after 6pm.
URL:https://www.unitedskates.com/wheels-durham/event/hip-hop-saturday-night-2026-03-07/2026-03-28/
LOCATION:Wheels Durham\, 715 N. Hoover Road\, Durham\, NC\, 27703\, United States
CATEGORIES:Family Events,Public Skates
ATTACH;FMTTYPE=image/jpeg:https://unitedskates-assets.sfo3.digitaloceanspaces.com/wp-content/uploads/sites/29/2025/02/Hip-Hop-Skate-2022-1200x1200-1.jpg
END:VEVENT
BEGIN:VEVENT
DTSTART;TZID=America/New_York:20260321T190000
DTEND;TZID=America/New_York:20260321T213000
DTSTAMP:20260419T232313
CREATED:20250219T163340Z
LAST-MODIFIED:20250219T163340Z
UID:22457-1774119600-1774128600@www.unitedskates.com
SUMMARY:Hip Hop Saturday Night
DESCRIPTION:CLICK OR TAP HERE TO FILL OUT OUR WAIVER \nALL GUESTS ENTERING THE FACILITY MUST FILL OUT A WAIVER \n$14.00 Regular Admission \n$4.00 Spectator Admission for non-skating chaperones 18+ \n$6.00 Regular Skate Rental \n$7.00 Rollerblade Rental \n$6.00 Skatemate Rental \nFeaturing Hip Hop and R&B Music \n*All children 17 and under must be accompanied by an adult 21 and older on Friday and Saturday nights starting after 6pm.
URL:https://www.unitedskates.com/wheels-durham/event/hip-hop-saturday-night-2026-03-07/2026-03-21/
LOCATION:Wheels Durham\, 715 N. Hoover Road\, Durham\, NC\, 27703\, United States
CATEGORIES:Family Events,Public Skates
ATTACH;FMTTYPE=image/jpeg:https://unitedskates-assets.sfo3.digitaloceanspaces.com/wp-content/uploads/sites/29/2025/02/Hip-Hop-Skate-2022-1200x1200-1.jpg
END:VEVENT
BEGIN:VEVENT
DTSTART;TZID=America/New_York:20260314T190000
DTEND;TZID=America/New_York:20260314T213000
DTSTAMP:20260419T232313
CREATED:20250219T163340Z
LAST-MODIFIED:20250219T163340Z
UID:22456-1773514800-1773523800@www.unitedskates.com
SUMMARY:Hip Hop Saturday Night
DESCRIPTION:CLICK OR TAP HERE TO FILL OUT OUR WAIVER \nALL GUESTS ENTERING THE FACILITY MUST FILL OUT A WAIVER \n$14.00 Regular Admission \n$4.00 Spectator Admission for non-skating chaperones 18+ \n$6.00 Regular Skate Rental \n$7.00 Rollerblade Rental \n$6.00 Skatemate Rental \nFeaturing Hip Hop and R&B Music \n*All children 17 and under must be accompanied by an adult 21 and older on Friday and Saturday nights starting after 6pm.
URL:https://www.unitedskates.com/wheels-durham/event/hip-hop-saturday-night-2026-03-07/2026-03-14/
LOCATION:Wheels Durham\, 715 N. Hoover Road\, Durham\, NC\, 27703\, United States
CATEGORIES:Family Events,Public Skates
ATTACH;FMTTYPE=image/jpeg:https://unitedskates-assets.sfo3.digitaloceanspaces.com/wp-content/uploads/sites/29/2025/02/Hip-Hop-Skate-2022-1200x1200-1.jpg
END:VEVENT
BEGIN:VEVENT
DTSTART;TZID=America/New_York:20260307T190000
DTEND;TZID=America/New_York:20260307T213000
DTSTAMP:20260419T232313
CREATED:20250219T163340Z
LAST-MODIFIED:20260303T155418Z
UID:19953-1772910000-1772919000@www.unitedskates.com
SUMMARY:Hip Hop Saturday Night
DESCRIPTION:CLICK OR TAP HERE TO FILL OUT OUR WAIVER \nALL GUESTS ENTERING THE FACILITY MUST FILL OUT A WAIVER \n$14.00 Regular Admission \n$4.00 Spectator Admission for non-skating chaperones 18+ \n$6.00 Regular Skate Rental \n$7.00 Rollerblade Rental \n$6.00 Skatemate Rental \nFeaturing Hip Hop and R&B Music \n*All children 17 and under must be accompanied by an adult 21 and older on Friday and Saturday nights starting after 6pm.
URL:https://www.unitedskates.com/wheels-durham/event/hip-hop-saturday-night-2026-03-07/2026-03-07/
LOCATION:Wheels Durham\, 715 N. Hoover Road\, Durham\, NC\, 27703\, United States
CATEGORIES:Family Events,Public Skates
ATTACH;FMTTYPE=image/jpeg:https://unitedskates-assets.sfo3.digitaloceanspaces.com/wp-content/uploads/sites/29/2025/02/Hip-Hop-Skate-2022-1200x1200-1.jpg
END:VEVENT
END:VCALENDAR