BEGIN:VCALENDAR
VERSION:2.0
PRODID:-//Rink 40 - Tampa - ECPv6.15.20//NONSGML v1.0//EN
CALSCALE:GREGORIAN
METHOD:PUBLISH
X-WR-CALNAME:Rink 40 - Tampa
X-ORIGINAL-URL:https://www.unitedskates.com/tampa
X-WR-CALDESC:Events for Rink 40 - Tampa
REFRESH-INTERVAL;VALUE=DURATION:PT1H
X-Robots-Tag:noindex
X-PUBLISHED-TTL:PT1H
BEGIN:VTIMEZONE
TZID:America/New_York
BEGIN:DAYLIGHT
TZOFFSETFROM:-0500
TZOFFSETTO:-0400
TZNAME:EDT
DTSTART:20210314T070000
END:DAYLIGHT
BEGIN:STANDARD
TZOFFSETFROM:-0400
TZOFFSETTO:-0500
TZNAME:EST
DTSTART:20211107T060000
END:STANDARD
BEGIN:DAYLIGHT
TZOFFSETFROM:-0500
TZOFFSETTO:-0400
TZNAME:EDT
DTSTART:20220313T070000
END:DAYLIGHT
BEGIN:STANDARD
TZOFFSETFROM:-0400
TZOFFSETTO:-0500
TZNAME:EST
DTSTART:20221106T060000
END:STANDARD
BEGIN:DAYLIGHT
TZOFFSETFROM:-0500
TZOFFSETTO:-0400
TZNAME:EDT
DTSTART:20230312T070000
END:DAYLIGHT
BEGIN:STANDARD
TZOFFSETFROM:-0400
TZOFFSETTO:-0500
TZNAME:EST
DTSTART:20231105T060000
END:STANDARD
BEGIN:DAYLIGHT
TZOFFSETFROM:-0500
TZOFFSETTO:-0400
TZNAME:EDT
DTSTART:20240310T070000
END:DAYLIGHT
BEGIN:STANDARD
TZOFFSETFROM:-0400
TZOFFSETTO:-0500
TZNAME:EST
DTSTART:20241103T060000
END:STANDARD
BEGIN:DAYLIGHT
TZOFFSETFROM:-0500
TZOFFSETTO:-0400
TZNAME:EDT
DTSTART:20250309T070000
END:DAYLIGHT
BEGIN:STANDARD
TZOFFSETFROM:-0400
TZOFFSETTO:-0500
TZNAME:EST
DTSTART:20251102T060000
END:STANDARD
BEGIN:DAYLIGHT
TZOFFSETFROM:-0500
TZOFFSETTO:-0400
TZNAME:EDT
DTSTART:20260308T070000
END:DAYLIGHT
BEGIN:STANDARD
TZOFFSETFROM:-0400
TZOFFSETTO:-0500
TZNAME:EST
DTSTART:20261101T060000
END:STANDARD
END:VTIMEZONE
BEGIN:VEVENT
DTSTART;TZID=America/New_York:20250927T090000
DTEND;TZID=America/New_York:20250927T100000
DTSTAMP:20260421T191721
CREATED:20230315T121729Z
LAST-MODIFIED:20250730T173005Z
UID:22411-1758963600-1758967200@www.unitedskates.com
SUMMARY:Saturday Skate Lessons
DESCRIPTION:9:00AM – Intermediate Lesson \n9:30AM – Beginner Lesson \nLearn To Skate Class \nLearn the basics of roller skating.  Perfect for children and adults \n$12 per person.  Includes skate rental\, skate mate\, wrist guards\, 30-minute instruction\, plus admission to our Kids Fun Skate that follows
URL:https://www.unitedskates.com/tampa/event/saturday-skate-lessons-2/2025-09-27/
CATEGORIES:Family Events,Lessons,Public Skates
ATTACH;FMTTYPE=image/jpeg:https://unitedskates-assets.sfo3.digitaloceanspaces.com/wp-content/uploads/sites/14/2023/03/Learn-To-Skate-Saturdays-2024.jpg
END:VEVENT
BEGIN:VEVENT
DTSTART;TZID=America/New_York:20250922T193000
DTEND;TZID=America/New_York:20250922T203000
DTSTAMP:20260421T191721
CREATED:20250805T171735Z
LAST-MODIFIED:20250805T171735Z
UID:22923-1758569400-1758573000@www.unitedskates.com
SUMMARY:Adult Skating Lessons
DESCRIPTION:Intermediate Skaters 7:30-8:00pm \nBeginner Skaters 8:00-8:30pm \nNew to skating\, or need refresher lessons?  Monday Night is for you!  Take a lesson before Newbie Night \n$15 per person (includes skate rental\, wrist guards\, plus Adult Newbie session) \nAges 18 & older only \nAll guests must complete our online waiver prior to entry
URL:https://www.unitedskates.com/tampa/event/adult-skating-lessons/2025-09-22/
CATEGORIES:Adult Events,Lessons
ATTACH;FMTTYPE=image/jpeg:https://unitedskates-assets.sfo3.digitaloceanspaces.com/wp-content/uploads/sites/14/2022/05/Adult-Skate-2022-1200x900-1.jpg
END:VEVENT
BEGIN:VEVENT
DTSTART;TZID=America/New_York:20250920T090000
DTEND;TZID=America/New_York:20250920T100000
DTSTAMP:20260421T191721
CREATED:20230315T121729Z
LAST-MODIFIED:20250730T173005Z
UID:22410-1758358800-1758362400@www.unitedskates.com
SUMMARY:Saturday Skate Lessons
DESCRIPTION:9:00AM – Intermediate Lesson \n9:30AM – Beginner Lesson \nLearn To Skate Class \nLearn the basics of roller skating.  Perfect for children and adults \n$12 per person.  Includes skate rental\, skate mate\, wrist guards\, 30-minute instruction\, plus admission to our Kids Fun Skate that follows
URL:https://www.unitedskates.com/tampa/event/saturday-skate-lessons-2/2025-09-20/
CATEGORIES:Family Events,Lessons,Public Skates
ATTACH;FMTTYPE=image/jpeg:https://unitedskates-assets.sfo3.digitaloceanspaces.com/wp-content/uploads/sites/14/2023/03/Learn-To-Skate-Saturdays-2024.jpg
END:VEVENT
BEGIN:VEVENT
DTSTART;TZID=America/New_York:20250915T193000
DTEND;TZID=America/New_York:20250915T203000
DTSTAMP:20260421T191721
CREATED:20250805T171735Z
LAST-MODIFIED:20250805T171735Z
UID:22922-1757964600-1757968200@www.unitedskates.com
SUMMARY:Adult Skating Lessons
DESCRIPTION:Intermediate Skaters 7:30-8:00pm \nBeginner Skaters 8:00-8:30pm \nNew to skating\, or need refresher lessons?  Monday Night is for you!  Take a lesson before Newbie Night \n$15 per person (includes skate rental\, wrist guards\, plus Adult Newbie session) \nAges 18 & older only \nAll guests must complete our online waiver prior to entry
URL:https://www.unitedskates.com/tampa/event/adult-skating-lessons/2025-09-15/
CATEGORIES:Adult Events,Lessons
ATTACH;FMTTYPE=image/jpeg:https://unitedskates-assets.sfo3.digitaloceanspaces.com/wp-content/uploads/sites/14/2022/05/Adult-Skate-2022-1200x900-1.jpg
END:VEVENT
BEGIN:VEVENT
DTSTART;TZID=America/New_York:20250913T090000
DTEND;TZID=America/New_York:20250913T100000
DTSTAMP:20260421T191721
CREATED:20230315T121729Z
LAST-MODIFIED:20250730T173005Z
UID:22409-1757754000-1757757600@www.unitedskates.com
SUMMARY:Saturday Skate Lessons
DESCRIPTION:9:00AM – Intermediate Lesson \n9:30AM – Beginner Lesson \nLearn To Skate Class \nLearn the basics of roller skating.  Perfect for children and adults \n$12 per person.  Includes skate rental\, skate mate\, wrist guards\, 30-minute instruction\, plus admission to our Kids Fun Skate that follows
URL:https://www.unitedskates.com/tampa/event/saturday-skate-lessons-2/2025-09-13/
CATEGORIES:Family Events,Lessons,Public Skates
ATTACH;FMTTYPE=image/jpeg:https://unitedskates-assets.sfo3.digitaloceanspaces.com/wp-content/uploads/sites/14/2023/03/Learn-To-Skate-Saturdays-2024.jpg
END:VEVENT
BEGIN:VEVENT
DTSTART;TZID=America/New_York:20250908T193000
DTEND;TZID=America/New_York:20250908T203000
DTSTAMP:20260421T191721
CREATED:20250805T171735Z
LAST-MODIFIED:20250805T171735Z
UID:22921-1757359800-1757363400@www.unitedskates.com
SUMMARY:Adult Skating Lessons
DESCRIPTION:Intermediate Skaters 7:30-8:00pm \nBeginner Skaters 8:00-8:30pm \nNew to skating\, or need refresher lessons?  Monday Night is for you!  Take a lesson before Newbie Night \n$15 per person (includes skate rental\, wrist guards\, plus Adult Newbie session) \nAges 18 & older only \nAll guests must complete our online waiver prior to entry
URL:https://www.unitedskates.com/tampa/event/adult-skating-lessons/2025-09-08/
CATEGORIES:Adult Events,Lessons
ATTACH;FMTTYPE=image/jpeg:https://unitedskates-assets.sfo3.digitaloceanspaces.com/wp-content/uploads/sites/14/2022/05/Adult-Skate-2022-1200x900-1.jpg
END:VEVENT
BEGIN:VEVENT
DTSTART;TZID=America/New_York:20250906T090000
DTEND;TZID=America/New_York:20250906T100000
DTSTAMP:20260421T191721
CREATED:20230315T121729Z
LAST-MODIFIED:20250730T173004Z
UID:22408-1757149200-1757152800@www.unitedskates.com
SUMMARY:Saturday Skate Lessons
DESCRIPTION:9:00AM – Intermediate Lesson \n9:30AM – Beginner Lesson \nLearn To Skate Class \nLearn the basics of roller skating.  Perfect for children and adults \n$12 per person.  Includes skate rental\, skate mate\, wrist guards\, 30-minute instruction\, plus admission to our Kids Fun Skate that follows
URL:https://www.unitedskates.com/tampa/event/saturday-skate-lessons-2/2025-09-06/
CATEGORIES:Family Events,Lessons,Public Skates
ATTACH;FMTTYPE=image/jpeg:https://unitedskates-assets.sfo3.digitaloceanspaces.com/wp-content/uploads/sites/14/2023/03/Learn-To-Skate-Saturdays-2024.jpg
END:VEVENT
BEGIN:VEVENT
DTSTART;TZID=America/New_York:20250830T090000
DTEND;TZID=America/New_York:20250830T100000
DTSTAMP:20260421T191721
CREATED:20230315T121729Z
LAST-MODIFIED:20250730T173003Z
UID:22407-1756544400-1756548000@www.unitedskates.com
SUMMARY:Saturday Skate Lessons
DESCRIPTION:9:00AM – Intermediate Lesson \n9:30AM – Beginner Lesson \nLearn To Skate Class \nLearn the basics of roller skating.  Perfect for children and adults \n$12 per person.  Includes skate rental\, skate mate\, wrist guards\, 30-minute instruction\, plus admission to our Kids Fun Skate that follows
URL:https://www.unitedskates.com/tampa/event/saturday-skate-lessons-2/2025-08-30/
CATEGORIES:Family Events,Lessons,Public Skates
ATTACH;FMTTYPE=image/jpeg:https://unitedskates-assets.sfo3.digitaloceanspaces.com/wp-content/uploads/sites/14/2023/03/Learn-To-Skate-Saturdays-2024.jpg
END:VEVENT
BEGIN:VEVENT
DTSTART;TZID=America/New_York:20250825T193000
DTEND;TZID=America/New_York:20250825T203000
DTSTAMP:20260421T191721
CREATED:20250805T171735Z
LAST-MODIFIED:20250805T171735Z
UID:22920-1756150200-1756153800@www.unitedskates.com
SUMMARY:Adult Skating Lessons
DESCRIPTION:Intermediate Skaters 7:30-8:00pm \nBeginner Skaters 8:00-8:30pm \nNew to skating\, or need refresher lessons?  Monday Night is for you!  Take a lesson before Newbie Night \n$15 per person (includes skate rental\, wrist guards\, plus Adult Newbie session) \nAges 18 & older only \nAll guests must complete our online waiver prior to entry
URL:https://www.unitedskates.com/tampa/event/adult-skating-lessons/2025-08-25/
CATEGORIES:Adult Events,Lessons
ATTACH;FMTTYPE=image/jpeg:https://unitedskates-assets.sfo3.digitaloceanspaces.com/wp-content/uploads/sites/14/2022/05/Adult-Skate-2022-1200x900-1.jpg
END:VEVENT
BEGIN:VEVENT
DTSTART;TZID=America/New_York:20250823T090000
DTEND;TZID=America/New_York:20250823T100000
DTSTAMP:20260421T191721
CREATED:20230315T121729Z
LAST-MODIFIED:20250730T173003Z
UID:22406-1755939600-1755943200@www.unitedskates.com
SUMMARY:Saturday Skate Lessons
DESCRIPTION:9:00AM – Intermediate Lesson \n9:30AM – Beginner Lesson \nLearn To Skate Class \nLearn the basics of roller skating.  Perfect for children and adults \n$12 per person.  Includes skate rental\, skate mate\, wrist guards\, 30-minute instruction\, plus admission to our Kids Fun Skate that follows
URL:https://www.unitedskates.com/tampa/event/saturday-skate-lessons-2/2025-08-23/
CATEGORIES:Family Events,Lessons,Public Skates
ATTACH;FMTTYPE=image/jpeg:https://unitedskates-assets.sfo3.digitaloceanspaces.com/wp-content/uploads/sites/14/2023/03/Learn-To-Skate-Saturdays-2024.jpg
END:VEVENT
BEGIN:VEVENT
DTSTART;TZID=America/New_York:20250818T193000
DTEND;TZID=America/New_York:20250818T203000
DTSTAMP:20260421T191721
CREATED:20250805T171735Z
LAST-MODIFIED:20250805T171735Z
UID:22919-1755545400-1755549000@www.unitedskates.com
SUMMARY:Adult Skating Lessons
DESCRIPTION:Intermediate Skaters 7:30-8:00pm \nBeginner Skaters 8:00-8:30pm \nNew to skating\, or need refresher lessons?  Monday Night is for you!  Take a lesson before Newbie Night \n$15 per person (includes skate rental\, wrist guards\, plus Adult Newbie session) \nAges 18 & older only \nAll guests must complete our online waiver prior to entry
URL:https://www.unitedskates.com/tampa/event/adult-skating-lessons/2025-08-18/
CATEGORIES:Adult Events,Lessons
ATTACH;FMTTYPE=image/jpeg:https://unitedskates-assets.sfo3.digitaloceanspaces.com/wp-content/uploads/sites/14/2022/05/Adult-Skate-2022-1200x900-1.jpg
END:VEVENT
BEGIN:VEVENT
DTSTART;TZID=America/New_York:20250816T090000
DTEND;TZID=America/New_York:20250816T100000
DTSTAMP:20260421T191721
CREATED:20230315T121729Z
LAST-MODIFIED:20250730T173002Z
UID:22405-1755334800-1755338400@www.unitedskates.com
SUMMARY:Saturday Skate Lessons
DESCRIPTION:9:00AM – Intermediate Lesson \n9:30AM – Beginner Lesson \nLearn To Skate Class \nLearn the basics of roller skating.  Perfect for children and adults \n$12 per person.  Includes skate rental\, skate mate\, wrist guards\, 30-minute instruction\, plus admission to our Kids Fun Skate that follows
URL:https://www.unitedskates.com/tampa/event/saturday-skate-lessons-2/2025-08-16/
CATEGORIES:Family Events,Lessons,Public Skates
ATTACH;FMTTYPE=image/jpeg:https://unitedskates-assets.sfo3.digitaloceanspaces.com/wp-content/uploads/sites/14/2023/03/Learn-To-Skate-Saturdays-2024.jpg
END:VEVENT
BEGIN:VEVENT
DTSTART;TZID=America/New_York:20250811T193000
DTEND;TZID=America/New_York:20250811T203000
DTSTAMP:20260421T191721
CREATED:20250805T171735Z
LAST-MODIFIED:20250805T171846Z
UID:22907-1754940600-1754944200@www.unitedskates.com
SUMMARY:Adult Skating Lessons
DESCRIPTION:Intermediate Skaters 7:30-8:00pm \nBeginner Skaters 8:00-8:30pm \nNew to skating\, or need refresher lessons?  Monday Night is for you!  Take a lesson before Newbie Night \n$15 per person (includes skate rental\, wrist guards\, plus Adult Newbie session) \nAges 18 & older only \nAll guests must complete our online waiver prior to entry
URL:https://www.unitedskates.com/tampa/event/adult-skating-lessons/2025-08-11/
CATEGORIES:Adult Events,Lessons
ATTACH;FMTTYPE=image/jpeg:https://unitedskates-assets.sfo3.digitaloceanspaces.com/wp-content/uploads/sites/14/2022/05/Adult-Skate-2022-1200x900-1.jpg
END:VEVENT
BEGIN:VEVENT
DTSTART;TZID=America/New_York:20250809T090000
DTEND;TZID=America/New_York:20250809T100000
DTSTAMP:20260421T191721
CREATED:20230315T121729Z
LAST-MODIFIED:20250730T173001Z
UID:22404-1754730000-1754733600@www.unitedskates.com
SUMMARY:Saturday Skate Lessons
DESCRIPTION:9:00AM – Intermediate Lesson \n9:30AM – Beginner Lesson \nLearn To Skate Class \nLearn the basics of roller skating.  Perfect for children and adults \n$12 per person.  Includes skate rental\, skate mate\, wrist guards\, 30-minute instruction\, plus admission to our Kids Fun Skate that follows
URL:https://www.unitedskates.com/tampa/event/saturday-skate-lessons-2/2025-08-09/
CATEGORIES:Family Events,Lessons,Public Skates
ATTACH;FMTTYPE=image/jpeg:https://unitedskates-assets.sfo3.digitaloceanspaces.com/wp-content/uploads/sites/14/2023/03/Learn-To-Skate-Saturdays-2024.jpg
END:VEVENT
BEGIN:VEVENT
DTSTART;TZID=America/New_York:20250802T090000
DTEND;TZID=America/New_York:20250802T100000
DTSTAMP:20260421T191721
CREATED:20230315T121729Z
LAST-MODIFIED:20250730T173001Z
UID:22403-1754125200-1754128800@www.unitedskates.com
SUMMARY:Saturday Skate Lessons
DESCRIPTION:9:00AM – Intermediate Lesson \n9:30AM – Beginner Lesson \nLearn To Skate Class \nLearn the basics of roller skating.  Perfect for children and adults \n$12 per person.  Includes skate rental\, skate mate\, wrist guards\, 30-minute instruction\, plus admission to our Kids Fun Skate that follows
URL:https://www.unitedskates.com/tampa/event/saturday-skate-lessons-2/2025-08-02/
CATEGORIES:Family Events,Lessons,Public Skates
ATTACH;FMTTYPE=image/jpeg:https://unitedskates-assets.sfo3.digitaloceanspaces.com/wp-content/uploads/sites/14/2023/03/Learn-To-Skate-Saturdays-2024.jpg
END:VEVENT
BEGIN:VEVENT
DTSTART;TZID=America/New_York:20250726T090000
DTEND;TZID=America/New_York:20250726T100000
DTSTAMP:20260421T191721
CREATED:20230315T121729Z
LAST-MODIFIED:20250730T173000Z
UID:22402-1753520400-1753524000@www.unitedskates.com
SUMMARY:Saturday Skate Lessons
DESCRIPTION:9:00AM – Intermediate Lesson \n9:30AM – Beginner Lesson \nLearn To Skate Class \nLearn the basics of roller skating.  Perfect for children and adults \n$12 per person.  Includes skate rental\, skate mate\, wrist guards\, 30-minute instruction\, plus admission to our Kids Fun Skate that follows
URL:https://www.unitedskates.com/tampa/event/saturday-skate-lessons-2/2025-07-26/
CATEGORIES:Family Events,Lessons,Public Skates
ATTACH;FMTTYPE=image/jpeg:https://unitedskates-assets.sfo3.digitaloceanspaces.com/wp-content/uploads/sites/14/2023/03/Learn-To-Skate-Saturdays-2024.jpg
END:VEVENT
BEGIN:VEVENT
DTSTART;TZID=America/New_York:20241019T090000
DTEND;TZID=America/New_York:20241019T100000
DTSTAMP:20260421T191721
CREATED:20230315T121729Z
LAST-MODIFIED:20241012T132336Z
UID:19356-1729328400-1729332000@www.unitedskates.com
SUMMARY:Free Learn To Skate Lesson
DESCRIPTION:*Postponed to Saturday\, October 19th* \nOctober Is National Roller Skating Month\, And We’re Excited To Offer A Free Try Roller Skating Lesson For Kids & Parents! \nLesson\, Rental Skates & Public Skate Session Included!* \n9:30-10:00am – Lesson \n10:00am-Noon – Public Skate \n* Participants must be here before 9:30am and must take part in the lesson in order to receive free admission to the 10:00am Public Skate session \n  \n 
URL:https://www.unitedskates.com/tampa/event/saturday-skate-lessons-2-2024-10-12/
CATEGORIES:Family Events,Lessons,Public Skates,Special Events
ATTACH;FMTTYPE=image/jpeg:https://unitedskates-assets.sfo3.digitaloceanspaces.com/wp-content/uploads/sites/14/2023/03/National-Roller-Skating-Month-Lessons-2024.jpg
END:VEVENT
BEGIN:VEVENT
DTSTART;TZID=America/New_York:20240127T090000
DTEND;TZID=America/New_York:20240127T100000
DTSTAMP:20260421T191721
CREATED:20230315T121729Z
LAST-MODIFIED:20240116T184304Z
UID:16598-1706346000-1706349600@www.unitedskates.com
SUMMARY:National Learn To Skate Day
DESCRIPTION:We’re Offering A One-Time Only FREE Learn To Skate Class \nLearn the basics of roller skating.  Perfect for children and adults \nIncludes skate rental\, skate mate\, wrist guards and  instruction from our Skating Professional Shelly Kolch and her staff
URL:https://www.unitedskates.com/tampa/event/saturday-skate-lessons-2-2024-01-27/
CATEGORIES:Family Events,Lessons,Public Skates,Special Events
ATTACH;FMTTYPE=image/jpeg:https://unitedskates-assets.sfo3.digitaloceanspaces.com/wp-content/uploads/sites/14/2023/03/National-Learn-To-Skate-Day-012724.jpg
END:VEVENT
BEGIN:VEVENT
DTSTART;TZID=America/New_York:20230405T173000
DTEND;TZID=America/New_York:20230405T180000
DTSTAMP:20260421T191721
CREATED:20230315T123842Z
LAST-MODIFIED:20230908T204340Z
UID:13330-1680715800-1680717600@www.unitedskates.com
SUMMARY:Family Newbie Lessons
DESCRIPTION:Children and Adults can take part in our Learn To Skate Better Wednesday Class \n$15.00 per person includes skate rental\, 30-minute lesson and our 6:00-8:00pm session that follows
URL:https://www.unitedskates.com/tampa/event/family-newbie-lessons/2023-04-05/
CATEGORIES:Family Events,Lessons
ATTACH;FMTTYPE=image/jpeg:https://unitedskates-assets.sfo3.digitaloceanspaces.com/wp-content/uploads/sites/14/2022/04/Event-Skate-Lessons.jpg
END:VEVENT
BEGIN:VEVENT
DTSTART;TZID=America/New_York:20230401T090000
DTEND;TZID=America/New_York:20230401T100000
DTSTAMP:20260421T191721
CREATED:20230315T121729Z
LAST-MODIFIED:20250730T172946Z
UID:13014-1680339600-1680343200@www.unitedskates.com
SUMMARY:Saturday Skate Lessons
DESCRIPTION:9:00AM – Intermediate Lesson \n9:30AM – Beginner Lesson \nLearn To Skate Class \nLearn the basics of roller skating.  Perfect for children and adults \n$12 per person.  Includes skate rental\, skate mate\, wrist guards\, 30-minute instruction\, plus admission to our Kids Fun Skate that follows
URL:https://www.unitedskates.com/tampa/event/saturday-skate-lessons-2/2023-04-01/
CATEGORIES:Family Events,Lessons,Public Skates
ATTACH;FMTTYPE=image/jpeg:https://unitedskates-assets.sfo3.digitaloceanspaces.com/wp-content/uploads/sites/14/2023/03/Learn-To-Skate-Saturdays-2024.jpg
END:VEVENT
BEGIN:VEVENT
DTSTART;TZID=America/New_York:20230111T173000
DTEND;TZID=America/New_York:20230111T180000
DTSTAMP:20260421T191721
CREATED:20221227T193533Z
LAST-MODIFIED:20230215T185432Z
UID:12514-1673458200-1673460000@www.unitedskates.com
SUMMARY:Family Newbie Lessons
DESCRIPTION:Children and Adults can take part in our Learn To Skate Better Wednesday Class \n$15.00 per person includes skate rental\, 30-minute lesson and our 6:00-8:00pm session that follows
URL:https://www.unitedskates.com/tampa/event/new-family-newbie-lessons/2023-01-11/
CATEGORIES:Family Events,Lessons
ATTACH;FMTTYPE=image/jpeg:https://unitedskates-assets.sfo3.digitaloceanspaces.com/wp-content/uploads/sites/14/2022/04/Event-Skate-Lessons.jpg
END:VEVENT
BEGIN:VEVENT
DTSTART;TZID=America/New_York:20230109T193000
DTEND;TZID=America/New_York:20230109T203000
DTSTAMP:20260421T191721
CREATED:20220913T223946Z
LAST-MODIFIED:20221227T182938Z
UID:11014-1673292600-1673296200@www.unitedskates.com
SUMMARY:Monday Adult Skate Lessons
DESCRIPTION:7:30PM – INTERMEDIATE SKATERS\n8:00PM – BEGINNER SKATERS\nPerfect if you’re somewhat new to skating\, or you’d like some additional instruction \n$15 per person (includes 1/2-hour lesson\, followed by our Newbie Night Adult Skate) \n18 & older only
URL:https://www.unitedskates.com/tampa/event/monday-adult-skate-lessons-2022-12-12/2023-01-09/
CATEGORIES:Adult Events,Lessons,Public Skates
ATTACH;FMTTYPE=image/jpeg:https://unitedskates-assets.sfo3.digitaloceanspaces.com/wp-content/uploads/sites/14/2022/04/Event-Skate-Lessons.jpg
END:VEVENT
BEGIN:VEVENT
DTSTART;TZID=America/New_York:20230107T090000
DTEND;TZID=America/New_York:20230107T100000
DTSTAMP:20260421T191721
CREATED:20220913T224856Z
LAST-MODIFIED:20221227T191549Z
UID:12169-1673082000-1673085600@www.unitedskates.com
SUMMARY:Saturday Skate Lessons
DESCRIPTION:9:00AM – Intermediate Lesson \n9:30AM – Beginner Lesson \nLearn To Skate Class \nLearn the basics of roller skating.  Perfect for children and adults \n$10 per person.  Includes skate rental\, skate mate\, wrist guards\, 30-minute instruction\, plus admission to our Kids Fun Skate that follows
URL:https://www.unitedskates.com/tampa/event/saturday-skate-lessons-2023-01-07/
CATEGORIES:Family Events,Lessons,Public Skates
ATTACH;FMTTYPE=image/jpeg:https://unitedskates-assets.sfo3.digitaloceanspaces.com/wp-content/uploads/sites/14/2022/04/Event-Skate-Lessons.jpg
END:VEVENT
BEGIN:VEVENT
DTSTART;TZID=America/New_York:20221231T090000
DTEND;TZID=America/New_York:20221231T100000
DTSTAMP:20260421T191721
CREATED:20220913T224856Z
LAST-MODIFIED:20221227T191830Z
UID:11072-1672477200-1672480800@www.unitedskates.com
SUMMARY:Saturday Skate Lessons
DESCRIPTION:9:00AM – Intermediate Lesson \n9:30AM – Beginner Lesson \nLearn To Skate Class \nLearn the basics of roller skating.  Perfect for children and adults \n$10 per person.  Includes skate rental\, skate mate\, wrist guards\, 30-minute instruction\, plus admission to our Kids Fun Skate that follows
URL:https://www.unitedskates.com/tampa/event/saturday-skate-lessons-2022-12-31/
CATEGORIES:Family Events,Lessons,Public Skates
ATTACH;FMTTYPE=image/jpeg:https://unitedskates-assets.sfo3.digitaloceanspaces.com/wp-content/uploads/sites/14/2022/04/Event-Skate-Lessons.jpg
END:VEVENT
BEGIN:VEVENT
DTSTART;TZID=America/New_York:20221226T200000
DTEND;TZID=America/New_York:20221226T203000
DTSTAMP:20260421T191721
CREATED:20220913T223946Z
LAST-MODIFIED:20221128T202815Z
UID:11016-1672084800-1672086600@www.unitedskates.com
SUMMARY:Monday Adult Skate Lessons
DESCRIPTION:8:00PM – BEGINNER SKATERS\nPerfect if you’re somewhat new to skating\, or you’d like some additional instruction \n$15 per person (includes 1/2-hour lesson\, followed by our Newbie Night Adult Skate) \n18 & older only
URL:https://www.unitedskates.com/tampa/event/monday-adult-skate-lessons-2022-12-26/
CATEGORIES:Adult Events,Lessons,Public Skates
ATTACH;FMTTYPE=image/jpeg:https://unitedskates-assets.sfo3.digitaloceanspaces.com/wp-content/uploads/sites/14/2022/04/Event-Skate-Lessons.jpg
END:VEVENT
BEGIN:VEVENT
DTSTART;TZID=America/New_York:20221008T090000
DTEND;TZID=America/New_York:20221008T100000
DTSTAMP:20260421T191721
CREATED:20220913T224856Z
LAST-MODIFIED:20221227T183829Z
UID:11059-1665219600-1665223200@www.unitedskates.com
SUMMARY:Saturday Skate Lessons
DESCRIPTION:9:00AM – Intermediate Lesson \n9:30AM – Beginner Lesson \nLearn To Skate Class \nLearn the basics of roller skating.  Perfect for children and adults \n$15 per person.  Includes skate rental\, skate mate\, wrist guards\, 30-minute instruction\, plus admission to our Kids Fun Skate that follows
URL:https://www.unitedskates.com/tampa/event/saturday-skate-lessons/2022-10-08/
CATEGORIES:Family Events,Lessons,Public Skates
ATTACH;FMTTYPE=image/jpeg:https://unitedskates-assets.sfo3.digitaloceanspaces.com/wp-content/uploads/sites/14/2022/04/Event-Skate-Lessons.jpg
END:VEVENT
BEGIN:VEVENT
DTSTART;TZID=America/New_York:20221003T193000
DTEND;TZID=America/New_York:20221003T203000
DTSTAMP:20260421T191721
CREATED:20220913T223946Z
LAST-MODIFIED:20220913T223946Z
UID:11003-1664825400-1664829000@www.unitedskates.com
SUMMARY:Monday Adult Skate Lessons
DESCRIPTION:7:30PM – INTERMEDIATE SKATERS\n8:00PM – BEGINNER SKATERS\nPerfect if you’re somewhat new to skating\, or you’d like some additional instruction \n$15 per person (includes 1/2-hour lesson\, followed by our Newbie Night Adult Skate) \n18 & older only
URL:https://www.unitedskates.com/tampa/event/monday-adult-skate-lessons/2022-10-03/
CATEGORIES:Adult Events,Lessons,Public Skates
ATTACH;FMTTYPE=image/jpeg:https://unitedskates-assets.sfo3.digitaloceanspaces.com/wp-content/uploads/sites/14/2022/04/Event-Skate-Lessons.jpg
END:VEVENT
BEGIN:VEVENT
DTSTART;TZID=America/New_York:20220502T193000
DTEND;TZID=America/New_York:20220502T203000
DTSTAMP:20260421T191721
CREATED:20220503T183658Z
LAST-MODIFIED:20220913T185619Z
UID:3475-1651519800-1651523400@www.unitedskates.com
SUMMARY:Monday Adult Skate Lessons
DESCRIPTION:7:30pm – Intermediate Skaters\n\n\n\n8:00pm – Beginner Skaters\n\n\n\nPerfect if you’re somewhat new to skating\, or you’d like some additonal instruction  \n\n\n\n$15 per person (includes 1/2 hour lesson\, followed by our Newbie Night Adult Skate) \n\n\n\n18 & older only
URL:https://www.unitedskates.com/tampa/event/adult-learn-to-skate-better-classes/2022-05-02/
LOCATION:United Skates Of America Tampa\, 5121 N. Armenia Ave\, Tampa\, FL\, 33603\, United States
CATEGORIES:Lessons
ATTACH;FMTTYPE=image/jpeg:https://unitedskates-assets.sfo3.digitaloceanspaces.com/wp-content/uploads/sites/14/2022/04/Event-Skate-Lessons.jpg
END:VEVENT
END:VCALENDAR