BEGIN:VCALENDAR
VERSION:2.0
PRODID:-//Rink 40 - Tampa - ECPv6.15.20//NONSGML v1.0//EN
CALSCALE:GREGORIAN
METHOD:PUBLISH
X-ORIGINAL-URL:https://www.unitedskates.com/tampa
X-WR-CALDESC:Events for Rink 40 - Tampa
REFRESH-INTERVAL;VALUE=DURATION:PT1H
X-Robots-Tag:noindex
X-PUBLISHED-TTL:PT1H
BEGIN:VTIMEZONE
TZID:America/New_York
BEGIN:DAYLIGHT
TZOFFSETFROM:-0500
TZOFFSETTO:-0400
TZNAME:EDT
DTSTART:20240310T070000
END:DAYLIGHT
BEGIN:STANDARD
TZOFFSETFROM:-0400
TZOFFSETTO:-0500
TZNAME:EST
DTSTART:20241103T060000
END:STANDARD
BEGIN:DAYLIGHT
TZOFFSETFROM:-0500
TZOFFSETTO:-0400
TZNAME:EDT
DTSTART:20250309T070000
END:DAYLIGHT
BEGIN:STANDARD
TZOFFSETFROM:-0400
TZOFFSETTO:-0500
TZNAME:EST
DTSTART:20251102T060000
END:STANDARD
BEGIN:DAYLIGHT
TZOFFSETFROM:-0500
TZOFFSETTO:-0400
TZNAME:EDT
DTSTART:20260308T070000
END:DAYLIGHT
BEGIN:STANDARD
TZOFFSETFROM:-0400
TZOFFSETTO:-0500
TZNAME:EST
DTSTART:20261101T060000
END:STANDARD
END:VTIMEZONE
BEGIN:VEVENT
DTSTART;TZID=America/New_York:20251004T090000
DTEND;TZID=America/New_York:20251004T100000
DTSTAMP:20260422T072902
CREATED:20230315T121729Z
LAST-MODIFIED:20230315T121729Z
UID:22783-1759568400-1759572000@www.unitedskates.com
SUMMARY:Saturday Skate Lessons
DESCRIPTION:9:00AM – Intermediate Lesson \n9:30AM – Beginner Lesson \nLearn To Skate Class \nLearn the basics of roller skating.  Perfect for children and adults \n$12 per person.  Includes skate rental\, skate mate\, wrist guards\, 30-minute instruction\, plus admission to our Kids Fun Skate that follows
URL:https://www.unitedskates.com/tampa/event/saturday-skate-lessons-2/2025-10-04/
CATEGORIES:Family Events,Lessons,Public Skates
ATTACH;FMTTYPE=image/jpeg:https://unitedskates-assets.sfo3.digitaloceanspaces.com/wp-content/uploads/sites/14/2023/03/Learn-To-Skate-Saturdays-2024.jpg
END:VEVENT
BEGIN:VEVENT
DTSTART;TZID=America/New_York:20251006T193000
DTEND;TZID=America/New_York:20251006T203000
DTSTAMP:20260422T072902
CREATED:20250805T171735Z
LAST-MODIFIED:20250805T171735Z
UID:22925-1759779000-1759782600@www.unitedskates.com
SUMMARY:Adult Skating Lessons
DESCRIPTION:Intermediate Skaters 7:30-8:00pm \nBeginner Skaters 8:00-8:30pm \nNew to skating\, or need refresher lessons?  Monday Night is for you!  Take a lesson before Newbie Night \n$15 per person (includes skate rental\, wrist guards\, plus Adult Newbie session) \nAges 18 & older only \nAll guests must complete our online waiver prior to entry
URL:https://www.unitedskates.com/tampa/event/adult-skating-lessons/2025-10-06/
CATEGORIES:Adult Events,Lessons
ATTACH;FMTTYPE=image/jpeg:https://unitedskates-assets.sfo3.digitaloceanspaces.com/wp-content/uploads/sites/14/2022/05/Adult-Skate-2022-1200x900-1.jpg
END:VEVENT
BEGIN:VEVENT
DTSTART;TZID=America/New_York:20251011T090000
DTEND;TZID=America/New_York:20251011T100000
DTSTAMP:20260422T072902
CREATED:20230315T121729Z
LAST-MODIFIED:20230315T121729Z
UID:22784-1760173200-1760176800@www.unitedskates.com
SUMMARY:Saturday Skate Lessons
DESCRIPTION:9:00AM – Intermediate Lesson \n9:30AM – Beginner Lesson \nLearn To Skate Class \nLearn the basics of roller skating.  Perfect for children and adults \n$12 per person.  Includes skate rental\, skate mate\, wrist guards\, 30-minute instruction\, plus admission to our Kids Fun Skate that follows
URL:https://www.unitedskates.com/tampa/event/saturday-skate-lessons-2/2025-10-11/
CATEGORIES:Family Events,Lessons,Public Skates
ATTACH;FMTTYPE=image/jpeg:https://unitedskates-assets.sfo3.digitaloceanspaces.com/wp-content/uploads/sites/14/2023/03/Learn-To-Skate-Saturdays-2024.jpg
END:VEVENT
BEGIN:VEVENT
DTSTART;TZID=America/New_York:20251013T193000
DTEND;TZID=America/New_York:20251013T203000
DTSTAMP:20260422T072902
CREATED:20250805T171735Z
LAST-MODIFIED:20250805T171735Z
UID:22926-1760383800-1760387400@www.unitedskates.com
SUMMARY:Adult Skating Lessons
DESCRIPTION:Intermediate Skaters 7:30-8:00pm \nBeginner Skaters 8:00-8:30pm \nNew to skating\, or need refresher lessons?  Monday Night is for you!  Take a lesson before Newbie Night \n$15 per person (includes skate rental\, wrist guards\, plus Adult Newbie session) \nAges 18 & older only \nAll guests must complete our online waiver prior to entry
URL:https://www.unitedskates.com/tampa/event/adult-skating-lessons/2025-10-13/
CATEGORIES:Adult Events,Lessons
ATTACH;FMTTYPE=image/jpeg:https://unitedskates-assets.sfo3.digitaloceanspaces.com/wp-content/uploads/sites/14/2022/05/Adult-Skate-2022-1200x900-1.jpg
END:VEVENT
BEGIN:VEVENT
DTSTART;TZID=America/New_York:20251018T090000
DTEND;TZID=America/New_York:20251018T100000
DTSTAMP:20260422T072902
CREATED:20230315T121729Z
LAST-MODIFIED:20230315T121729Z
UID:22785-1760778000-1760781600@www.unitedskates.com
SUMMARY:Saturday Skate Lessons
DESCRIPTION:9:00AM – Intermediate Lesson \n9:30AM – Beginner Lesson \nLearn To Skate Class \nLearn the basics of roller skating.  Perfect for children and adults \n$12 per person.  Includes skate rental\, skate mate\, wrist guards\, 30-minute instruction\, plus admission to our Kids Fun Skate that follows
URL:https://www.unitedskates.com/tampa/event/saturday-skate-lessons-2/2025-10-18/
CATEGORIES:Family Events,Lessons,Public Skates
ATTACH;FMTTYPE=image/jpeg:https://unitedskates-assets.sfo3.digitaloceanspaces.com/wp-content/uploads/sites/14/2023/03/Learn-To-Skate-Saturdays-2024.jpg
END:VEVENT
BEGIN:VEVENT
DTSTART;TZID=America/New_York:20251020T193000
DTEND;TZID=America/New_York:20251020T203000
DTSTAMP:20260422T072902
CREATED:20250805T171735Z
LAST-MODIFIED:20250805T171735Z
UID:22927-1760988600-1760992200@www.unitedskates.com
SUMMARY:Adult Skating Lessons
DESCRIPTION:Intermediate Skaters 7:30-8:00pm \nBeginner Skaters 8:00-8:30pm \nNew to skating\, or need refresher lessons?  Monday Night is for you!  Take a lesson before Newbie Night \n$15 per person (includes skate rental\, wrist guards\, plus Adult Newbie session) \nAges 18 & older only \nAll guests must complete our online waiver prior to entry
URL:https://www.unitedskates.com/tampa/event/adult-skating-lessons/2025-10-20/
CATEGORIES:Adult Events,Lessons
ATTACH;FMTTYPE=image/jpeg:https://unitedskates-assets.sfo3.digitaloceanspaces.com/wp-content/uploads/sites/14/2022/05/Adult-Skate-2022-1200x900-1.jpg
END:VEVENT
BEGIN:VEVENT
DTSTART;TZID=America/New_York:20251025T090000
DTEND;TZID=America/New_York:20251025T100000
DTSTAMP:20260422T072902
CREATED:20230315T121729Z
LAST-MODIFIED:20230315T121729Z
UID:22786-1761382800-1761386400@www.unitedskates.com
SUMMARY:Saturday Skate Lessons
DESCRIPTION:9:00AM – Intermediate Lesson \n9:30AM – Beginner Lesson \nLearn To Skate Class \nLearn the basics of roller skating.  Perfect for children and adults \n$12 per person.  Includes skate rental\, skate mate\, wrist guards\, 30-minute instruction\, plus admission to our Kids Fun Skate that follows
URL:https://www.unitedskates.com/tampa/event/saturday-skate-lessons-2/2025-10-25/
CATEGORIES:Family Events,Lessons,Public Skates
ATTACH;FMTTYPE=image/jpeg:https://unitedskates-assets.sfo3.digitaloceanspaces.com/wp-content/uploads/sites/14/2023/03/Learn-To-Skate-Saturdays-2024.jpg
END:VEVENT
BEGIN:VEVENT
DTSTART;TZID=America/New_York:20251027T193000
DTEND;TZID=America/New_York:20251027T203000
DTSTAMP:20260422T072902
CREATED:20250805T171735Z
LAST-MODIFIED:20251008T171109Z
UID:22928-1761593400-1761597000@www.unitedskates.com
SUMMARY:Adult Skating Lessons
DESCRIPTION:Intermediate Skaters 7:30-8:00pm \nBeginner Skaters 8:00-8:30pm \nNew to skating\, or need refresher lessons?  Monday Night is for you!  Take a lesson before Newbie Night \n$15 per person (includes skate rental\, wrist guards\, plus Adult Newbie session) \nAges 18 & older only \nAll guests must complete our online waiver prior to entry
URL:https://www.unitedskates.com/tampa/event/adult-skating-lessons-2025-10-27/2025-10-27/
CATEGORIES:Adult Events,Lessons
ATTACH;FMTTYPE=image/jpeg:https://unitedskates-assets.sfo3.digitaloceanspaces.com/wp-content/uploads/sites/14/2022/05/Adult-Skate-2022-1200x900-1.jpg
END:VEVENT
END:VCALENDAR