BEGIN:VCALENDAR
VERSION:2.0
PRODID:-//Rink 40 - Tampa - ECPv6.15.20//NONSGML v1.0//EN
CALSCALE:GREGORIAN
METHOD:PUBLISH
X-ORIGINAL-URL:https://www.unitedskates.com/tampa
X-WR-CALDESC:Events for Rink 40 - Tampa
REFRESH-INTERVAL;VALUE=DURATION:PT1H
X-Robots-Tag:noindex
X-PUBLISHED-TTL:PT1H
BEGIN:VTIMEZONE
TZID:America/New_York
BEGIN:DAYLIGHT
TZOFFSETFROM:-0500
TZOFFSETTO:-0400
TZNAME:EDT
DTSTART:20250309T070000
END:DAYLIGHT
BEGIN:STANDARD
TZOFFSETFROM:-0400
TZOFFSETTO:-0500
TZNAME:EST
DTSTART:20251102T060000
END:STANDARD
BEGIN:DAYLIGHT
TZOFFSETFROM:-0500
TZOFFSETTO:-0400
TZNAME:EDT
DTSTART:20260308T070000
END:DAYLIGHT
BEGIN:STANDARD
TZOFFSETFROM:-0400
TZOFFSETTO:-0500
TZNAME:EST
DTSTART:20261101T060000
END:STANDARD
BEGIN:DAYLIGHT
TZOFFSETFROM:-0500
TZOFFSETTO:-0400
TZNAME:EDT
DTSTART:20270314T070000
END:DAYLIGHT
BEGIN:STANDARD
TZOFFSETFROM:-0400
TZOFFSETTO:-0500
TZNAME:EST
DTSTART:20271107T060000
END:STANDARD
END:VTIMEZONE
BEGIN:VEVENT
DTSTART;TZID=America/New_York:20260201T210000
DTEND;TZID=America/New_York:20260202T000000
DTSTAMP:20260425T071530
CREATED:20251012T234204Z
LAST-MODIFIED:20251217T184838Z
UID:24080-1769979600-1769990400@www.unitedskates.com
SUMMARY:Adult Soul Roll
DESCRIPTION:Tampa’s Legendary Sunday Soul Roll \nFeaturing the Best R & B\, Funk and Hip Hop Music \nAdmission $15 (includes skate rental) or $11 with your own skates \n18 & Older only with ID \nThis session is recommended for intermediate to advanced skaters. \nClick Here to fill our adult waiver card.  Ages 18 and older only 
URL:https://www.unitedskates.com/tampa/event/adult-soul-roll-2-2025-12-21/2026-02-01/
LOCATION:FL
CATEGORIES:Family Events
ATTACH;FMTTYPE=image/jpeg:https://unitedskates-assets.sfo3.digitaloceanspaces.com/wp-content/uploads/sites/14/2022/05/Adult-Soul-Roll-1200x900-1.jpg
END:VEVENT
BEGIN:VEVENT
DTSTART;TZID=America/New_York:20260207T123000
DTEND;TZID=America/New_York:20260207T150000
DTSTAMP:20260425T071530
CREATED:20240115T125019Z
LAST-MODIFIED:20260203T194519Z
UID:24212-1770467400-1770476400@www.unitedskates.com
SUMMARY:Saturday Public Skate
DESCRIPTION:Fun For All Ages.  Featuring Pop Music \nAdmission $15.00 including skate rental or $11.00 with your own skates \nFriends & Family  Special… Get 4 Admissions\, 4 Rentals\, PLUS A Large Cheese Pizza & Pitcher of Soda for just $60!  \nBirthday parties available on this session with advance reservation \nOutside food and drinks (including cake) are not permitted \nAll guests must complete our online waiver prior to entry
URL:https://www.unitedskates.com/tampa/event/saturday-publick-skate-2025-11-08-2026-01-03/2026-02-07/
LOCATION:FL
CATEGORIES:Family Events,Public Skates
ATTACH;FMTTYPE=image/jpeg:https://unitedskates-assets.sfo3.digitaloceanspaces.com/wp-content/uploads/sites/14/2024/01/Public-Skate-Tile-New.jpg
END:VEVENT
BEGIN:VEVENT
DTSTART;TZID=America/New_York:20260208T210000
DTEND;TZID=America/New_York:20260209T000000
DTSTAMP:20260425T071530
CREATED:20251012T234204Z
LAST-MODIFIED:20251217T184838Z
UID:24081-1770584400-1770595200@www.unitedskates.com
SUMMARY:Adult Soul Roll
DESCRIPTION:Tampa’s Legendary Sunday Soul Roll \nFeaturing the Best R & B\, Funk and Hip Hop Music \nAdmission $15 (includes skate rental) or $11 with your own skates \n18 & Older only with ID \nThis session is recommended for intermediate to advanced skaters. \nClick Here to fill our adult waiver card.  Ages 18 and older only 
URL:https://www.unitedskates.com/tampa/event/adult-soul-roll-2-2025-12-21/2026-02-08/
LOCATION:FL
CATEGORIES:Family Events
ATTACH;FMTTYPE=image/jpeg:https://unitedskates-assets.sfo3.digitaloceanspaces.com/wp-content/uploads/sites/14/2022/05/Adult-Soul-Roll-1200x900-1.jpg
END:VEVENT
BEGIN:VEVENT
DTSTART;TZID=America/New_York:20260214T123000
DTEND;TZID=America/New_York:20260214T150000
DTSTAMP:20260425T071530
CREATED:20240115T125019Z
LAST-MODIFIED:20251227T174149Z
UID:24213-1771072200-1771081200@www.unitedskates.com
SUMMARY:I Love K-Pop Valentines Skate
DESCRIPTION:If You Love K-Pop\, Here’s A Valentines Party Just For You! \nFeaturing Your Favorite K-Pop Music \nPlus K-Pop Trivia\, Costume Contest And More \nFun For All Ages.  Featuring Pop Music \nAdmission $15.00 including skate rental or $11.00 with your own skates \nFriends & Family  Special… Get 4 Admissions\, 4 Rentals\, PLUS A Large Cheese Pizza & Pitcher of Soda for just $60!  \nBirthday parties available on this session with advance reservation \nOutside food and drinks (including cake) are not permitted \nAll guests must complete our online waiver prior to entry
URL:https://www.unitedskates.com/tampa/event/saturday-publick-skate-2025-11-08-2026-01-03-2026-02-14/
LOCATION:FL
CATEGORIES:Family Events,Public Skates,Special Events
ATTACH;FMTTYPE=image/jpeg:https://unitedskates-assets.sfo3.digitaloceanspaces.com/wp-content/uploads/sites/14/2025/04/K-Pop-Valentines-021426.jpg
END:VEVENT
BEGIN:VEVENT
DTSTART;TZID=America/New_York:20260215T210000
DTEND;TZID=America/New_York:20260216T010000
DTSTAMP:20260425T071530
CREATED:20251012T234204Z
LAST-MODIFIED:20260209T183330Z
UID:24082-1771189200-1771203600@www.unitedskates.com
SUMMARY:Adult Aquarius/Pisces Takeover
DESCRIPTION:Elite Vibes Presents DJ Arson’s Birthday Month Celebration! \nFeaturing the Best R & B\, Funk and Hip Hop Music \nAdmission $20 (includes skate rental) or $15 with your own skates \n18 & Older only with ID \nThis session is recommended for intermediate to advanced skaters. \nClick Here to fill our adult waiver card.  Ages 18 and older only 
URL:https://www.unitedskates.com/tampa/event/adult-soul-roll-2-2025-12-21-2026-02-15/
LOCATION:FL
CATEGORIES:Family Events,Special Events
ATTACH;FMTTYPE=image/jpeg:https://unitedskates-assets.sfo3.digitaloceanspaces.com/wp-content/uploads/sites/14/2025/10/Arsons-Birthday-021526.jpg
END:VEVENT
BEGIN:VEVENT
DTSTART;TZID=America/New_York:20260221T123000
DTEND;TZID=America/New_York:20260221T150000
DTSTAMP:20260425T071530
CREATED:20240115T125019Z
LAST-MODIFIED:20260203T194520Z
UID:24214-1771677000-1771686000@www.unitedskates.com
SUMMARY:Saturday Public Skate
DESCRIPTION:Fun For All Ages.  Featuring Pop Music \nAdmission $15.00 including skate rental or $11.00 with your own skates \nFriends & Family  Special… Get 4 Admissions\, 4 Rentals\, PLUS A Large Cheese Pizza & Pitcher of Soda for just $60!  \nBirthday parties available on this session with advance reservation \nOutside food and drinks (including cake) are not permitted \nAll guests must complete our online waiver prior to entry
URL:https://www.unitedskates.com/tampa/event/saturday-publick-skate-2025-11-08-2026-01-03/2026-02-21/
LOCATION:FL
CATEGORIES:Family Events,Public Skates
ATTACH;FMTTYPE=image/jpeg:https://unitedskates-assets.sfo3.digitaloceanspaces.com/wp-content/uploads/sites/14/2024/01/Public-Skate-Tile-New.jpg
END:VEVENT
BEGIN:VEVENT
DTSTART;TZID=America/New_York:20260222T210000
DTEND;TZID=America/New_York:20260223T000000
DTSTAMP:20260425T071530
CREATED:20251012T234204Z
LAST-MODIFIED:20260203T202053Z
UID:24083-1771794000-1771804800@www.unitedskates.com
SUMMARY:Adult Soul Roll
DESCRIPTION:Tampa’s Legendary Sunday Soul Roll \nFeaturing the Best R & B\, Funk and Hip Hop Music \nAdmission $15 (includes skate rental) or $11 with your own skates \n18 & Older only with ID \nThis session is recommended for intermediate to advanced skaters. \nClick Here to fill our adult waiver card.  Ages 18 and older only 
URL:https://www.unitedskates.com/tampa/event/adult-soul-roll-2-2025-12-21-2026-02-22/2026-02-22/
LOCATION:FL
CATEGORIES:Family Events
ATTACH;FMTTYPE=image/jpeg:https://unitedskates-assets.sfo3.digitaloceanspaces.com/wp-content/uploads/sites/14/2022/05/Adult-Soul-Roll-1200x900-1.jpg
END:VEVENT
BEGIN:VEVENT
DTSTART;TZID=America/New_York:20260228T123000
DTEND;TZID=America/New_York:20260228T150000
DTSTAMP:20260425T071530
CREATED:20240115T125019Z
LAST-MODIFIED:20260203T194520Z
UID:24215-1772281800-1772290800@www.unitedskates.com
SUMMARY:Saturday Public Skate
DESCRIPTION:Fun For All Ages.  Featuring Pop Music \nAdmission $15.00 including skate rental or $11.00 with your own skates \nFriends & Family  Special… Get 4 Admissions\, 4 Rentals\, PLUS A Large Cheese Pizza & Pitcher of Soda for just $60!  \nBirthday parties available on this session with advance reservation \nOutside food and drinks (including cake) are not permitted \nAll guests must complete our online waiver prior to entry
URL:https://www.unitedskates.com/tampa/event/saturday-publick-skate-2025-11-08-2026-01-03/2026-02-28/
LOCATION:FL
CATEGORIES:Family Events,Public Skates
ATTACH;FMTTYPE=image/jpeg:https://unitedskates-assets.sfo3.digitaloceanspaces.com/wp-content/uploads/sites/14/2024/01/Public-Skate-Tile-New.jpg
END:VEVENT
END:VCALENDAR