BEGIN:VCALENDAR
VERSION:2.0
PRODID:-//Rink 40 - Tampa - ECPv6.15.20//NONSGML v1.0//EN
CALSCALE:GREGORIAN
METHOD:PUBLISH
X-ORIGINAL-URL:https://www.unitedskates.com/tampa
X-WR-CALDESC:Events for Rink 40 - Tampa
REFRESH-INTERVAL;VALUE=DURATION:PT1H
X-Robots-Tag:noindex
X-PUBLISHED-TTL:PT1H
BEGIN:VTIMEZONE
TZID:America/New_York
BEGIN:DAYLIGHT
TZOFFSETFROM:-0500
TZOFFSETTO:-0400
TZNAME:EDT
DTSTART:20240310T070000
END:DAYLIGHT
BEGIN:STANDARD
TZOFFSETFROM:-0400
TZOFFSETTO:-0500
TZNAME:EST
DTSTART:20241103T060000
END:STANDARD
BEGIN:DAYLIGHT
TZOFFSETFROM:-0500
TZOFFSETTO:-0400
TZNAME:EDT
DTSTART:20250309T070000
END:DAYLIGHT
BEGIN:STANDARD
TZOFFSETFROM:-0400
TZOFFSETTO:-0500
TZNAME:EST
DTSTART:20251102T060000
END:STANDARD
BEGIN:DAYLIGHT
TZOFFSETFROM:-0500
TZOFFSETTO:-0400
TZNAME:EDT
DTSTART:20260308T070000
END:DAYLIGHT
BEGIN:STANDARD
TZOFFSETFROM:-0400
TZOFFSETTO:-0500
TZNAME:EST
DTSTART:20261101T060000
END:STANDARD
END:VTIMEZONE
BEGIN:VEVENT
DTSTART;TZID=America/New_York:20251101T090000
DTEND;TZID=America/New_York:20251101T100000
DTSTAMP:20260425T220849
CREATED:20230315T121729Z
LAST-MODIFIED:20230315T121729Z
UID:22787-1761987600-1761991200@www.unitedskates.com
SUMMARY:Saturday Skate Lessons
DESCRIPTION:9:00AM – Intermediate Lesson \n9:30AM – Beginner Lesson \nLearn To Skate Class \nLearn the basics of roller skating.  Perfect for children and adults \n$12 per person.  Includes skate rental\, skate mate\, wrist guards\, 30-minute instruction\, plus admission to our Kids Fun Skate that follows
URL:https://www.unitedskates.com/tampa/event/saturday-skate-lessons-2/2025-11-01/
LOCATION:FL
CATEGORIES:Family Events,Lessons,Public Skates
ATTACH;FMTTYPE=image/jpeg:https://unitedskates-assets.sfo3.digitaloceanspaces.com/wp-content/uploads/sites/14/2023/03/Learn-To-Skate-Saturdays-2024.jpg
END:VEVENT
BEGIN:VEVENT
DTSTART;TZID=America/New_York:20251101T123000
DTEND;TZID=America/New_York:20251101T150000
DTSTAMP:20260425T220849
CREATED:20240115T125019Z
LAST-MODIFIED:20251008T163825Z
UID:23183-1762000200-1762009200@www.unitedskates.com
SUMMARY:Hello Kitty Day At USA!
DESCRIPTION:Come Celebrate Hello Kitty’s 50th Birthday! \nFeaturing An Appearance By Hello Kitty\, And Skating To K-Pop And Top 40 Music \nAdmission $15.00 including skate rental or $11.00 with your own skates \nFriends & Family  Special… Get 4 Admissions\, 4 Rentals\, PLUS A Large Cheese Pizza & Pitcher of Soda for just $60!  \nBirthday parties available on this session with advance reservation \nOutside food and drinks (including cake) are not permitted \nAll guests must complete our online waiver prior to entry
URL:https://www.unitedskates.com/tampa/event/saturday-publick-skate-2025-11-01/
LOCATION:FL
CATEGORIES:Family Events,Public Skates,Special Events
ATTACH;FMTTYPE=image/jpeg:https://unitedskates-assets.sfo3.digitaloceanspaces.com/wp-content/uploads/sites/14/2025/04/Hello-Kitty-50th-110125.jpg
END:VEVENT
BEGIN:VEVENT
DTSTART;TZID=America/New_York:20251102T210000
DTEND;TZID=America/New_York:20251103T000000
DTSTAMP:20260425T220849
CREATED:20251012T234204Z
LAST-MODIFIED:20251014T153933Z
UID:23511-1762117200-1762128000@www.unitedskates.com
SUMMARY:Adult Soul Roll
DESCRIPTION:Tampa’s Legendary Sunday Soul Roll \nFeaturing the Best R & B\, Funk and Hip Hop Music \nAdmission $15 (includes skate rental) or $11 with your own skates \n18 & Older only with ID \nThis session is recommended for intermediate to advanced skaters. \nClick Here to fill our adult waiver card.  Ages 18 and older only 
URL:https://www.unitedskates.com/tampa/event/adult-soul-roll-2/2025-11-02/
LOCATION:FL
CATEGORIES:Family Events
ATTACH;FMTTYPE=image/jpeg:https://unitedskates-assets.sfo3.digitaloceanspaces.com/wp-content/uploads/sites/14/2022/05/Adult-Soul-Roll-1200x900-1.jpg
END:VEVENT
BEGIN:VEVENT
DTSTART;TZID=America/New_York:20251108T090000
DTEND;TZID=America/New_York:20251108T100000
DTSTAMP:20260425T220849
CREATED:20230315T121729Z
LAST-MODIFIED:20230315T121729Z
UID:22788-1762592400-1762596000@www.unitedskates.com
SUMMARY:Saturday Skate Lessons
DESCRIPTION:9:00AM – Intermediate Lesson \n9:30AM – Beginner Lesson \nLearn To Skate Class \nLearn the basics of roller skating.  Perfect for children and adults \n$12 per person.  Includes skate rental\, skate mate\, wrist guards\, 30-minute instruction\, plus admission to our Kids Fun Skate that follows
URL:https://www.unitedskates.com/tampa/event/saturday-skate-lessons-2/2025-11-08/
LOCATION:FL
CATEGORIES:Family Events,Lessons,Public Skates
ATTACH;FMTTYPE=image/jpeg:https://unitedskates-assets.sfo3.digitaloceanspaces.com/wp-content/uploads/sites/14/2023/03/Learn-To-Skate-Saturdays-2024.jpg
END:VEVENT
BEGIN:VEVENT
DTSTART;TZID=America/New_York:20251108T123000
DTEND;TZID=America/New_York:20251108T150000
DTSTAMP:20260425T220849
CREATED:20240115T125019Z
LAST-MODIFIED:20251111T170006Z
UID:23184-1762605000-1762614000@www.unitedskates.com
SUMMARY:Saturday Public Skate
DESCRIPTION:Fun For All Ages.  Featuring Pop Music \nAdmission $15.00 including skate rental or $11.00 with your own skates \nFriends & Family  Special… Get 4 Admissions\, 4 Rentals\, PLUS A Large Cheese Pizza & Pitcher of Soda for just $60!  \nBirthday parties available on this session with advance reservation \nOutside food and drinks (including cake) are not permitted \nAll guests must complete our online waiver prior to entry
URL:https://www.unitedskates.com/tampa/event/saturday-publick-skate-2025-11-08/2025-11-08/
LOCATION:FL
CATEGORIES:Family Events,Public Skates
ATTACH;FMTTYPE=image/jpeg:https://unitedskates-assets.sfo3.digitaloceanspaces.com/wp-content/uploads/sites/14/2024/01/Public-Skate-Tile-New.jpg
END:VEVENT
BEGIN:VEVENT
DTSTART;TZID=America/New_York:20251109T210000
DTEND;TZID=America/New_York:20251110T000000
DTSTAMP:20260425T220849
CREATED:20251012T234204Z
LAST-MODIFIED:20251014T153933Z
UID:23512-1762722000-1762732800@www.unitedskates.com
SUMMARY:Adult Soul Roll
DESCRIPTION:Tampa’s Legendary Sunday Soul Roll \nFeaturing the Best R & B\, Funk and Hip Hop Music \nAdmission $15 (includes skate rental) or $11 with your own skates \n18 & Older only with ID \nThis session is recommended for intermediate to advanced skaters. \nClick Here to fill our adult waiver card.  Ages 18 and older only 
URL:https://www.unitedskates.com/tampa/event/adult-soul-roll-2/2025-11-09/
LOCATION:FL
CATEGORIES:Family Events
ATTACH;FMTTYPE=image/jpeg:https://unitedskates-assets.sfo3.digitaloceanspaces.com/wp-content/uploads/sites/14/2022/05/Adult-Soul-Roll-1200x900-1.jpg
END:VEVENT
BEGIN:VEVENT
DTSTART;TZID=America/New_York:20251115T090000
DTEND;TZID=America/New_York:20251115T100000
DTSTAMP:20260425T220849
CREATED:20230315T121729Z
LAST-MODIFIED:20230315T121729Z
UID:22789-1763197200-1763200800@www.unitedskates.com
SUMMARY:Saturday Skate Lessons
DESCRIPTION:9:00AM – Intermediate Lesson \n9:30AM – Beginner Lesson \nLearn To Skate Class \nLearn the basics of roller skating.  Perfect for children and adults \n$12 per person.  Includes skate rental\, skate mate\, wrist guards\, 30-minute instruction\, plus admission to our Kids Fun Skate that follows
URL:https://www.unitedskates.com/tampa/event/saturday-skate-lessons-2/2025-11-15/
LOCATION:FL
CATEGORIES:Family Events,Lessons,Public Skates
ATTACH;FMTTYPE=image/jpeg:https://unitedskates-assets.sfo3.digitaloceanspaces.com/wp-content/uploads/sites/14/2023/03/Learn-To-Skate-Saturdays-2024.jpg
END:VEVENT
BEGIN:VEVENT
DTSTART;TZID=America/New_York:20251115T123000
DTEND;TZID=America/New_York:20251115T150000
DTSTAMP:20260425T220849
CREATED:20240115T125019Z
LAST-MODIFIED:20251111T170008Z
UID:23483-1763209800-1763218800@www.unitedskates.com
SUMMARY:Saturday Public Skate
DESCRIPTION:Fun For All Ages.  Featuring Pop Music \nAdmission $15.00 including skate rental or $11.00 with your own skates \nFriends & Family  Special… Get 4 Admissions\, 4 Rentals\, PLUS A Large Cheese Pizza & Pitcher of Soda for just $60!  \nBirthday parties available on this session with advance reservation \nOutside food and drinks (including cake) are not permitted \nAll guests must complete our online waiver prior to entry
URL:https://www.unitedskates.com/tampa/event/saturday-publick-skate-2025-11-08/2025-11-15/
LOCATION:FL
CATEGORIES:Family Events,Public Skates
ATTACH;FMTTYPE=image/jpeg:https://unitedskates-assets.sfo3.digitaloceanspaces.com/wp-content/uploads/sites/14/2024/01/Public-Skate-Tile-New.jpg
END:VEVENT
BEGIN:VEVENT
DTSTART;TZID=America/New_York:20251116T210000
DTEND;TZID=America/New_York:20251117T000000
DTSTAMP:20260425T220849
CREATED:20251012T234204Z
LAST-MODIFIED:20251014T153933Z
UID:23513-1763326800-1763337600@www.unitedskates.com
SUMMARY:Adult Soul Roll
DESCRIPTION:Tampa’s Legendary Sunday Soul Roll \nFeaturing the Best R & B\, Funk and Hip Hop Music \nAdmission $15 (includes skate rental) or $11 with your own skates \n18 & Older only with ID \nThis session is recommended for intermediate to advanced skaters. \nClick Here to fill our adult waiver card.  Ages 18 and older only 
URL:https://www.unitedskates.com/tampa/event/adult-soul-roll-2/2025-11-16/
LOCATION:FL
CATEGORIES:Family Events
ATTACH;FMTTYPE=image/jpeg:https://unitedskates-assets.sfo3.digitaloceanspaces.com/wp-content/uploads/sites/14/2022/05/Adult-Soul-Roll-1200x900-1.jpg
END:VEVENT
BEGIN:VEVENT
DTSTART;TZID=America/New_York:20251121T183000
DTEND;TZID=America/New_York:20251201T000000
DTSTAMP:20260425T220849
CREATED:20251022T183356Z
LAST-MODIFIED:20251022T183356Z
UID:23645-1763749800-1764547200@www.unitedskates.com
SUMMARY:🦃 Thanksgiving Break Skating Fun at United Skates Tampa!
DESCRIPTION:School’s Out — Let’s Roll Into the Holidays! \nKick off your Thanksgiving Break with a week full of themed events\, family fun\, and nonstop skating at \nUnited Skates of America in Tampa! From glow skates to character days\, pizza parties\, and adult nights — \nthere’s something for everyone to enjoy. Celebrate with friends and family while making memories on wheels all week long! \n\n🗓️ Event Lineup:\n🎉 Friday\, November 21 \n\n\nFriday Night Glow Skate: 6:30PM–9:30PM \n\n\nAdult Disco Skate: 10:00PM–12:30AM \n\n\n🧽 Saturday\, November 22 – SpongeBob Day! \n\n\nKids Fun Skate: 10:00AM–12:00PM \n\n\nPublic Skates: 12:30PM–3:00PM\, 4:00PM–6:30PM \n\n\nShuffle Skate: 7:30PM–10:00PM \n\n\n🎟️ Sunday\, November 23 – Half Price Sunday! \n\n\nPublic Skate: 1:30PM–4:30PM & 5:30PM–8:00PM \n\n\nAdult & R&B Skate (18+): 9:00PM–12:00AM \n\n\n💻 Monday\, November 24 – Minecraft Monday! \n\n\nAll-Day Skate: 10:00AM–4:00PM \n\n\nMinecraft Free Dinner Skate: 5:30PM–8:00PM \n\n\nNewbie Adult Night (18+): 8:30PM–11:00PM \n\n\n⚡ Tuesday\, November 25 – Pokémon Day! \n\n\nAll-Day Skate: 10:00AM–4:00PM \n\n\nPikachu’s All-You-Can-Eat Pizza Party: 6:00PM–8:30PM \n\n\n🧙 Wednesday\, November 26 – Wicked Wednesday! \n\n\nAll-Day Skate: 10:00AM–4:00PM \n\n\nFamily Cheap Skate: 6:00PM–8:30PM \n\n\nTurkey Roll Adult Skate (17+): 9:00PM–12:00AM \n\n\n🦃 Thursday\, November 27 – Thanksgiving Day \n\n\nClosed for the Holiday — Enjoy the day and we’ll see you tomorrow! \n\n\n🎅 Friday\, November 28 – Snowball Skate with The Grinch! \n\n\nPublic Skate: 2:00PM–6:00PM \n\n\nSnowball Skate with The Grinch: 6:30PM–9:30PM \n\n\n🎄 Saturday\, November 29 – Super Saturday Fun! \n\n\nKids Fun Skate: 10:00AM–12:00PM \n\n\nPublic Skates: 12:30PM–3:00PM\, 4:00PM–6:30PM \n\n\nShuffle Skate: 7:30PM–10:00PM \n\n\n💚 Sunday\, November 30 – KPOP Demon Hunters Sing-A-Long! \n\n\nKids Fun Skate: 10:00AM–1:00PM \n\n\nKPOP Sing-A-Long: 1:30PM–4:30PM \n\n\nFamily Skate: 5:30PM–8:00PM \n\n\nAdult R&B Skate (18+): 9:00PM–12:00AM
URL:https://www.unitedskates.com/tampa/event/%f0%9f%a6%83-thanksgiving-break-skating-fun-at-united-skates-tampa/
LOCATION:FL
CATEGORIES:Family Events,Public Skates,Special Events
ATTACH;FMTTYPE=image/jpeg:https://unitedskates-assets.sfo3.digitaloceanspaces.com/wp-content/uploads/sites/14/2025/10/40-Thanksgiving-Break-Roller-Skate-2025-8.5-x-11-in.jpg
END:VEVENT
BEGIN:VEVENT
DTSTART;TZID=America/New_York:20251122T090000
DTEND;TZID=America/New_York:20251122T100000
DTSTAMP:20260425T220849
CREATED:20230315T121729Z
LAST-MODIFIED:20230315T121729Z
UID:22790-1763802000-1763805600@www.unitedskates.com
SUMMARY:Saturday Skate Lessons
DESCRIPTION:9:00AM – Intermediate Lesson \n9:30AM – Beginner Lesson \nLearn To Skate Class \nLearn the basics of roller skating.  Perfect for children and adults \n$12 per person.  Includes skate rental\, skate mate\, wrist guards\, 30-minute instruction\, plus admission to our Kids Fun Skate that follows
URL:https://www.unitedskates.com/tampa/event/saturday-skate-lessons-2/2025-11-22/
LOCATION:FL
CATEGORIES:Family Events,Lessons,Public Skates
ATTACH;FMTTYPE=image/jpeg:https://unitedskates-assets.sfo3.digitaloceanspaces.com/wp-content/uploads/sites/14/2023/03/Learn-To-Skate-Saturdays-2024.jpg
END:VEVENT
BEGIN:VEVENT
DTSTART;TZID=America/New_York:20251122T123000
DTEND;TZID=America/New_York:20251122T150000
DTSTAMP:20260425T220849
CREATED:20240115T125019Z
LAST-MODIFIED:20251028T171314Z
UID:23484-1763814600-1763823600@www.unitedskates.com
SUMMARY:Sponge Bob Day!
DESCRIPTION:Come Meet Sponge Bob As We Kick Off Thanksgiving Break! \nFun For All Ages.  Featuring Pop Music \nAdmission $15.00 including skate rental or $11.00 with your own skates \nFriends & Family  Special… Get 4 Admissions\, 4 Rentals\, PLUS A Large Cheese Pizza & Pitcher of Soda for just $60!  \nBirthday parties available on this session with advance reservation \nOutside food and drinks (including cake) are not permitted \nAll guests must complete our online waiver prior to entry
URL:https://www.unitedskates.com/tampa/event/saturday-publick-skate-2025-11-08-2025-11-22/
LOCATION:FL
CATEGORIES:Family Events,Public Skates,Special Events
ATTACH;FMTTYPE=image/png:https://unitedskates-assets.sfo3.digitaloceanspaces.com/wp-content/uploads/sites/14/2025/04/SpongeBobs-Fall-Festival-qr.png
END:VEVENT
BEGIN:VEVENT
DTSTART;TZID=America/New_York:20251123T210000
DTEND;TZID=America/New_York:20251124T000000
DTSTAMP:20260425T220849
CREATED:20251012T234204Z
LAST-MODIFIED:20251105T195512Z
UID:23514-1763931600-1763942400@www.unitedskates.com
SUMMARY:4th Sundaze Soul Roll
DESCRIPTION:NYC’S DJ Arson Returns For His Monthly Residency \nFeaturing the Best R & B\, Funk and Hip Hop Music \nAdmission $16 (includes skate rental) or $12 with your own skates \n18 & Older only with ID \nThis session is recommended for intermediate to advanced skaters. \nClick Here to fill our adult waiver card.  Ages 18 and older only 
URL:https://www.unitedskates.com/tampa/event/adult-soul-roll-2-2025-11-23/
LOCATION:FL
CATEGORIES:Family Events,Special Events
ATTACH;FMTTYPE=image/jpeg:https://unitedskates-assets.sfo3.digitaloceanspaces.com/wp-content/uploads/sites/14/2025/10/4th-Sundaze-November-25.jpg
END:VEVENT
BEGIN:VEVENT
DTSTART;TZID=America/New_York:20251129T090000
DTEND;TZID=America/New_York:20251129T100000
DTSTAMP:20260425T220849
CREATED:20230315T121729Z
LAST-MODIFIED:20230315T121729Z
UID:22791-1764406800-1764410400@www.unitedskates.com
SUMMARY:Saturday Skate Lessons
DESCRIPTION:9:00AM – Intermediate Lesson \n9:30AM – Beginner Lesson \nLearn To Skate Class \nLearn the basics of roller skating.  Perfect for children and adults \n$12 per person.  Includes skate rental\, skate mate\, wrist guards\, 30-minute instruction\, plus admission to our Kids Fun Skate that follows
URL:https://www.unitedskates.com/tampa/event/saturday-skate-lessons-2/2025-11-29/
LOCATION:FL
CATEGORIES:Family Events,Lessons,Public Skates
ATTACH;FMTTYPE=image/jpeg:https://unitedskates-assets.sfo3.digitaloceanspaces.com/wp-content/uploads/sites/14/2023/03/Learn-To-Skate-Saturdays-2024.jpg
END:VEVENT
BEGIN:VEVENT
DTSTART;TZID=America/New_York:20251130T210000
DTEND;TZID=America/New_York:20251201T010000
DTSTAMP:20260425T220849
CREATED:20251012T234204Z
LAST-MODIFIED:20251105T203239Z
UID:23515-1764536400-1764550800@www.unitedskates.com
SUMMARY:Adult Friendsgiving Skate Special
DESCRIPTION:We’re Closing Out Thanksgiving Weekend With An Encore Sunday Special \nFeaturing DJ’s Arson And Wild Child Playing the Best R & B\, Funk and Hip Hop Music \nAdmission $17 (skate rental extra) or $15 if you buy your ticket in advance \n18 & Older only with ID \nThis session is recommended for intermediate to advanced skaters. \nClick Here to fill our adult waiver card.  Ages 18 and older only 
URL:https://www.unitedskates.com/tampa/event/adult-soul-roll-2-2025-11-30/
LOCATION:FL
CATEGORIES:Family Events,Special Events
ATTACH;FMTTYPE=image/jpeg:https://unitedskates-assets.sfo3.digitaloceanspaces.com/wp-content/uploads/sites/14/2025/10/Friendsgiving-Soul-Roll-113025.jpg
END:VEVENT
END:VCALENDAR