BEGIN:VCALENDAR
VERSION:2.0
PRODID:-//Rink 61 - Skateworld - ECPv6.15.20//NONSGML v1.0//EN
CALSCALE:GREGORIAN
METHOD:PUBLISH
X-WR-CALNAME:Rink 61 - Skateworld
X-ORIGINAL-URL:https://www.unitedskates.com/skateworld
X-WR-CALDESC:Events for Rink 61 - Skateworld
REFRESH-INTERVAL;VALUE=DURATION:PT1H
X-Robots-Tag:noindex
X-PUBLISHED-TTL:PT1H
BEGIN:VTIMEZONE
TZID:America/New_York
BEGIN:DAYLIGHT
TZOFFSETFROM:-0500
TZOFFSETTO:-0400
TZNAME:EDT
DTSTART:20210314T070000
END:DAYLIGHT
BEGIN:STANDARD
TZOFFSETFROM:-0400
TZOFFSETTO:-0500
TZNAME:EST
DTSTART:20211107T060000
END:STANDARD
BEGIN:DAYLIGHT
TZOFFSETFROM:-0500
TZOFFSETTO:-0400
TZNAME:EDT
DTSTART:20220313T070000
END:DAYLIGHT
BEGIN:STANDARD
TZOFFSETFROM:-0400
TZOFFSETTO:-0500
TZNAME:EST
DTSTART:20221106T060000
END:STANDARD
BEGIN:DAYLIGHT
TZOFFSETFROM:-0500
TZOFFSETTO:-0400
TZNAME:EDT
DTSTART:20230312T070000
END:DAYLIGHT
BEGIN:STANDARD
TZOFFSETFROM:-0400
TZOFFSETTO:-0500
TZNAME:EST
DTSTART:20231105T060000
END:STANDARD
END:VTIMEZONE
BEGIN:VEVENT
DTSTART;TZID=America/New_York:20220715T203000
DTEND;TZID=America/New_York:20220715T230000
DTSTAMP:20260419T182717
CREATED:20220629T163819Z
LAST-MODIFIED:20220629T164325Z
UID:8554-1657917000-1657926000@www.unitedskates.com
SUMMARY:Bob's Burgers Cosplay Skate
DESCRIPTION:Admission $15 including regular skate rental or $10 if you bring your own skates \nDress up as your favorite Bob’s Burgers character for a chance to win a cash prize!
URL:https://www.unitedskates.com/skateworld/event/bobs-burgers-cosplay-skate/
LOCATION:SkateWorld Tampa\, 7510 Paula Dr.\, Tampa\, FL\, 33615\, United States
CATEGORIES:Public Skates
ATTACH;FMTTYPE=image/jpeg:https://unitedskates-assets.sfo3.digitaloceanspaces.com/wp-content/uploads/sites/23/2022/06/Bobs-Burgers-Skate-1200x900-1.jpg
END:VEVENT
END:VCALENDAR